BEGIN:VCALENDAR
PRODID:http://www.kufer.de/kuferweb / DE
VERSION:2.0
METHOD:PUBLISH
CALSCALE:GREGORIAN
X-WR-TIMEZONE:Europe/Berlin
BEGIN:VTIMEZONE
TZID:Europe/Berlin
X-LIC-LOCATION:Europe/Berlin
BEGIN:DAYLIGHT
TZOFFSETFROM:+0100
TZOFFSETTO:+0200
TZNAME:CEST
DTSTART;TZID=Europe/Berlin:19700329T020000
RRULE:FREQ=YEARLY;INTERVAL=1;BYDAY=-1SU;BYMONTH=3
END:DAYLIGHT
BEGIN:STANDARD
TZOFFSETFROM:+0200
TZOFFSETTO:+0100
TZNAME:CET
DTSTART;TZID=Europe/Berlin:19701025T030000
RRULE:FREQ=YEARLY;INTERVAL=1;BYDAY=-1SU;BYMONTH=10
END:STANDARD
END:VTIMEZONE
BEGIN:VEVENT
DTSTAMP:20260420T103410
DTSTART;TZID=Europe/Berlin:20260408T083000
DTEND;TZID=Europe/Berlin:20260408T170000
UID:26F12A02-20260408T083000@KVW BIBOZEN
SUMMARY:Maschinisten und Betriebsleiter von Schlepp- und Sesselliften CUP B54D26001260003 (26F12A02) 
LOCATION:Kolpinghaus, Bozen , , 
END:VEVENT
BEGIN:VEVENT
DTSTAMP:20260420T103410
DTSTART;TZID=Europe/Berlin:20260409T083000
DTEND;TZID=Europe/Berlin:20260409T170000
UID:26F12A02-20260409T083000@KVW BIBOZEN
SUMMARY:Maschinisten und Betriebsleiter von Schlepp- und Sesselliften CUP B54D26001260003 (26F12A02) 
LOCATION:Kolpinghaus, Bozen , , 
END:VEVENT
BEGIN:VEVENT
DTSTAMP:20260420T103410
DTSTART;TZID=Europe/Berlin:20260410T083000
DTEND;TZID=Europe/Berlin:20260410T170000
UID:26F12A02-20260410T083000@KVW BIBOZEN
SUMMARY:Maschinisten und Betriebsleiter von Schlepp- und Sesselliften CUP B54D26001260003 (26F12A02) 
LOCATION:Kolpinghaus, Bozen , , 
END:VEVENT
BEGIN:VEVENT
DTSTAMP:20260420T103410
DTSTART;TZID=Europe/Berlin:20260413T083000
DTEND;TZID=Europe/Berlin:20260413T170000
UID:26F12A02-20260413T083000@KVW BIBOZEN
SUMMARY:Maschinisten und Betriebsleiter von Schlepp- und Sesselliften CUP B54D26001260003 (26F12A02) 
LOCATION:Kolpinghaus, Bozen , , 
END:VEVENT
BEGIN:VEVENT
DTSTAMP:20260420T103410
DTSTART;TZID=Europe/Berlin:20260414T083000
DTEND;TZID=Europe/Berlin:20260414T170000
UID:26F12A02-20260414T083000@KVW BIBOZEN
SUMMARY:Maschinisten und Betriebsleiter von Schlepp- und Sesselliften CUP B54D26001260003 (26F12A02) 
LOCATION:Kolpinghaus, Bozen , , 
END:VEVENT
BEGIN:VEVENT
DTSTAMP:20260420T103410
DTSTART;TZID=Europe/Berlin:20260415T083000
DTEND;TZID=Europe/Berlin:20260415T170000
UID:26F12A02-20260415T083000@KVW BIBOZEN
SUMMARY:Maschinisten und Betriebsleiter von Schlepp- und Sesselliften CUP B54D26001260003 (26F12A02) 
LOCATION:Kolpinghaus, Bozen , , 
END:VEVENT
BEGIN:VEVENT
DTSTAMP:20260420T103410
DTSTART;TZID=Europe/Berlin:20260416T083000
DTEND;TZID=Europe/Berlin:20260416T170000
UID:26F12A02-20260416T083000@KVW BIBOZEN
SUMMARY:Maschinisten und Betriebsleiter von Schlepp- und Sesselliften CUP B54D26001260003 (26F12A02) 
LOCATION:Jochgrimm, , 
END:VEVENT
BEGIN:VEVENT
DTSTAMP:20260420T103410
DTSTART;TZID=Europe/Berlin:20260420T083000
DTEND;TZID=Europe/Berlin:20260420T170000
UID:26F12A02-20260420T083000@KVW BIBOZEN
SUMMARY:Maschinisten und Betriebsleiter von Schlepp- und Sesselliften CUP B54D26001260003 (26F12A02) 
LOCATION:Kolpinghaus, Bozen , , 
END:VEVENT
BEGIN:VEVENT
DTSTAMP:20260420T103410
DTSTART;TZID=Europe/Berlin:20260421T083000
DTEND;TZID=Europe/Berlin:20260421T170000
UID:26F12A02-20260421T083000@KVW BIBOZEN
SUMMARY:Maschinisten und Betriebsleiter von Schlepp- und Sesselliften CUP B54D26001260003 (26F12A02) 
LOCATION:Kolpinghaus, Bozen , , 
END:VEVENT
BEGIN:VEVENT
DTSTAMP:20260420T103410
DTSTART;TZID=Europe/Berlin:20260423T090000
DTEND;TZID=Europe/Berlin:20260423T170000
UID:26F12A02-20260423T090000@KVW BIBOZEN
SUMMARY:Maschinisten und Betriebsleiter von Schlepp- und Sesselliften CUP B54D26001260003 (26F12A02) 
LOCATION:Kolpinghaus, Bozen , , 
END:VEVENT
BEGIN:VEVENT
DTSTAMP:20260420T103410
DTSTART;TZID=Europe/Berlin:20260424T090000
DTEND;TZID=Europe/Berlin:20260424T130000
UID:26F12A02-20260424T090000@KVW BIBOZEN
SUMMARY:Maschinisten und Betriebsleiter von Schlepp- und Sesselliften CUP B54D26001260003 (26F12A02) 
LOCATION:Jochgrimm, , 
END:VEVENT
BEGIN:VEVENT
DTSTAMP:20260420T103410
DTSTART;TZID=Europe/Berlin:20260427T083000
DTEND;TZID=Europe/Berlin:20260427T170000
UID:26F12A02-20260427T083000@KVW BIBOZEN
SUMMARY:Maschinisten und Betriebsleiter von Schlepp- und Sesselliften CUP B54D26001260003 (26F12A02) 
LOCATION:Kolpinghaus, Bozen , , 
END:VEVENT
BEGIN:VEVENT
DTSTAMP:20260420T103410
DTSTART;TZID=Europe/Berlin:20260428T083000
DTEND;TZID=Europe/Berlin:20260428T170000
UID:26F12A02-20260428T083000@KVW BIBOZEN
SUMMARY:Maschinisten und Betriebsleiter von Schlepp- und Sesselliften CUP B54D26001260003 (26F12A02) 
LOCATION:Kolpinghaus, Bozen , , 
END:VEVENT
BEGIN:VEVENT
DTSTAMP:20260420T103410
DTSTART;TZID=Europe/Berlin:20260429T083000
DTEND;TZID=Europe/Berlin:20260429T170000
UID:26F12A02-20260429T083000@KVW BIBOZEN
SUMMARY:Maschinisten und Betriebsleiter von Schlepp- und Sesselliften CUP B54D26001260003 (26F12A02) 
LOCATION:Kolpinghaus, Bozen , , 
END:VEVENT
BEGIN:VEVENT
DTSTAMP:20260420T103410
DTSTART;TZID=Europe/Berlin:20260430T083000
DTEND;TZID=Europe/Berlin:20260430T170000
UID:26F12A02-20260430T083000@KVW BIBOZEN
SUMMARY:Maschinisten und Betriebsleiter von Schlepp- und Sesselliften CUP B54D26001260003 (26F12A02) 
LOCATION:Jochgrimm, , 
END:VEVENT
BEGIN:VEVENT
DTSTAMP:20260420T103410
DTSTART;TZID=Europe/Berlin:20260504T083000
DTEND;TZID=Europe/Berlin:20260504T170000
UID:26F12A02-20260504T083000@KVW BIBOZEN
SUMMARY:Maschinisten und Betriebsleiter von Schlepp- und Sesselliften CUP B54D26001260003 (26F12A02) 
LOCATION:Kolpinghaus, Bozen , , 
END:VEVENT
BEGIN:VEVENT
DTSTAMP:20260420T103410
DTSTART;TZID=Europe/Berlin:20260505T083000
DTEND;TZID=Europe/Berlin:20260505T170000
UID:26F12A02-20260505T083000@KVW BIBOZEN
SUMMARY:Maschinisten und Betriebsleiter von Schlepp- und Sesselliften CUP B54D26001260003 (26F12A02) 
LOCATION:Kolpinghaus, Bozen , , 
END:VEVENT
BEGIN:VEVENT
DTSTAMP:20260420T103410
DTSTART;TZID=Europe/Berlin:20260507T090000
DTEND;TZID=Europe/Berlin:20260507T170000
UID:26F12A02-20260507T090000@KVW BIBOZEN
SUMMARY:Maschinisten und Betriebsleiter von Schlepp- und Sesselliften CUP B54D26001260003 (26F12A02) 
LOCATION:Kolpinghaus, Bozen , , 
END:VEVENT
BEGIN:VEVENT
DTSTAMP:20260420T103410
DTSTART;TZID=Europe/Berlin:20260508T090000
DTEND;TZID=Europe/Berlin:20260508T130000
UID:26F12A02-20260508T090000@KVW BIBOZEN
SUMMARY:Maschinisten und Betriebsleiter von Schlepp- und Sesselliften CUP B54D26001260003 (26F12A02) 
LOCATION:Jochgrimm, , 
END:VEVENT
END:VCALENDAR