BEGIN:VCALENDAR
PRODID:http://www.kufer.de/kuferweb / DE
VERSION:2.0
METHOD:PUBLISH
CALSCALE:GREGORIAN
X-WR-TIMEZONE:Europe/Berlin
BEGIN:VTIMEZONE
TZID:Europe/Berlin
X-LIC-LOCATION:Europe/Berlin
BEGIN:DAYLIGHT
TZOFFSETFROM:+0100
TZOFFSETTO:+0200
TZNAME:CEST
DTSTART;TZID=Europe/Berlin:19700329T020000
RRULE:FREQ=YEARLY;INTERVAL=1;BYDAY=-1SU;BYMONTH=3
END:DAYLIGHT
BEGIN:STANDARD
TZOFFSETFROM:+0200
TZOFFSETTO:+0100
TZNAME:CET
DTSTART;TZID=Europe/Berlin:19701025T030000
RRULE:FREQ=YEARLY;INTERVAL=1;BYDAY=-1SU;BYMONTH=10
END:STANDARD
END:VTIMEZONE
BEGIN:VEVENT
DTSTAMP:20260420T103427
DTSTART;TZID=Europe/Berlin:20260313T170000
DTEND;TZID=Europe/Berlin:20260313T190000
UID:26F14A02-20260313T170000@KVW BIBOZEN
SUMMARY:Buchhaltung für NeueinsteigerInnen (26F14A02) 
LOCATION:KVW Kursraum 84 Meran, Otto-Huber-Straße 84, 39012 Meran
END:VEVENT
BEGIN:VEVENT
DTSTAMP:20260420T103427
DTSTART;TZID=Europe/Berlin:20260320T170000
DTEND;TZID=Europe/Berlin:20260320T190000
UID:26F14A02-20260320T170000@KVW BIBOZEN
SUMMARY:Buchhaltung für NeueinsteigerInnen (26F14A02) 
LOCATION:KVW Kursraum 84 Meran, Otto-Huber-Straße 84, 39012 Meran
END:VEVENT
BEGIN:VEVENT
DTSTAMP:20260420T103427
DTSTART;TZID=Europe/Berlin:20260327T170000
DTEND;TZID=Europe/Berlin:20260327T190000
UID:26F14A02-20260327T170000@KVW BIBOZEN
SUMMARY:Buchhaltung für NeueinsteigerInnen (26F14A02) 
LOCATION:KVW Kursraum 84 Meran, Otto-Huber-Straße 84, 39012 Meran
END:VEVENT
BEGIN:VEVENT
DTSTAMP:20260420T103427
DTSTART;TZID=Europe/Berlin:20260403T170000
DTEND;TZID=Europe/Berlin:20260403T190000
UID:26F14A02-20260403T170000@KVW BIBOZEN
SUMMARY:Buchhaltung für NeueinsteigerInnen (26F14A02) 
LOCATION:KVW Kursraum 84 Meran, Otto-Huber-Straße 84, 39012 Meran
END:VEVENT
BEGIN:VEVENT
DTSTAMP:20260420T103427
DTSTART;TZID=Europe/Berlin:20260408T170000
DTEND;TZID=Europe/Berlin:20260408T190000
UID:26F14A02-20260408T170000@KVW BIBOZEN
SUMMARY:Buchhaltung für NeueinsteigerInnen (26F14A02) 
LOCATION:KVW Kursraum 84 Meran, Otto-Huber-Straße 84, 39012 Meran
END:VEVENT
BEGIN:VEVENT
DTSTAMP:20260420T103427
DTSTART;TZID=Europe/Berlin:20260417T170000
DTEND;TZID=Europe/Berlin:20260417T190000
UID:26F14A02-20260417T170000@KVW BIBOZEN
SUMMARY:Buchhaltung für NeueinsteigerInnen (26F14A02) 
LOCATION:KVW Kursraum 84 Meran, Otto-Huber-Straße 84, 39012 Meran
END:VEVENT
BEGIN:VEVENT
DTSTAMP:20260420T103427
DTSTART;TZID=Europe/Berlin:20260424T170000
DTEND;TZID=Europe/Berlin:20260424T190000
UID:26F14A02-20260424T170000@KVW BIBOZEN
SUMMARY:Buchhaltung für NeueinsteigerInnen (26F14A02) 
LOCATION:KVW Kursraum 84 Meran, Otto-Huber-Straße 84, 39012 Meran
END:VEVENT
END:VCALENDAR