BEGIN:VCALENDAR
PRODID:http://www.kufer.de/kuferweb / DE
VERSION:2.0
METHOD:PUBLISH
CALSCALE:GREGORIAN
X-WR-TIMEZONE:Europe/Berlin
BEGIN:VTIMEZONE
TZID:Europe/Berlin
X-LIC-LOCATION:Europe/Berlin
BEGIN:DAYLIGHT
TZOFFSETFROM:+0100
TZOFFSETTO:+0200
TZNAME:CEST
DTSTART;TZID=Europe/Berlin:19700329T020000
RRULE:FREQ=YEARLY;INTERVAL=1;BYDAY=-1SU;BYMONTH=3
END:DAYLIGHT
BEGIN:STANDARD
TZOFFSETFROM:+0200
TZOFFSETTO:+0100
TZNAME:CET
DTSTART;TZID=Europe/Berlin:19701025T030000
RRULE:FREQ=YEARLY;INTERVAL=1;BYDAY=-1SU;BYMONTH=10
END:STANDARD
END:VTIMEZONE
BEGIN:VEVENT
DTSTAMP:20260420T115317
DTSTART;TZID=Europe/Berlin:20260414T190000
DTEND;TZID=Europe/Berlin:20260414T212000
UID:26F14A04-20260414T190000@KVW BIBOZEN
SUMMARY:ONLINE Buchhaltung für NeueinsteigerInnen (26F14A04) 
LOCATION:KVW virtueller Kursraum 4, , 
END:VEVENT
BEGIN:VEVENT
DTSTAMP:20260420T115317
DTSTART;TZID=Europe/Berlin:20260415T190000
DTEND;TZID=Europe/Berlin:20260415T212000
UID:26F14A04-20260415T190000@KVW BIBOZEN
SUMMARY:ONLINE Buchhaltung für NeueinsteigerInnen (26F14A04) 
LOCATION:KVW virtueller Kursraum 4, , 
END:VEVENT
BEGIN:VEVENT
DTSTAMP:20260420T115317
DTSTART;TZID=Europe/Berlin:20260421T190000
DTEND;TZID=Europe/Berlin:20260421T212000
UID:26F14A04-20260421T190000@KVW BIBOZEN
SUMMARY:ONLINE Buchhaltung für NeueinsteigerInnen (26F14A04) 
LOCATION:KVW virtueller Kursraum 4, , 
END:VEVENT
BEGIN:VEVENT
DTSTAMP:20260420T115317
DTSTART;TZID=Europe/Berlin:20260428T190000
DTEND;TZID=Europe/Berlin:20260428T212000
UID:26F14A04-20260428T190000@KVW BIBOZEN
SUMMARY:ONLINE Buchhaltung für NeueinsteigerInnen (26F14A04) 
LOCATION:KVW virtueller Kursraum 4, , 
END:VEVENT
BEGIN:VEVENT
DTSTAMP:20260420T115317
DTSTART;TZID=Europe/Berlin:20260430T190000
DTEND;TZID=Europe/Berlin:20260430T212000
UID:26F14A04-20260430T190000@KVW BIBOZEN
SUMMARY:ONLINE Buchhaltung für NeueinsteigerInnen (26F14A04) 
LOCATION:KVW virtueller Kursraum 4, , 
END:VEVENT
BEGIN:VEVENT
DTSTAMP:20260420T115317
DTSTART;TZID=Europe/Berlin:20260505T190000
DTEND;TZID=Europe/Berlin:20260505T212000
UID:26F14A04-20260505T190000@KVW BIBOZEN
SUMMARY:ONLINE Buchhaltung für NeueinsteigerInnen (26F14A04) 
LOCATION:KVW virtueller Kursraum 4, , 
END:VEVENT
END:VCALENDAR