BEGIN:VCALENDAR
PRODID:http://www.kufer.de/kuferweb / DE
VERSION:2.0
METHOD:PUBLISH
CALSCALE:GREGORIAN
X-WR-TIMEZONE:Europe/Berlin
BEGIN:VTIMEZONE
TZID:Europe/Berlin
X-LIC-LOCATION:Europe/Berlin
BEGIN:DAYLIGHT
TZOFFSETFROM:+0100
TZOFFSETTO:+0200
TZNAME:CEST
DTSTART;TZID=Europe/Berlin:19700329T020000
RRULE:FREQ=YEARLY;INTERVAL=1;BYDAY=-1SU;BYMONTH=3
END:DAYLIGHT
BEGIN:STANDARD
TZOFFSETFROM:+0200
TZOFFSETTO:+0100
TZNAME:CET
DTSTART;TZID=Europe/Berlin:19701025T030000
RRULE:FREQ=YEARLY;INTERVAL=1;BYDAY=-1SU;BYMONTH=10
END:STANDARD
END:VTIMEZONE
BEGIN:VEVENT
DTSTAMP:20260420T132709
DTSTART;TZID=Europe/Berlin:20260512T190000
DTEND;TZID=Europe/Berlin:20260512T210000
UID:26F14A06-20260512T190000@KVW BIBOZEN
SUMMARY:ONLINE Buchhaltung Aufbaukurs (26F14A06) 
LOCATION:KVW virtueller Kursraum 4, , 
END:VEVENT
BEGIN:VEVENT
DTSTAMP:20260420T132709
DTSTART;TZID=Europe/Berlin:20260514T190000
DTEND;TZID=Europe/Berlin:20260514T210000
UID:26F14A06-20260514T190000@KVW BIBOZEN
SUMMARY:ONLINE Buchhaltung Aufbaukurs (26F14A06) 
LOCATION:KVW virtueller Kursraum 4, , 
END:VEVENT
BEGIN:VEVENT
DTSTAMP:20260420T132709
DTSTART;TZID=Europe/Berlin:20260519T190000
DTEND;TZID=Europe/Berlin:20260519T210000
UID:26F14A06-20260519T190000@KVW BIBOZEN
SUMMARY:ONLINE Buchhaltung Aufbaukurs (26F14A06) 
LOCATION:KVW virtueller Kursraum 4, , 
END:VEVENT
BEGIN:VEVENT
DTSTAMP:20260420T132709
DTSTART;TZID=Europe/Berlin:20260521T190000
DTEND;TZID=Europe/Berlin:20260521T210000
UID:26F14A06-20260521T190000@KVW BIBOZEN
SUMMARY:ONLINE Buchhaltung Aufbaukurs (26F14A06) 
LOCATION:KVW virtueller Kursraum 4, , 
END:VEVENT
END:VCALENDAR