BEGIN:VCALENDAR
PRODID:http://www.kufer.de/kuferweb / DE
VERSION:2.0
METHOD:PUBLISH
CALSCALE:GREGORIAN
X-WR-TIMEZONE:Europe/Berlin
BEGIN:VTIMEZONE
TZID:Europe/Berlin
X-LIC-LOCATION:Europe/Berlin
BEGIN:DAYLIGHT
TZOFFSETFROM:+0100
TZOFFSETTO:+0200
TZNAME:CEST
DTSTART;TZID=Europe/Berlin:19700329T020000
RRULE:FREQ=YEARLY;INTERVAL=1;BYDAY=-1SU;BYMONTH=3
END:DAYLIGHT
BEGIN:STANDARD
TZOFFSETFROM:+0200
TZOFFSETTO:+0100
TZNAME:CET
DTSTART;TZID=Europe/Berlin:19701025T030000
RRULE:FREQ=YEARLY;INTERVAL=1;BYDAY=-1SU;BYMONTH=10
END:STANDARD
END:VTIMEZONE
BEGIN:VEVENT
DTSTAMP:20260420T115239
DTSTART;TZID=Europe/Berlin:20260413T173000
DTEND;TZID=Europe/Berlin:20260413T191000
UID:26F31A08-20260413T173000@KVW BIBOZEN
SUMMARY:A1.2 Deutsch für AnfängerInnen ohne Vorkenntnisse (26F31A08) 
LOCATION:Berufsbildungszentrum Bruneck, Toblstraße 6, 39031 Bruneck
END:VEVENT
BEGIN:VEVENT
DTSTAMP:20260420T115239
DTSTART;TZID=Europe/Berlin:20260417T173000
DTEND;TZID=Europe/Berlin:20260417T191000
UID:26F31A08-20260417T173000@KVW BIBOZEN
SUMMARY:A1.2 Deutsch für AnfängerInnen ohne Vorkenntnisse (26F31A08) 
LOCATION:Berufsbildungszentrum Bruneck, Toblstraße 6, 39031 Bruneck
END:VEVENT
BEGIN:VEVENT
DTSTAMP:20260420T115239
DTSTART;TZID=Europe/Berlin:20260420T173000
DTEND;TZID=Europe/Berlin:20260420T191000
UID:26F31A08-20260420T173000@KVW BIBOZEN
SUMMARY:A1.2 Deutsch für AnfängerInnen ohne Vorkenntnisse (26F31A08) 
LOCATION:Berufsbildungszentrum Bruneck, Toblstraße 6, 39031 Bruneck
END:VEVENT
BEGIN:VEVENT
DTSTAMP:20260420T115239
DTSTART;TZID=Europe/Berlin:20260424T173000
DTEND;TZID=Europe/Berlin:20260424T191000
UID:26F31A08-20260424T173000@KVW BIBOZEN
SUMMARY:A1.2 Deutsch für AnfängerInnen ohne Vorkenntnisse (26F31A08) 
LOCATION:Berufsbildungszentrum Bruneck, Toblstraße 6, 39031 Bruneck
END:VEVENT
BEGIN:VEVENT
DTSTAMP:20260420T115239
DTSTART;TZID=Europe/Berlin:20260427T173000
DTEND;TZID=Europe/Berlin:20260427T191000
UID:26F31A08-20260427T173000@KVW BIBOZEN
SUMMARY:A1.2 Deutsch für AnfängerInnen ohne Vorkenntnisse (26F31A08) 
LOCATION:Berufsbildungszentrum Bruneck, Toblstraße 6, 39031 Bruneck
END:VEVENT
BEGIN:VEVENT
DTSTAMP:20260420T115239
DTSTART;TZID=Europe/Berlin:20260504T173000
DTEND;TZID=Europe/Berlin:20260504T191000
UID:26F31A08-20260504T173000@KVW BIBOZEN
SUMMARY:A1.2 Deutsch für AnfängerInnen ohne Vorkenntnisse (26F31A08) 
LOCATION:Berufsbildungszentrum Bruneck, Toblstraße 6, 39031 Bruneck
END:VEVENT
BEGIN:VEVENT
DTSTAMP:20260420T115239
DTSTART;TZID=Europe/Berlin:20260508T173000
DTEND;TZID=Europe/Berlin:20260508T191000
UID:26F31A08-20260508T173000@KVW BIBOZEN
SUMMARY:A1.2 Deutsch für AnfängerInnen ohne Vorkenntnisse (26F31A08) 
LOCATION:Berufsbildungszentrum Bruneck, Toblstraße 6, 39031 Bruneck
END:VEVENT
BEGIN:VEVENT
DTSTAMP:20260420T115239
DTSTART;TZID=Europe/Berlin:20260511T173000
DTEND;TZID=Europe/Berlin:20260511T191000
UID:26F31A08-20260511T173000@KVW BIBOZEN
SUMMARY:A1.2 Deutsch für AnfängerInnen ohne Vorkenntnisse (26F31A08) 
LOCATION:Berufsbildungszentrum Bruneck, Toblstraße 6, 39031 Bruneck
END:VEVENT
BEGIN:VEVENT
DTSTAMP:20260420T115239
DTSTART;TZID=Europe/Berlin:20260515T173000
DTEND;TZID=Europe/Berlin:20260515T191000
UID:26F31A08-20260515T173000@KVW BIBOZEN
SUMMARY:A1.2 Deutsch für AnfängerInnen ohne Vorkenntnisse (26F31A08) 
LOCATION:Berufsbildungszentrum Bruneck, Toblstraße 6, 39031 Bruneck
END:VEVENT
BEGIN:VEVENT
DTSTAMP:20260420T115239
DTSTART;TZID=Europe/Berlin:20260518T173000
DTEND;TZID=Europe/Berlin:20260518T191000
UID:26F31A08-20260518T173000@KVW BIBOZEN
SUMMARY:A1.2 Deutsch für AnfängerInnen ohne Vorkenntnisse (26F31A08) 
LOCATION:Berufsbildungszentrum Bruneck, Toblstraße 6, 39031 Bruneck
END:VEVENT
END:VCALENDAR