BEGIN:VCALENDAR
PRODID:http://www.kufer.de/kuferweb / DE
VERSION:2.0
METHOD:PUBLISH
CALSCALE:GREGORIAN
X-WR-TIMEZONE:Europe/Berlin
BEGIN:VTIMEZONE
TZID:Europe/Berlin
X-LIC-LOCATION:Europe/Berlin
BEGIN:DAYLIGHT
TZOFFSETFROM:+0100
TZOFFSETTO:+0200
TZNAME:CEST
DTSTART;TZID=Europe/Berlin:19700329T020000
RRULE:FREQ=YEARLY;INTERVAL=1;BYDAY=-1SU;BYMONTH=3
END:DAYLIGHT
BEGIN:STANDARD
TZOFFSETFROM:+0200
TZOFFSETTO:+0100
TZNAME:CET
DTSTART;TZID=Europe/Berlin:19701025T030000
RRULE:FREQ=YEARLY;INTERVAL=1;BYDAY=-1SU;BYMONTH=10
END:STANDARD
END:VTIMEZONE
BEGIN:VEVENT
DTSTAMP:20260420T103504
DTSTART;TZID=Europe/Berlin:20260224T180000
DTEND;TZID=Europe/Berlin:20260224T194000
UID:26F31B01-20260224T180000@KVW BIBOZEN
SUMMARY:A1.1 Deutsch für AnfängerInnen ohne Vorkenntnisse (26F31B01) 
LOCATION:Berufsbildungszentrum Bruneck, Toblstraße 6, 39031 Bruneck
END:VEVENT
BEGIN:VEVENT
DTSTAMP:20260420T103504
DTSTART;TZID=Europe/Berlin:20260226T180000
DTEND;TZID=Europe/Berlin:20260226T194000
UID:26F31B01-20260226T180000@KVW BIBOZEN
SUMMARY:A1.1 Deutsch für AnfängerInnen ohne Vorkenntnisse (26F31B01) 
LOCATION:Berufsbildungszentrum Bruneck, Toblstraße 6, 39031 Bruneck
END:VEVENT
BEGIN:VEVENT
DTSTAMP:20260420T103504
DTSTART;TZID=Europe/Berlin:20260303T180000
DTEND;TZID=Europe/Berlin:20260303T194000
UID:26F31B01-20260303T180000@KVW BIBOZEN
SUMMARY:A1.1 Deutsch für AnfängerInnen ohne Vorkenntnisse (26F31B01) 
LOCATION:Berufsbildungszentrum Bruneck, Toblstraße 6, 39031 Bruneck
END:VEVENT
BEGIN:VEVENT
DTSTAMP:20260420T103504
DTSTART;TZID=Europe/Berlin:20260305T180000
DTEND;TZID=Europe/Berlin:20260305T194000
UID:26F31B01-20260305T180000@KVW BIBOZEN
SUMMARY:A1.1 Deutsch für AnfängerInnen ohne Vorkenntnisse (26F31B01) 
LOCATION:Berufsbildungszentrum Bruneck, Toblstraße 6, 39031 Bruneck
END:VEVENT
BEGIN:VEVENT
DTSTAMP:20260420T103504
DTSTART;TZID=Europe/Berlin:20260310T180000
DTEND;TZID=Europe/Berlin:20260310T194000
UID:26F31B01-20260310T180000@KVW BIBOZEN
SUMMARY:A1.1 Deutsch für AnfängerInnen ohne Vorkenntnisse (26F31B01) 
LOCATION:Berufsbildungszentrum Bruneck, Toblstraße 6, 39031 Bruneck
END:VEVENT
BEGIN:VEVENT
DTSTAMP:20260420T103504
DTSTART;TZID=Europe/Berlin:20260312T180000
DTEND;TZID=Europe/Berlin:20260312T194000
UID:26F31B01-20260312T180000@KVW BIBOZEN
SUMMARY:A1.1 Deutsch für AnfängerInnen ohne Vorkenntnisse (26F31B01) 
LOCATION:Berufsbildungszentrum Bruneck, Toblstraße 6, 39031 Bruneck
END:VEVENT
BEGIN:VEVENT
DTSTAMP:20260420T103504
DTSTART;TZID=Europe/Berlin:20260317T180000
DTEND;TZID=Europe/Berlin:20260317T194000
UID:26F31B01-20260317T180000@KVW BIBOZEN
SUMMARY:A1.1 Deutsch für AnfängerInnen ohne Vorkenntnisse (26F31B01) 
LOCATION:Berufsbildungszentrum Bruneck, Toblstraße 6, 39031 Bruneck
END:VEVENT
BEGIN:VEVENT
DTSTAMP:20260420T103504
DTSTART;TZID=Europe/Berlin:20260319T180000
DTEND;TZID=Europe/Berlin:20260319T194000
UID:26F31B01-20260319T180000@KVW BIBOZEN
SUMMARY:A1.1 Deutsch für AnfängerInnen ohne Vorkenntnisse (26F31B01) 
LOCATION:Berufsbildungszentrum Bruneck, Toblstraße 6, 39031 Bruneck
END:VEVENT
BEGIN:VEVENT
DTSTAMP:20260420T103504
DTSTART;TZID=Europe/Berlin:20260324T180000
DTEND;TZID=Europe/Berlin:20260324T194000
UID:26F31B01-20260324T180000@KVW BIBOZEN
SUMMARY:A1.1 Deutsch für AnfängerInnen ohne Vorkenntnisse (26F31B01) 
LOCATION:Berufsbildungszentrum Bruneck, Toblstraße 6, 39031 Bruneck
END:VEVENT
BEGIN:VEVENT
DTSTAMP:20260420T103504
DTSTART;TZID=Europe/Berlin:20260326T180000
DTEND;TZID=Europe/Berlin:20260326T194000
UID:26F31B01-20260326T180000@KVW BIBOZEN
SUMMARY:A1.1 Deutsch für AnfängerInnen ohne Vorkenntnisse (26F31B01) 
LOCATION:Berufsbildungszentrum Bruneck, Toblstraße 6, 39031 Bruneck
END:VEVENT
BEGIN:VEVENT
DTSTAMP:20260420T103504
DTSTART;TZID=Europe/Berlin:20260331T180000
DTEND;TZID=Europe/Berlin:20260331T194000
UID:26F31B01-20260331T180000@KVW BIBOZEN
SUMMARY:A1.1 Deutsch für AnfängerInnen ohne Vorkenntnisse (26F31B01) 
LOCATION:Berufsbildungszentrum Bruneck, Toblstraße 6, 39031 Bruneck
END:VEVENT
BEGIN:VEVENT
DTSTAMP:20260420T103504
DTSTART;TZID=Europe/Berlin:20260409T180000
DTEND;TZID=Europe/Berlin:20260409T194000
UID:26F31B01-20260409T180000@KVW BIBOZEN
SUMMARY:A1.1 Deutsch für AnfängerInnen ohne Vorkenntnisse (26F31B01) 
LOCATION:Berufsbildungszentrum Bruneck, Toblstraße 6, 39031 Bruneck
END:VEVENT
BEGIN:VEVENT
DTSTAMP:20260420T103504
DTSTART;TZID=Europe/Berlin:20260414T180000
DTEND;TZID=Europe/Berlin:20260414T194000
UID:26F31B01-20260414T180000@KVW BIBOZEN
SUMMARY:A1.1 Deutsch für AnfängerInnen ohne Vorkenntnisse (26F31B01) 
LOCATION:Berufsbildungszentrum Bruneck, Toblstraße 6, 39031 Bruneck
END:VEVENT
BEGIN:VEVENT
DTSTAMP:20260420T103504
DTSTART;TZID=Europe/Berlin:20260416T180000
DTEND;TZID=Europe/Berlin:20260416T194000
UID:26F31B01-20260416T180000@KVW BIBOZEN
SUMMARY:A1.1 Deutsch für AnfängerInnen ohne Vorkenntnisse (26F31B01) 
LOCATION:Berufsbildungszentrum Bruneck, Toblstraße 6, 39031 Bruneck
END:VEVENT
BEGIN:VEVENT
DTSTAMP:20260420T103504
DTSTART;TZID=Europe/Berlin:20260421T180000
DTEND;TZID=Europe/Berlin:20260421T194000
UID:26F31B01-20260421T180000@KVW BIBOZEN
SUMMARY:A1.1 Deutsch für AnfängerInnen ohne Vorkenntnisse (26F31B01) 
LOCATION:Berufsbildungszentrum Bruneck, Toblstraße 6, 39031 Bruneck
END:VEVENT
BEGIN:VEVENT
DTSTAMP:20260420T103504
DTSTART;TZID=Europe/Berlin:20260423T180000
DTEND;TZID=Europe/Berlin:20260423T194000
UID:26F31B01-20260423T180000@KVW BIBOZEN
SUMMARY:A1.1 Deutsch für AnfängerInnen ohne Vorkenntnisse (26F31B01) 
LOCATION:Berufsbildungszentrum Bruneck, Toblstraße 6, 39031 Bruneck
END:VEVENT
BEGIN:VEVENT
DTSTAMP:20260420T103504
DTSTART;TZID=Europe/Berlin:20260428T180000
DTEND;TZID=Europe/Berlin:20260428T194000
UID:26F31B01-20260428T180000@KVW BIBOZEN
SUMMARY:A1.1 Deutsch für AnfängerInnen ohne Vorkenntnisse (26F31B01) 
LOCATION:Berufsbildungszentrum Bruneck, Toblstraße 6, 39031 Bruneck
END:VEVENT
BEGIN:VEVENT
DTSTAMP:20260420T103504
DTSTART;TZID=Europe/Berlin:20260430T180000
DTEND;TZID=Europe/Berlin:20260430T194000
UID:26F31B01-20260430T180000@KVW BIBOZEN
SUMMARY:A1.1 Deutsch für AnfängerInnen ohne Vorkenntnisse (26F31B01) 
LOCATION:Berufsbildungszentrum Bruneck, Toblstraße 6, 39031 Bruneck
END:VEVENT
BEGIN:VEVENT
DTSTAMP:20260420T103504
DTSTART;TZID=Europe/Berlin:20260505T180000
DTEND;TZID=Europe/Berlin:20260505T194000
UID:26F31B01-20260505T180000@KVW BIBOZEN
SUMMARY:A1.1 Deutsch für AnfängerInnen ohne Vorkenntnisse (26F31B01) 
LOCATION:Berufsbildungszentrum Bruneck, Toblstraße 6, 39031 Bruneck
END:VEVENT
BEGIN:VEVENT
DTSTAMP:20260420T103504
DTSTART;TZID=Europe/Berlin:20260507T180000
DTEND;TZID=Europe/Berlin:20260507T194000
UID:26F31B01-20260507T180000@KVW BIBOZEN
SUMMARY:A1.1 Deutsch für AnfängerInnen ohne Vorkenntnisse (26F31B01) 
LOCATION:Berufsbildungszentrum Bruneck, Toblstraße 6, 39031 Bruneck
END:VEVENT
END:VCALENDAR