BEGIN:VCALENDAR
PRODID:http://www.kufer.de/kuferweb / DE
VERSION:2.0
METHOD:PUBLISH
CALSCALE:GREGORIAN
X-WR-TIMEZONE:Europe/Berlin
BEGIN:VTIMEZONE
TZID:Europe/Berlin
X-LIC-LOCATION:Europe/Berlin
BEGIN:DAYLIGHT
TZOFFSETFROM:+0100
TZOFFSETTO:+0200
TZNAME:CEST
DTSTART;TZID=Europe/Berlin:19700329T020000
RRULE:FREQ=YEARLY;INTERVAL=1;BYDAY=-1SU;BYMONTH=3
END:DAYLIGHT
BEGIN:STANDARD
TZOFFSETFROM:+0200
TZOFFSETTO:+0100
TZNAME:CET
DTSTART;TZID=Europe/Berlin:19701025T030000
RRULE:FREQ=YEARLY;INTERVAL=1;BYDAY=-1SU;BYMONTH=10
END:STANDARD
END:VTIMEZONE
BEGIN:VEVENT
DTSTAMP:20260420T132300
DTSTART;TZID=Europe/Berlin:20260817T084500
DTEND;TZID=Europe/Berlin:20260817T121500
UID:26F31C22-20260817T084500@KVW BIBOZEN
SUMMARY:Allegro Italiano - Sommer und Sprachen - Katharinaberg In Zusammenarbeit mit alpha beta piccadilly (26F31C22) 
LOCATION:Grundschule, , 
END:VEVENT
BEGIN:VEVENT
DTSTAMP:20260420T132300
DTSTART;TZID=Europe/Berlin:20260818T084500
DTEND;TZID=Europe/Berlin:20260818T121500
UID:26F31C22-20260818T084500@KVW BIBOZEN
SUMMARY:Allegro Italiano - Sommer und Sprachen - Katharinaberg In Zusammenarbeit mit alpha beta piccadilly (26F31C22) 
LOCATION:Grundschule, , 
END:VEVENT
BEGIN:VEVENT
DTSTAMP:20260420T132300
DTSTART;TZID=Europe/Berlin:20260819T084500
DTEND;TZID=Europe/Berlin:20260819T121500
UID:26F31C22-20260819T084500@KVW BIBOZEN
SUMMARY:Allegro Italiano - Sommer und Sprachen - Katharinaberg In Zusammenarbeit mit alpha beta piccadilly (26F31C22) 
LOCATION:Grundschule, , 
END:VEVENT
BEGIN:VEVENT
DTSTAMP:20260420T132300
DTSTART;TZID=Europe/Berlin:20260820T084500
DTEND;TZID=Europe/Berlin:20260820T121500
UID:26F31C22-20260820T084500@KVW BIBOZEN
SUMMARY:Allegro Italiano - Sommer und Sprachen - Katharinaberg In Zusammenarbeit mit alpha beta piccadilly (26F31C22) 
LOCATION:Grundschule, , 
END:VEVENT
BEGIN:VEVENT
DTSTAMP:20260420T132300
DTSTART;TZID=Europe/Berlin:20260821T084500
DTEND;TZID=Europe/Berlin:20260821T121500
UID:26F31C22-20260821T084500@KVW BIBOZEN
SUMMARY:Allegro Italiano - Sommer und Sprachen - Katharinaberg In Zusammenarbeit mit alpha beta piccadilly (26F31C22) 
LOCATION:Grundschule, , 
END:VEVENT
BEGIN:VEVENT
DTSTAMP:20260420T132300
DTSTART;TZID=Europe/Berlin:20260824T084500
DTEND;TZID=Europe/Berlin:20260824T121500
UID:26F31C22-20260824T084500@KVW BIBOZEN
SUMMARY:Allegro Italiano - Sommer und Sprachen - Katharinaberg In Zusammenarbeit mit alpha beta piccadilly (26F31C22) 
LOCATION:Grundschule, , 
END:VEVENT
BEGIN:VEVENT
DTSTAMP:20260420T132300
DTSTART;TZID=Europe/Berlin:20260825T084500
DTEND;TZID=Europe/Berlin:20260825T121500
UID:26F31C22-20260825T084500@KVW BIBOZEN
SUMMARY:Allegro Italiano - Sommer und Sprachen - Katharinaberg In Zusammenarbeit mit alpha beta piccadilly (26F31C22) 
LOCATION:Grundschule, , 
END:VEVENT
BEGIN:VEVENT
DTSTAMP:20260420T132300
DTSTART;TZID=Europe/Berlin:20260826T084500
DTEND;TZID=Europe/Berlin:20260826T121500
UID:26F31C22-20260826T084500@KVW BIBOZEN
SUMMARY:Allegro Italiano - Sommer und Sprachen - Katharinaberg In Zusammenarbeit mit alpha beta piccadilly (26F31C22) 
LOCATION:Grundschule, , 
END:VEVENT
BEGIN:VEVENT
DTSTAMP:20260420T132300
DTSTART;TZID=Europe/Berlin:20260827T084500
DTEND;TZID=Europe/Berlin:20260827T121500
UID:26F31C22-20260827T084500@KVW BIBOZEN
SUMMARY:Allegro Italiano - Sommer und Sprachen - Katharinaberg In Zusammenarbeit mit alpha beta piccadilly (26F31C22) 
LOCATION:Grundschule, , 
END:VEVENT
BEGIN:VEVENT
DTSTAMP:20260420T132300
DTSTART;TZID=Europe/Berlin:20260828T084500
DTEND;TZID=Europe/Berlin:20260828T121500
UID:26F31C22-20260828T084500@KVW BIBOZEN
SUMMARY:Allegro Italiano - Sommer und Sprachen - Katharinaberg In Zusammenarbeit mit alpha beta piccadilly (26F31C22) 
LOCATION:Grundschule, , 
END:VEVENT
END:VCALENDAR