BEGIN:VCALENDAR
PRODID:http://www.kufer.de/kuferweb / DE
VERSION:2.0
METHOD:PUBLISH
CALSCALE:GREGORIAN
X-WR-TIMEZONE:Europe/Berlin
BEGIN:VTIMEZONE
TZID:Europe/Berlin
X-LIC-LOCATION:Europe/Berlin
BEGIN:DAYLIGHT
TZOFFSETFROM:+0100
TZOFFSETTO:+0200
TZNAME:CEST
DTSTART;TZID=Europe/Berlin:19700329T020000
RRULE:FREQ=YEARLY;INTERVAL=1;BYDAY=-1SU;BYMONTH=3
END:DAYLIGHT
BEGIN:STANDARD
TZOFFSETFROM:+0200
TZOFFSETTO:+0100
TZNAME:CET
DTSTART;TZID=Europe/Berlin:19701025T030000
RRULE:FREQ=YEARLY;INTERVAL=1;BYDAY=-1SU;BYMONTH=10
END:STANDARD
END:VTIMEZONE
BEGIN:VEVENT
DTSTAMP:20260420T132357
DTSTART;TZID=Europe/Berlin:20260817T090000
DTEND;TZID=Europe/Berlin:20260817T123000
UID:26F31C24-20260817T090000@KVW BIBOZEN
SUMMARY:Allegro Italiano - Sommer und Sprachen - Schlanders für Grund- und Mittelschüler In Zusammenarbeit mit alpha beta piccadilly (26F31C24) 
LOCATION:Grundschule, , 
END:VEVENT
BEGIN:VEVENT
DTSTAMP:20260420T132357
DTSTART;TZID=Europe/Berlin:20260818T090000
DTEND;TZID=Europe/Berlin:20260818T123000
UID:26F31C24-20260818T090000@KVW BIBOZEN
SUMMARY:Allegro Italiano - Sommer und Sprachen - Schlanders für Grund- und Mittelschüler In Zusammenarbeit mit alpha beta piccadilly (26F31C24) 
LOCATION:Grundschule, , 
END:VEVENT
BEGIN:VEVENT
DTSTAMP:20260420T132357
DTSTART;TZID=Europe/Berlin:20260819T090000
DTEND;TZID=Europe/Berlin:20260819T123000
UID:26F31C24-20260819T090000@KVW BIBOZEN
SUMMARY:Allegro Italiano - Sommer und Sprachen - Schlanders für Grund- und Mittelschüler In Zusammenarbeit mit alpha beta piccadilly (26F31C24) 
LOCATION:Grundschule, , 
END:VEVENT
BEGIN:VEVENT
DTSTAMP:20260420T132357
DTSTART;TZID=Europe/Berlin:20260820T090000
DTEND;TZID=Europe/Berlin:20260820T123000
UID:26F31C24-20260820T090000@KVW BIBOZEN
SUMMARY:Allegro Italiano - Sommer und Sprachen - Schlanders für Grund- und Mittelschüler In Zusammenarbeit mit alpha beta piccadilly (26F31C24) 
LOCATION:Grundschule, , 
END:VEVENT
BEGIN:VEVENT
DTSTAMP:20260420T132357
DTSTART;TZID=Europe/Berlin:20260821T090000
DTEND;TZID=Europe/Berlin:20260821T123000
UID:26F31C24-20260821T090000@KVW BIBOZEN
SUMMARY:Allegro Italiano - Sommer und Sprachen - Schlanders für Grund- und Mittelschüler In Zusammenarbeit mit alpha beta piccadilly (26F31C24) 
LOCATION:Grundschule, , 
END:VEVENT
BEGIN:VEVENT
DTSTAMP:20260420T132357
DTSTART;TZID=Europe/Berlin:20260824T090000
DTEND;TZID=Europe/Berlin:20260824T123000
UID:26F31C24-20260824T090000@KVW BIBOZEN
SUMMARY:Allegro Italiano - Sommer und Sprachen - Schlanders für Grund- und Mittelschüler In Zusammenarbeit mit alpha beta piccadilly (26F31C24) 
LOCATION:Grundschule, , 
END:VEVENT
BEGIN:VEVENT
DTSTAMP:20260420T132357
DTSTART;TZID=Europe/Berlin:20260825T090000
DTEND;TZID=Europe/Berlin:20260825T123000
UID:26F31C24-20260825T090000@KVW BIBOZEN
SUMMARY:Allegro Italiano - Sommer und Sprachen - Schlanders für Grund- und Mittelschüler In Zusammenarbeit mit alpha beta piccadilly (26F31C24) 
LOCATION:Grundschule, , 
END:VEVENT
BEGIN:VEVENT
DTSTAMP:20260420T132357
DTSTART;TZID=Europe/Berlin:20260826T090000
DTEND;TZID=Europe/Berlin:20260826T123000
UID:26F31C24-20260826T090000@KVW BIBOZEN
SUMMARY:Allegro Italiano - Sommer und Sprachen - Schlanders für Grund- und Mittelschüler In Zusammenarbeit mit alpha beta piccadilly (26F31C24) 
LOCATION:Grundschule, , 
END:VEVENT
BEGIN:VEVENT
DTSTAMP:20260420T132357
DTSTART;TZID=Europe/Berlin:20260827T090000
DTEND;TZID=Europe/Berlin:20260827T123000
UID:26F31C24-20260827T090000@KVW BIBOZEN
SUMMARY:Allegro Italiano - Sommer und Sprachen - Schlanders für Grund- und Mittelschüler In Zusammenarbeit mit alpha beta piccadilly (26F31C24) 
LOCATION:Grundschule, , 
END:VEVENT
BEGIN:VEVENT
DTSTAMP:20260420T132357
DTSTART;TZID=Europe/Berlin:20260828T090000
DTEND;TZID=Europe/Berlin:20260828T123000
UID:26F31C24-20260828T090000@KVW BIBOZEN
SUMMARY:Allegro Italiano - Sommer und Sprachen - Schlanders für Grund- und Mittelschüler In Zusammenarbeit mit alpha beta piccadilly (26F31C24) 
LOCATION:Grundschule, , 
END:VEVENT
END:VCALENDAR