BEGIN:VCALENDAR
PRODID:http://www.kufer.de/kuferweb / DE
VERSION:2.0
METHOD:PUBLISH
CALSCALE:GREGORIAN
X-WR-TIMEZONE:Europe/Berlin
BEGIN:VTIMEZONE
TZID:Europe/Berlin
X-LIC-LOCATION:Europe/Berlin
BEGIN:DAYLIGHT
TZOFFSETFROM:+0100
TZOFFSETTO:+0200
TZNAME:CEST
DTSTART;TZID=Europe/Berlin:19700329T020000
RRULE:FREQ=YEARLY;INTERVAL=1;BYDAY=-1SU;BYMONTH=3
END:DAYLIGHT
BEGIN:STANDARD
TZOFFSETFROM:+0200
TZOFFSETTO:+0100
TZNAME:CET
DTSTART;TZID=Europe/Berlin:19701025T030000
RRULE:FREQ=YEARLY;INTERVAL=1;BYDAY=-1SU;BYMONTH=10
END:STANDARD
END:VTIMEZONE
BEGIN:VEVENT
DTSTAMP:20260420T103506
DTSTART;TZID=Europe/Berlin:20260119T093000
DTEND;TZID=Europe/Berlin:20260119T110000
UID:26F39A07-20260119T093000@KVW BIBOZEN
SUMMARY:Español - Conversación (26F39A07) 
LOCATION:urania-Haus, Ortweinstraße 6, 39012 Meran
END:VEVENT
BEGIN:VEVENT
DTSTAMP:20260420T103506
DTSTART;TZID=Europe/Berlin:20260126T093000
DTEND;TZID=Europe/Berlin:20260126T110000
UID:26F39A07-20260126T093000@KVW BIBOZEN
SUMMARY:Español - Conversación (26F39A07) 
LOCATION:urania-Haus, Ortweinstraße 6, 39012 Meran
END:VEVENT
BEGIN:VEVENT
DTSTAMP:20260420T103506
DTSTART;TZID=Europe/Berlin:20260202T093000
DTEND;TZID=Europe/Berlin:20260202T110000
UID:26F39A07-20260202T093000@KVW BIBOZEN
SUMMARY:Español - Conversación (26F39A07) 
LOCATION:urania-Haus, Ortweinstraße 6, 39012 Meran
END:VEVENT
BEGIN:VEVENT
DTSTAMP:20260420T103506
DTSTART;TZID=Europe/Berlin:20260209T093000
DTEND;TZID=Europe/Berlin:20260209T110000
UID:26F39A07-20260209T093000@KVW BIBOZEN
SUMMARY:Español - Conversación (26F39A07) 
LOCATION:urania-Haus, Ortweinstraße 6, 39012 Meran
END:VEVENT
BEGIN:VEVENT
DTSTAMP:20260420T103506
DTSTART;TZID=Europe/Berlin:20260223T093000
DTEND;TZID=Europe/Berlin:20260223T110000
UID:26F39A07-20260223T093000@KVW BIBOZEN
SUMMARY:Español - Conversación (26F39A07) 
LOCATION:urania-Haus, Ortweinstraße 6, 39012 Meran
END:VEVENT
BEGIN:VEVENT
DTSTAMP:20260420T103506
DTSTART;TZID=Europe/Berlin:20260302T093000
DTEND;TZID=Europe/Berlin:20260302T110000
UID:26F39A07-20260302T093000@KVW BIBOZEN
SUMMARY:Español - Conversación (26F39A07) 
LOCATION:urania-Haus, Ortweinstraße 6, 39012 Meran
END:VEVENT
BEGIN:VEVENT
DTSTAMP:20260420T103506
DTSTART;TZID=Europe/Berlin:20260309T093000
DTEND;TZID=Europe/Berlin:20260309T110000
UID:26F39A07-20260309T093000@KVW BIBOZEN
SUMMARY:Español - Conversación (26F39A07) 
LOCATION:urania-Haus, Ortweinstraße 6, 39012 Meran
END:VEVENT
BEGIN:VEVENT
DTSTAMP:20260420T103506
DTSTART;TZID=Europe/Berlin:20260316T093000
DTEND;TZID=Europe/Berlin:20260316T110000
UID:26F39A07-20260316T093000@KVW BIBOZEN
SUMMARY:Español - Conversación (26F39A07) 
LOCATION:urania-Haus, Ortweinstraße 6, 39012 Meran
END:VEVENT
BEGIN:VEVENT
DTSTAMP:20260420T103506
DTSTART;TZID=Europe/Berlin:20260323T093000
DTEND;TZID=Europe/Berlin:20260323T110000
UID:26F39A07-20260323T093000@KVW BIBOZEN
SUMMARY:Español - Conversación (26F39A07) 
LOCATION:urania-Haus, Ortweinstraße 6, 39012 Meran
END:VEVENT
BEGIN:VEVENT
DTSTAMP:20260420T103506
DTSTART;TZID=Europe/Berlin:20260330T093000
DTEND;TZID=Europe/Berlin:20260330T110000
UID:26F39A07-20260330T093000@KVW BIBOZEN
SUMMARY:Español - Conversación (26F39A07) 
LOCATION:urania-Haus, Ortweinstraße 6, 39012 Meran
END:VEVENT
BEGIN:VEVENT
DTSTAMP:20260420T103506
DTSTART;TZID=Europe/Berlin:20260413T093000
DTEND;TZID=Europe/Berlin:20260413T110000
UID:26F39A07-20260413T093000@KVW BIBOZEN
SUMMARY:Español - Conversación (26F39A07) 
LOCATION:urania-Haus, Ortweinstraße 6, 39012 Meran
END:VEVENT
BEGIN:VEVENT
DTSTAMP:20260420T103506
DTSTART;TZID=Europe/Berlin:20260420T093000
DTEND;TZID=Europe/Berlin:20260420T110000
UID:26F39A07-20260420T093000@KVW BIBOZEN
SUMMARY:Español - Conversación (26F39A07) 
LOCATION:urania-Haus, Ortweinstraße 6, 39012 Meran
END:VEVENT
BEGIN:VEVENT
DTSTAMP:20260420T103506
DTSTART;TZID=Europe/Berlin:20260427T093000
DTEND;TZID=Europe/Berlin:20260427T110000
UID:26F39A07-20260427T093000@KVW BIBOZEN
SUMMARY:Español - Conversación (26F39A07) 
LOCATION:urania-Haus, Ortweinstraße 6, 39012 Meran
END:VEVENT
BEGIN:VEVENT
DTSTAMP:20260420T103506
DTSTART;TZID=Europe/Berlin:20260504T093000
DTEND;TZID=Europe/Berlin:20260504T110000
UID:26F39A07-20260504T093000@KVW BIBOZEN
SUMMARY:Español - Conversación (26F39A07) 
LOCATION:urania-Haus, Ortweinstraße 6, 39012 Meran
END:VEVENT
END:VCALENDAR