BEGIN:VCALENDAR
PRODID:http://www.kufer.de/kuferweb / DE
VERSION:2.0
METHOD:PUBLISH
CALSCALE:GREGORIAN
X-WR-TIMEZONE:Europe/Berlin
BEGIN:VTIMEZONE
TZID:Europe/Berlin
X-LIC-LOCATION:Europe/Berlin
BEGIN:DAYLIGHT
TZOFFSETFROM:+0100
TZOFFSETTO:+0200
TZNAME:CEST
DTSTART;TZID=Europe/Berlin:19700329T020000
RRULE:FREQ=YEARLY;INTERVAL=1;BYDAY=-1SU;BYMONTH=3
END:DAYLIGHT
BEGIN:STANDARD
TZOFFSETFROM:+0200
TZOFFSETTO:+0100
TZNAME:CET
DTSTART;TZID=Europe/Berlin:19701025T030000
RRULE:FREQ=YEARLY;INTERVAL=1;BYDAY=-1SU;BYMONTH=10
END:STANDARD
END:VTIMEZONE
BEGIN:VEVENT
DTSTAMP:20260422T104255
DTSTART;TZID=Europe/Berlin:20260128T200000
DTEND;TZID=Europe/Berlin:20260128T213000
UID:26F39B03-20260128T200000@KVW BIBOZEN
SUMMARY:B2 Français - Französisch für Fortgeschrittene (26F39B03) 
LOCATION:urania-Haus, Ortweinstraße 6, 39012 Meran
END:VEVENT
BEGIN:VEVENT
DTSTAMP:20260422T104255
DTSTART;TZID=Europe/Berlin:20260204T200000
DTEND;TZID=Europe/Berlin:20260204T213000
UID:26F39B03-20260204T200000@KVW BIBOZEN
SUMMARY:B2 Français - Französisch für Fortgeschrittene (26F39B03) 
LOCATION:urania-Haus, Ortweinstraße 6, 39012 Meran
END:VEVENT
BEGIN:VEVENT
DTSTAMP:20260422T104255
DTSTART;TZID=Europe/Berlin:20260211T200000
DTEND;TZID=Europe/Berlin:20260211T213000
UID:26F39B03-20260211T200000@KVW BIBOZEN
SUMMARY:B2 Français - Französisch für Fortgeschrittene (26F39B03) 
LOCATION:urania-Haus, Ortweinstraße 6, 39012 Meran
END:VEVENT
BEGIN:VEVENT
DTSTAMP:20260422T104255
DTSTART;TZID=Europe/Berlin:20260225T200000
DTEND;TZID=Europe/Berlin:20260225T213000
UID:26F39B03-20260225T200000@KVW BIBOZEN
SUMMARY:B2 Français - Französisch für Fortgeschrittene (26F39B03) 
LOCATION:urania-Haus, Ortweinstraße 6, 39012 Meran
END:VEVENT
BEGIN:VEVENT
DTSTAMP:20260422T104255
DTSTART;TZID=Europe/Berlin:20260304T200000
DTEND;TZID=Europe/Berlin:20260304T213000
UID:26F39B03-20260304T200000@KVW BIBOZEN
SUMMARY:B2 Français - Französisch für Fortgeschrittene (26F39B03) 
LOCATION:urania-Haus, Ortweinstraße 6, 39012 Meran
END:VEVENT
BEGIN:VEVENT
DTSTAMP:20260422T104255
DTSTART;TZID=Europe/Berlin:20260311T200000
DTEND;TZID=Europe/Berlin:20260311T213000
UID:26F39B03-20260311T200000@KVW BIBOZEN
SUMMARY:B2 Français - Französisch für Fortgeschrittene (26F39B03) 
LOCATION:urania-Haus, Ortweinstraße 6, 39012 Meran
END:VEVENT
BEGIN:VEVENT
DTSTAMP:20260422T104255
DTSTART;TZID=Europe/Berlin:20260318T200000
DTEND;TZID=Europe/Berlin:20260318T213000
UID:26F39B03-20260318T200000@KVW BIBOZEN
SUMMARY:B2 Français - Französisch für Fortgeschrittene (26F39B03) 
LOCATION:urania-Haus, Ortweinstraße 6, 39012 Meran
END:VEVENT
BEGIN:VEVENT
DTSTAMP:20260422T104255
DTSTART;TZID=Europe/Berlin:20260325T200000
DTEND;TZID=Europe/Berlin:20260325T213000
UID:26F39B03-20260325T200000@KVW BIBOZEN
SUMMARY:B2 Français - Französisch für Fortgeschrittene (26F39B03) 
LOCATION:urania-Haus, Ortweinstraße 6, 39012 Meran
END:VEVENT
BEGIN:VEVENT
DTSTAMP:20260422T104255
DTSTART;TZID=Europe/Berlin:20260401T200000
DTEND;TZID=Europe/Berlin:20260401T213000
UID:26F39B03-20260401T200000@KVW BIBOZEN
SUMMARY:B2 Français - Französisch für Fortgeschrittene (26F39B03) 
LOCATION:urania-Haus, Ortweinstraße 6, 39012 Meran
END:VEVENT
BEGIN:VEVENT
DTSTAMP:20260422T104255
DTSTART;TZID=Europe/Berlin:20260408T200000
DTEND;TZID=Europe/Berlin:20260408T213000
UID:26F39B03-20260408T200000@KVW BIBOZEN
SUMMARY:B2 Français - Französisch für Fortgeschrittene (26F39B03) 
LOCATION:urania-Haus, Ortweinstraße 6, 39012 Meran
END:VEVENT
BEGIN:VEVENT
DTSTAMP:20260422T104255
DTSTART;TZID=Europe/Berlin:20260415T200000
DTEND;TZID=Europe/Berlin:20260415T213000
UID:26F39B03-20260415T200000@KVW BIBOZEN
SUMMARY:B2 Français - Französisch für Fortgeschrittene (26F39B03) 
LOCATION:urania-Haus, Ortweinstraße 6, 39012 Meran
END:VEVENT
BEGIN:VEVENT
DTSTAMP:20260422T104255
DTSTART;TZID=Europe/Berlin:20260422T200000
DTEND;TZID=Europe/Berlin:20260422T213000
UID:26F39B03-20260422T200000@KVW BIBOZEN
SUMMARY:B2 Français - Französisch für Fortgeschrittene (26F39B03) 
LOCATION:urania-Haus, Ortweinstraße 6, 39012 Meran
END:VEVENT
END:VCALENDAR