BEGIN:VCALENDAR
PRODID:http://www.kufer.de/kuferweb / DE
VERSION:2.0
METHOD:PUBLISH
CALSCALE:GREGORIAN
X-WR-TIMEZONE:Europe/Berlin
BEGIN:VTIMEZONE
TZID:Europe/Berlin
X-LIC-LOCATION:Europe/Berlin
BEGIN:DAYLIGHT
TZOFFSETFROM:+0100
TZOFFSETTO:+0200
TZNAME:CEST
DTSTART;TZID=Europe/Berlin:19700329T020000
RRULE:FREQ=YEARLY;INTERVAL=1;BYDAY=-1SU;BYMONTH=3
END:DAYLIGHT
BEGIN:STANDARD
TZOFFSETFROM:+0200
TZOFFSETTO:+0100
TZNAME:CET
DTSTART;TZID=Europe/Berlin:19701025T030000
RRULE:FREQ=YEARLY;INTERVAL=1;BYDAY=-1SU;BYMONTH=10
END:STANDARD
END:VTIMEZONE
BEGIN:VEVENT
DTSTAMP:20260420T103326
DTSTART;TZID=Europe/Berlin:20260203T084500
DTEND;TZID=Europe/Berlin:20260203T101500
UID:26F39C03-20260203T084500@KVW BIBOZEN
SUMMARY:Englisch 50+ für AnfängerInnen mit leichten Vorkenntnissen (26F39C03) 
LOCATION:KVW Kursraum Brixen, Hofgasse 2, 39042 Brixen
END:VEVENT
BEGIN:VEVENT
DTSTAMP:20260420T103326
DTSTART;TZID=Europe/Berlin:20260210T084500
DTEND;TZID=Europe/Berlin:20260210T101500
UID:26F39C03-20260210T084500@KVW BIBOZEN
SUMMARY:Englisch 50+ für AnfängerInnen mit leichten Vorkenntnissen (26F39C03) 
LOCATION:KVW Kursraum Brixen, Hofgasse 2, 39042 Brixen
END:VEVENT
BEGIN:VEVENT
DTSTAMP:20260420T103326
DTSTART;TZID=Europe/Berlin:20260224T084500
DTEND;TZID=Europe/Berlin:20260224T101500
UID:26F39C03-20260224T084500@KVW BIBOZEN
SUMMARY:Englisch 50+ für AnfängerInnen mit leichten Vorkenntnissen (26F39C03) 
LOCATION:KVW Kursraum Brixen, Hofgasse 2, 39042 Brixen
END:VEVENT
BEGIN:VEVENT
DTSTAMP:20260420T103326
DTSTART;TZID=Europe/Berlin:20260303T084500
DTEND;TZID=Europe/Berlin:20260303T101500
UID:26F39C03-20260303T084500@KVW BIBOZEN
SUMMARY:Englisch 50+ für AnfängerInnen mit leichten Vorkenntnissen (26F39C03) 
LOCATION:KVW Kursraum Brixen, Hofgasse 2, 39042 Brixen
END:VEVENT
BEGIN:VEVENT
DTSTAMP:20260420T103326
DTSTART;TZID=Europe/Berlin:20260310T084500
DTEND;TZID=Europe/Berlin:20260310T101500
UID:26F39C03-20260310T084500@KVW BIBOZEN
SUMMARY:Englisch 50+ für AnfängerInnen mit leichten Vorkenntnissen (26F39C03) 
LOCATION:KVW Kursraum Brixen, Hofgasse 2, 39042 Brixen
END:VEVENT
BEGIN:VEVENT
DTSTAMP:20260420T103326
DTSTART;TZID=Europe/Berlin:20260317T084500
DTEND;TZID=Europe/Berlin:20260317T101500
UID:26F39C03-20260317T084500@KVW BIBOZEN
SUMMARY:Englisch 50+ für AnfängerInnen mit leichten Vorkenntnissen (26F39C03) 
LOCATION:KVW Kursraum Brixen, Hofgasse 2, 39042 Brixen
END:VEVENT
BEGIN:VEVENT
DTSTAMP:20260420T103326
DTSTART;TZID=Europe/Berlin:20260324T084500
DTEND;TZID=Europe/Berlin:20260324T101500
UID:26F39C03-20260324T084500@KVW BIBOZEN
SUMMARY:Englisch 50+ für AnfängerInnen mit leichten Vorkenntnissen (26F39C03) 
LOCATION:KVW Kursraum Brixen, Hofgasse 2, 39042 Brixen
END:VEVENT
BEGIN:VEVENT
DTSTAMP:20260420T103326
DTSTART;TZID=Europe/Berlin:20260331T084500
DTEND;TZID=Europe/Berlin:20260331T101500
UID:26F39C03-20260331T084500@KVW BIBOZEN
SUMMARY:Englisch 50+ für AnfängerInnen mit leichten Vorkenntnissen (26F39C03) 
LOCATION:KVW Kursraum Brixen, Hofgasse 2, 39042 Brixen
END:VEVENT
BEGIN:VEVENT
DTSTAMP:20260420T103326
DTSTART;TZID=Europe/Berlin:20260428T084500
DTEND;TZID=Europe/Berlin:20260428T101500
UID:26F39C03-20260428T084500@KVW BIBOZEN
SUMMARY:Englisch 50+ für AnfängerInnen mit leichten Vorkenntnissen (26F39C03) 
LOCATION:KVW Kursraum Brixen, Hofgasse 2, 39042 Brixen
END:VEVENT
BEGIN:VEVENT
DTSTAMP:20260420T103326
DTSTART;TZID=Europe/Berlin:20260505T084500
DTEND;TZID=Europe/Berlin:20260505T101500
UID:26F39C03-20260505T084500@KVW BIBOZEN
SUMMARY:Englisch 50+ für AnfängerInnen mit leichten Vorkenntnissen (26F39C03) 
LOCATION:KVW Kursraum Brixen, Hofgasse 2, 39042 Brixen
END:VEVENT
END:VCALENDAR