BEGIN:VCALENDAR
PRODID:http://www.kufer.de/kuferweb / DE
VERSION:2.0
METHOD:PUBLISH
CALSCALE:GREGORIAN
X-WR-TIMEZONE:Europe/Berlin
BEGIN:VTIMEZONE
TZID:Europe/Berlin
X-LIC-LOCATION:Europe/Berlin
BEGIN:DAYLIGHT
TZOFFSETFROM:+0100
TZOFFSETTO:+0200
TZNAME:CEST
DTSTART;TZID=Europe/Berlin:19700329T020000
RRULE:FREQ=YEARLY;INTERVAL=1;BYDAY=-1SU;BYMONTH=3
END:DAYLIGHT
BEGIN:STANDARD
TZOFFSETFROM:+0200
TZOFFSETTO:+0100
TZNAME:CET
DTSTART;TZID=Europe/Berlin:19701025T030000
RRULE:FREQ=YEARLY;INTERVAL=1;BYDAY=-1SU;BYMONTH=10
END:STANDARD
END:VTIMEZONE
BEGIN:VEVENT
DTSTAMP:20260420T103244
DTSTART;TZID=Europe/Berlin:20260203T103000
DTEND;TZID=Europe/Berlin:20260203T120000
UID:26F39C04-20260203T103000@KVW BIBOZEN
SUMMARY:Englisch 50+ für Fortgeschrittene (26F39C04) 
LOCATION:KVW Kursraum Brixen, Hofgasse 2, 39042 Brixen
END:VEVENT
BEGIN:VEVENT
DTSTAMP:20260420T103244
DTSTART;TZID=Europe/Berlin:20260210T103000
DTEND;TZID=Europe/Berlin:20260210T120000
UID:26F39C04-20260210T103000@KVW BIBOZEN
SUMMARY:Englisch 50+ für Fortgeschrittene (26F39C04) 
LOCATION:KVW Kursraum Brixen, Hofgasse 2, 39042 Brixen
END:VEVENT
BEGIN:VEVENT
DTSTAMP:20260420T103244
DTSTART;TZID=Europe/Berlin:20260224T103000
DTEND;TZID=Europe/Berlin:20260224T120000
UID:26F39C04-20260224T103000@KVW BIBOZEN
SUMMARY:Englisch 50+ für Fortgeschrittene (26F39C04) 
LOCATION:KVW Kursraum Brixen, Hofgasse 2, 39042 Brixen
END:VEVENT
BEGIN:VEVENT
DTSTAMP:20260420T103244
DTSTART;TZID=Europe/Berlin:20260303T103000
DTEND;TZID=Europe/Berlin:20260303T120000
UID:26F39C04-20260303T103000@KVW BIBOZEN
SUMMARY:Englisch 50+ für Fortgeschrittene (26F39C04) 
LOCATION:KVW Kursraum Brixen, Hofgasse 2, 39042 Brixen
END:VEVENT
BEGIN:VEVENT
DTSTAMP:20260420T103244
DTSTART;TZID=Europe/Berlin:20260310T103000
DTEND;TZID=Europe/Berlin:20260310T120000
UID:26F39C04-20260310T103000@KVW BIBOZEN
SUMMARY:Englisch 50+ für Fortgeschrittene (26F39C04) 
LOCATION:KVW Kursraum Brixen, Hofgasse 2, 39042 Brixen
END:VEVENT
BEGIN:VEVENT
DTSTAMP:20260420T103244
DTSTART;TZID=Europe/Berlin:20260317T103000
DTEND;TZID=Europe/Berlin:20260317T120000
UID:26F39C04-20260317T103000@KVW BIBOZEN
SUMMARY:Englisch 50+ für Fortgeschrittene (26F39C04) 
LOCATION:KVW Kursraum Brixen, Hofgasse 2, 39042 Brixen
END:VEVENT
BEGIN:VEVENT
DTSTAMP:20260420T103244
DTSTART;TZID=Europe/Berlin:20260324T103000
DTEND;TZID=Europe/Berlin:20260324T120000
UID:26F39C04-20260324T103000@KVW BIBOZEN
SUMMARY:Englisch 50+ für Fortgeschrittene (26F39C04) 
LOCATION:KVW Kursraum Brixen, Hofgasse 2, 39042 Brixen
END:VEVENT
BEGIN:VEVENT
DTSTAMP:20260420T103244
DTSTART;TZID=Europe/Berlin:20260331T103000
DTEND;TZID=Europe/Berlin:20260331T120000
UID:26F39C04-20260331T103000@KVW BIBOZEN
SUMMARY:Englisch 50+ für Fortgeschrittene (26F39C04) 
LOCATION:KVW Kursraum Brixen, Hofgasse 2, 39042 Brixen
END:VEVENT
BEGIN:VEVENT
DTSTAMP:20260420T103244
DTSTART;TZID=Europe/Berlin:20260428T103000
DTEND;TZID=Europe/Berlin:20260428T120000
UID:26F39C04-20260428T103000@KVW BIBOZEN
SUMMARY:Englisch 50+ für Fortgeschrittene (26F39C04) 
LOCATION:KVW Kursraum Brixen, Hofgasse 2, 39042 Brixen
END:VEVENT
BEGIN:VEVENT
DTSTAMP:20260420T103244
DTSTART;TZID=Europe/Berlin:20260505T103000
DTEND;TZID=Europe/Berlin:20260505T120000
UID:26F39C04-20260505T103000@KVW BIBOZEN
SUMMARY:Englisch 50+ für Fortgeschrittene (26F39C04) 
LOCATION:KVW Kursraum Brixen, Hofgasse 2, 39042 Brixen
END:VEVENT
END:VCALENDAR