BEGIN:VCALENDAR
PRODID:http://www.kufer.de/kuferweb / DE
VERSION:2.0
METHOD:PUBLISH
CALSCALE:GREGORIAN
X-WR-TIMEZONE:Europe/Berlin
BEGIN:VTIMEZONE
TZID:Europe/Berlin
X-LIC-LOCATION:Europe/Berlin
BEGIN:DAYLIGHT
TZOFFSETFROM:+0100
TZOFFSETTO:+0200
TZNAME:CEST
DTSTART;TZID=Europe/Berlin:19700329T020000
RRULE:FREQ=YEARLY;INTERVAL=1;BYDAY=-1SU;BYMONTH=3
END:DAYLIGHT
BEGIN:STANDARD
TZOFFSETFROM:+0200
TZOFFSETTO:+0100
TZNAME:CET
DTSTART;TZID=Europe/Berlin:19701025T030000
RRULE:FREQ=YEARLY;INTERVAL=1;BYDAY=-1SU;BYMONTH=10
END:STANDARD
END:VTIMEZONE
BEGIN:VEVENT
DTSTAMP:20260420T103356
DTSTART;TZID=Europe/Berlin:20260202T163000
DTEND;TZID=Europe/Berlin:20260202T180000
UID:26F39C05-20260202T163000@KVW BIBOZEN
SUMMARY:ONLINE Konversationskurs Englisch (ab Kursniveau B1) (26F39C05) 
LOCATION:virtueller Kursraum, , 
END:VEVENT
BEGIN:VEVENT
DTSTAMP:20260420T103356
DTSTART;TZID=Europe/Berlin:20260209T163000
DTEND;TZID=Europe/Berlin:20260209T180000
UID:26F39C05-20260209T163000@KVW BIBOZEN
SUMMARY:ONLINE Konversationskurs Englisch (ab Kursniveau B1) (26F39C05) 
LOCATION:virtueller Kursraum, , 
END:VEVENT
BEGIN:VEVENT
DTSTAMP:20260420T103356
DTSTART;TZID=Europe/Berlin:20260223T163000
DTEND;TZID=Europe/Berlin:20260223T180000
UID:26F39C05-20260223T163000@KVW BIBOZEN
SUMMARY:ONLINE Konversationskurs Englisch (ab Kursniveau B1) (26F39C05) 
LOCATION:virtueller Kursraum, , 
END:VEVENT
BEGIN:VEVENT
DTSTAMP:20260420T103356
DTSTART;TZID=Europe/Berlin:20260302T163000
DTEND;TZID=Europe/Berlin:20260302T180000
UID:26F39C05-20260302T163000@KVW BIBOZEN
SUMMARY:ONLINE Konversationskurs Englisch (ab Kursniveau B1) (26F39C05) 
LOCATION:virtueller Kursraum, , 
END:VEVENT
BEGIN:VEVENT
DTSTAMP:20260420T103356
DTSTART;TZID=Europe/Berlin:20260309T163000
DTEND;TZID=Europe/Berlin:20260309T180000
UID:26F39C05-20260309T163000@KVW BIBOZEN
SUMMARY:ONLINE Konversationskurs Englisch (ab Kursniveau B1) (26F39C05) 
LOCATION:virtueller Kursraum, , 
END:VEVENT
BEGIN:VEVENT
DTSTAMP:20260420T103356
DTSTART;TZID=Europe/Berlin:20260316T163000
DTEND;TZID=Europe/Berlin:20260316T180000
UID:26F39C05-20260316T163000@KVW BIBOZEN
SUMMARY:ONLINE Konversationskurs Englisch (ab Kursniveau B1) (26F39C05) 
LOCATION:virtueller Kursraum, , 
END:VEVENT
BEGIN:VEVENT
DTSTAMP:20260420T103356
DTSTART;TZID=Europe/Berlin:20260323T163000
DTEND;TZID=Europe/Berlin:20260323T180000
UID:26F39C05-20260323T163000@KVW BIBOZEN
SUMMARY:ONLINE Konversationskurs Englisch (ab Kursniveau B1) (26F39C05) 
LOCATION:virtueller Kursraum, , 
END:VEVENT
BEGIN:VEVENT
DTSTAMP:20260420T103356
DTSTART;TZID=Europe/Berlin:20260330T163000
DTEND;TZID=Europe/Berlin:20260330T180000
UID:26F39C05-20260330T163000@KVW BIBOZEN
SUMMARY:ONLINE Konversationskurs Englisch (ab Kursniveau B1) (26F39C05) 
LOCATION:virtueller Kursraum, , 
END:VEVENT
BEGIN:VEVENT
DTSTAMP:20260420T103356
DTSTART;TZID=Europe/Berlin:20260420T163000
DTEND;TZID=Europe/Berlin:20260420T180000
UID:26F39C05-20260420T163000@KVW BIBOZEN
SUMMARY:ONLINE Konversationskurs Englisch (ab Kursniveau B1) (26F39C05) 
LOCATION:virtueller Kursraum, , 
END:VEVENT
BEGIN:VEVENT
DTSTAMP:20260420T103356
DTSTART;TZID=Europe/Berlin:20260427T163000
DTEND;TZID=Europe/Berlin:20260427T180000
UID:26F39C05-20260427T163000@KVW BIBOZEN
SUMMARY:ONLINE Konversationskurs Englisch (ab Kursniveau B1) (26F39C05) 
LOCATION:virtueller Kursraum, , 
END:VEVENT
END:VCALENDAR