BEGIN:VCALENDAR
PRODID:http://www.kufer.de/kuferweb / DE
VERSION:2.0
METHOD:PUBLISH
CALSCALE:GREGORIAN
X-WR-TIMEZONE:Europe/Berlin
BEGIN:VTIMEZONE
TZID:Europe/Berlin
X-LIC-LOCATION:Europe/Berlin
BEGIN:DAYLIGHT
TZOFFSETFROM:+0100
TZOFFSETTO:+0200
TZNAME:CEST
DTSTART;TZID=Europe/Berlin:19700329T020000
RRULE:FREQ=YEARLY;INTERVAL=1;BYDAY=-1SU;BYMONTH=3
END:DAYLIGHT
BEGIN:STANDARD
TZOFFSETFROM:+0200
TZOFFSETTO:+0100
TZNAME:CET
DTSTART;TZID=Europe/Berlin:19701025T030000
RRULE:FREQ=YEARLY;INTERVAL=1;BYDAY=-1SU;BYMONTH=10
END:STANDARD
END:VTIMEZONE
BEGIN:VEVENT
DTSTAMP:20260422T120939
DTSTART;TZID=Europe/Berlin:20260629T090000
DTEND;TZID=Europe/Berlin:20260629T160000
UID:26F39C13-20260629T090000@KVW BIBOZEN
SUMMARY:Dive into English English & swimming (26F39C13) 
LOCATION:Schwimmbad Acquarena Brixen, , 
END:VEVENT
BEGIN:VEVENT
DTSTAMP:20260422T120939
DTSTART;TZID=Europe/Berlin:20260630T090000
DTEND;TZID=Europe/Berlin:20260630T160000
UID:26F39C13-20260630T090000@KVW BIBOZEN
SUMMARY:Dive into English English & swimming (26F39C13) 
LOCATION:Schwimmbad Acquarena Brixen, , 
END:VEVENT
BEGIN:VEVENT
DTSTAMP:20260422T120939
DTSTART;TZID=Europe/Berlin:20260701T090000
DTEND;TZID=Europe/Berlin:20260701T160000
UID:26F39C13-20260701T090000@KVW BIBOZEN
SUMMARY:Dive into English English & swimming (26F39C13) 
LOCATION:Schwimmbad Acquarena Brixen, , 
END:VEVENT
BEGIN:VEVENT
DTSTAMP:20260422T120939
DTSTART;TZID=Europe/Berlin:20260702T090000
DTEND;TZID=Europe/Berlin:20260702T160000
UID:26F39C13-20260702T090000@KVW BIBOZEN
SUMMARY:Dive into English English & swimming (26F39C13) 
LOCATION:Schwimmbad Acquarena Brixen, , 
END:VEVENT
BEGIN:VEVENT
DTSTAMP:20260422T120939
DTSTART;TZID=Europe/Berlin:20260703T090000
DTEND;TZID=Europe/Berlin:20260703T160000
UID:26F39C13-20260703T090000@KVW BIBOZEN
SUMMARY:Dive into English English & swimming (26F39C13) 
LOCATION:Schwimmbad Acquarena Brixen, , 
END:VEVENT
BEGIN:VEVENT
DTSTAMP:20260422T120939
DTSTART;TZID=Europe/Berlin:20260706T090000
DTEND;TZID=Europe/Berlin:20260706T160000
UID:26F39C13-20260706T090000@KVW BIBOZEN
SUMMARY:Dive into English English & swimming (26F39C13) 
LOCATION:Schwimmbad Acquarena Brixen, , 
END:VEVENT
BEGIN:VEVENT
DTSTAMP:20260422T120939
DTSTART;TZID=Europe/Berlin:20260707T090000
DTEND;TZID=Europe/Berlin:20260707T160000
UID:26F39C13-20260707T090000@KVW BIBOZEN
SUMMARY:Dive into English English & swimming (26F39C13) 
LOCATION:Schwimmbad Acquarena Brixen, , 
END:VEVENT
BEGIN:VEVENT
DTSTAMP:20260422T120939
DTSTART;TZID=Europe/Berlin:20260708T090000
DTEND;TZID=Europe/Berlin:20260708T160000
UID:26F39C13-20260708T090000@KVW BIBOZEN
SUMMARY:Dive into English English & swimming (26F39C13) 
LOCATION:Schwimmbad Acquarena Brixen, , 
END:VEVENT
BEGIN:VEVENT
DTSTAMP:20260422T120939
DTSTART;TZID=Europe/Berlin:20260709T090000
DTEND;TZID=Europe/Berlin:20260709T160000
UID:26F39C13-20260709T090000@KVW BIBOZEN
SUMMARY:Dive into English English & swimming (26F39C13) 
LOCATION:Schwimmbad Acquarena Brixen, , 
END:VEVENT
BEGIN:VEVENT
DTSTAMP:20260422T120939
DTSTART;TZID=Europe/Berlin:20260710T090000
DTEND;TZID=Europe/Berlin:20260710T160000
UID:26F39C13-20260710T090000@KVW BIBOZEN
SUMMARY:Dive into English English & swimming (26F39C13) 
LOCATION:Schwimmbad Acquarena Brixen, , 
END:VEVENT
END:VCALENDAR