BEGIN:VCALENDAR
PRODID:http://www.kufer.de/kuferweb / DE
VERSION:2.0
METHOD:PUBLISH
CALSCALE:GREGORIAN
X-WR-TIMEZONE:Europe/Berlin
BEGIN:VTIMEZONE
TZID:Europe/Berlin
X-LIC-LOCATION:Europe/Berlin
BEGIN:DAYLIGHT
TZOFFSETFROM:+0100
TZOFFSETTO:+0200
TZNAME:CEST
DTSTART;TZID=Europe/Berlin:19700329T020000
RRULE:FREQ=YEARLY;INTERVAL=1;BYDAY=-1SU;BYMONTH=3
END:DAYLIGHT
BEGIN:STANDARD
TZOFFSETFROM:+0200
TZOFFSETTO:+0100
TZNAME:CET
DTSTART;TZID=Europe/Berlin:19701025T030000
RRULE:FREQ=YEARLY;INTERVAL=1;BYDAY=-1SU;BYMONTH=10
END:STANDARD
END:VTIMEZONE
BEGIN:VEVENT
DTSTAMP:20260420T121920
DTSTART;TZID=Europe/Berlin:20260720T090000
DTEND;TZID=Europe/Berlin:20260720T160000
UID:26F39C14-20260720T090000@KVW BIBOZEN
SUMMARY:Dive into English English & swimming (26F39C14) 
LOCATION:Schwimmbad Acquarena Brixen, , 
END:VEVENT
BEGIN:VEVENT
DTSTAMP:20260420T121920
DTSTART;TZID=Europe/Berlin:20260721T090000
DTEND;TZID=Europe/Berlin:20260721T160000
UID:26F39C14-20260721T090000@KVW BIBOZEN
SUMMARY:Dive into English English & swimming (26F39C14) 
LOCATION:Schwimmbad Acquarena Brixen, , 
END:VEVENT
BEGIN:VEVENT
DTSTAMP:20260420T121920
DTSTART;TZID=Europe/Berlin:20260722T090000
DTEND;TZID=Europe/Berlin:20260722T160000
UID:26F39C14-20260722T090000@KVW BIBOZEN
SUMMARY:Dive into English English & swimming (26F39C14) 
LOCATION:Schwimmbad Acquarena Brixen, , 
END:VEVENT
BEGIN:VEVENT
DTSTAMP:20260420T121920
DTSTART;TZID=Europe/Berlin:20260723T090000
DTEND;TZID=Europe/Berlin:20260723T160000
UID:26F39C14-20260723T090000@KVW BIBOZEN
SUMMARY:Dive into English English & swimming (26F39C14) 
LOCATION:Schwimmbad Acquarena Brixen, , 
END:VEVENT
BEGIN:VEVENT
DTSTAMP:20260420T121920
DTSTART;TZID=Europe/Berlin:20260724T090000
DTEND;TZID=Europe/Berlin:20260724T160000
UID:26F39C14-20260724T090000@KVW BIBOZEN
SUMMARY:Dive into English English & swimming (26F39C14) 
LOCATION:Schwimmbad Acquarena Brixen, , 
END:VEVENT
BEGIN:VEVENT
DTSTAMP:20260420T121920
DTSTART;TZID=Europe/Berlin:20260727T090000
DTEND;TZID=Europe/Berlin:20260727T160000
UID:26F39C14-20260727T090000@KVW BIBOZEN
SUMMARY:Dive into English English & swimming (26F39C14) 
LOCATION:Schwimmbad Acquarena Brixen, , 
END:VEVENT
BEGIN:VEVENT
DTSTAMP:20260420T121920
DTSTART;TZID=Europe/Berlin:20260728T090000
DTEND;TZID=Europe/Berlin:20260728T160000
UID:26F39C14-20260728T090000@KVW BIBOZEN
SUMMARY:Dive into English English & swimming (26F39C14) 
LOCATION:Schwimmbad Acquarena Brixen, , 
END:VEVENT
BEGIN:VEVENT
DTSTAMP:20260420T121920
DTSTART;TZID=Europe/Berlin:20260729T090000
DTEND;TZID=Europe/Berlin:20260729T160000
UID:26F39C14-20260729T090000@KVW BIBOZEN
SUMMARY:Dive into English English & swimming (26F39C14) 
LOCATION:Schwimmbad Acquarena Brixen, , 
END:VEVENT
BEGIN:VEVENT
DTSTAMP:20260420T121920
DTSTART;TZID=Europe/Berlin:20260730T090000
DTEND;TZID=Europe/Berlin:20260730T160000
UID:26F39C14-20260730T090000@KVW BIBOZEN
SUMMARY:Dive into English English & swimming (26F39C14) 
LOCATION:Schwimmbad Acquarena Brixen, , 
END:VEVENT
BEGIN:VEVENT
DTSTAMP:20260420T121920
DTSTART;TZID=Europe/Berlin:20260731T090000
DTEND;TZID=Europe/Berlin:20260731T160000
UID:26F39C14-20260731T090000@KVW BIBOZEN
SUMMARY:Dive into English English & swimming (26F39C14) 
LOCATION:Schwimmbad Acquarena Brixen, , 
END:VEVENT
END:VCALENDAR