BEGIN:VCALENDAR
PRODID:http://www.kufer.de/kuferweb / DE
VERSION:2.0
METHOD:PUBLISH
CALSCALE:GREGORIAN
X-WR-TIMEZONE:Europe/Berlin
BEGIN:VTIMEZONE
TZID:Europe/Berlin
X-LIC-LOCATION:Europe/Berlin
BEGIN:DAYLIGHT
TZOFFSETFROM:+0100
TZOFFSETTO:+0200
TZNAME:CEST
DTSTART;TZID=Europe/Berlin:19700329T020000
RRULE:FREQ=YEARLY;INTERVAL=1;BYDAY=-1SU;BYMONTH=3
END:DAYLIGHT
BEGIN:STANDARD
TZOFFSETFROM:+0200
TZOFFSETTO:+0100
TZNAME:CET
DTSTART;TZID=Europe/Berlin:19701025T030000
RRULE:FREQ=YEARLY;INTERVAL=1;BYDAY=-1SU;BYMONTH=10
END:STANDARD
END:VTIMEZONE
BEGIN:VEVENT
DTSTAMP:20260422T120810
DTSTART;TZID=Europe/Berlin:20260803T090000
DTEND;TZID=Europe/Berlin:20260803T160000
UID:26F39C15-20260803T090000@KVW BIBOZEN
SUMMARY:Dive into English English & swimming (26F39C15) 
LOCATION:Schwimmbad Acquarena Brixen, , 
END:VEVENT
BEGIN:VEVENT
DTSTAMP:20260422T120810
DTSTART;TZID=Europe/Berlin:20260804T090000
DTEND;TZID=Europe/Berlin:20260804T160000
UID:26F39C15-20260804T090000@KVW BIBOZEN
SUMMARY:Dive into English English & swimming (26F39C15) 
LOCATION:Schwimmbad Acquarena Brixen, , 
END:VEVENT
BEGIN:VEVENT
DTSTAMP:20260422T120810
DTSTART;TZID=Europe/Berlin:20260805T090000
DTEND;TZID=Europe/Berlin:20260805T160000
UID:26F39C15-20260805T090000@KVW BIBOZEN
SUMMARY:Dive into English English & swimming (26F39C15) 
LOCATION:Schwimmbad Acquarena Brixen, , 
END:VEVENT
BEGIN:VEVENT
DTSTAMP:20260422T120810
DTSTART;TZID=Europe/Berlin:20260806T090000
DTEND;TZID=Europe/Berlin:20260806T160000
UID:26F39C15-20260806T090000@KVW BIBOZEN
SUMMARY:Dive into English English & swimming (26F39C15) 
LOCATION:Schwimmbad Acquarena Brixen, , 
END:VEVENT
BEGIN:VEVENT
DTSTAMP:20260422T120810
DTSTART;TZID=Europe/Berlin:20260807T090000
DTEND;TZID=Europe/Berlin:20260807T160000
UID:26F39C15-20260807T090000@KVW BIBOZEN
SUMMARY:Dive into English English & swimming (26F39C15) 
LOCATION:Schwimmbad Acquarena Brixen, , 
END:VEVENT
BEGIN:VEVENT
DTSTAMP:20260422T120810
DTSTART;TZID=Europe/Berlin:20260810T090000
DTEND;TZID=Europe/Berlin:20260810T160000
UID:26F39C15-20260810T090000@KVW BIBOZEN
SUMMARY:Dive into English English & swimming (26F39C15) 
LOCATION:Schwimmbad Acquarena Brixen, , 
END:VEVENT
BEGIN:VEVENT
DTSTAMP:20260422T120810
DTSTART;TZID=Europe/Berlin:20260811T090000
DTEND;TZID=Europe/Berlin:20260811T160000
UID:26F39C15-20260811T090000@KVW BIBOZEN
SUMMARY:Dive into English English & swimming (26F39C15) 
LOCATION:Schwimmbad Acquarena Brixen, , 
END:VEVENT
BEGIN:VEVENT
DTSTAMP:20260422T120810
DTSTART;TZID=Europe/Berlin:20260812T090000
DTEND;TZID=Europe/Berlin:20260812T160000
UID:26F39C15-20260812T090000@KVW BIBOZEN
SUMMARY:Dive into English English & swimming (26F39C15) 
LOCATION:Schwimmbad Acquarena Brixen, , 
END:VEVENT
BEGIN:VEVENT
DTSTAMP:20260422T120810
DTSTART;TZID=Europe/Berlin:20260813T090000
DTEND;TZID=Europe/Berlin:20260813T160000
UID:26F39C15-20260813T090000@KVW BIBOZEN
SUMMARY:Dive into English English & swimming (26F39C15) 
LOCATION:Schwimmbad Acquarena Brixen, , 
END:VEVENT
BEGIN:VEVENT
DTSTAMP:20260422T120810
DTSTART;TZID=Europe/Berlin:20260814T090000
DTEND;TZID=Europe/Berlin:20260814T160000
UID:26F39C15-20260814T090000@KVW BIBOZEN
SUMMARY:Dive into English English & swimming (26F39C15) 
LOCATION:Schwimmbad Acquarena Brixen, , 
END:VEVENT
END:VCALENDAR