BEGIN:VCALENDAR
PRODID:http://www.kufer.de/kuferweb / DE
VERSION:2.0
METHOD:PUBLISH
CALSCALE:GREGORIAN
X-WR-TIMEZONE:Europe/Berlin
BEGIN:VTIMEZONE
TZID:Europe/Berlin
X-LIC-LOCATION:Europe/Berlin
BEGIN:DAYLIGHT
TZOFFSETFROM:+0100
TZOFFSETTO:+0200
TZNAME:CEST
DTSTART;TZID=Europe/Berlin:19700329T020000
RRULE:FREQ=YEARLY;INTERVAL=1;BYDAY=-1SU;BYMONTH=3
END:DAYLIGHT
BEGIN:STANDARD
TZOFFSETFROM:+0200
TZOFFSETTO:+0100
TZNAME:CET
DTSTART;TZID=Europe/Berlin:19701025T030000
RRULE:FREQ=YEARLY;INTERVAL=1;BYDAY=-1SU;BYMONTH=10
END:STANDARD
END:VTIMEZONE
BEGIN:VEVENT
DTSTAMP:20260420T110142
DTSTART;TZID=Europe/Berlin:20260225T173000
DTEND;TZID=Europe/Berlin:20260225T191000
UID:26F39C17-20260225T173000@KVW BIBOZEN
SUMMARY:PRÄSENZ & ONLINE English conversation and vocabulary building Ab Kursniveau B1. (26F39C17) 
LOCATION:KVW Kursraum Pustertal, Via Dante Alighieri 1, 39031 Bruneck
END:VEVENT
BEGIN:VEVENT
DTSTAMP:20260420T110142
DTSTART;TZID=Europe/Berlin:20260304T173000
DTEND;TZID=Europe/Berlin:20260304T191000
UID:26F39C17-20260304T173000@KVW BIBOZEN
SUMMARY:PRÄSENZ & ONLINE English conversation and vocabulary building Ab Kursniveau B1. (26F39C17) 
LOCATION:KVW virtueller Kursraum 6, , 
END:VEVENT
BEGIN:VEVENT
DTSTAMP:20260420T110142
DTSTART;TZID=Europe/Berlin:20260311T173000
DTEND;TZID=Europe/Berlin:20260311T191000
UID:26F39C17-20260311T173000@KVW BIBOZEN
SUMMARY:PRÄSENZ & ONLINE English conversation and vocabulary building Ab Kursniveau B1. (26F39C17) 
LOCATION:KVW virtueller Kursraum 6, , 
END:VEVENT
BEGIN:VEVENT
DTSTAMP:20260420T110142
DTSTART;TZID=Europe/Berlin:20260318T173000
DTEND;TZID=Europe/Berlin:20260318T191000
UID:26F39C17-20260318T173000@KVW BIBOZEN
SUMMARY:PRÄSENZ & ONLINE English conversation and vocabulary building Ab Kursniveau B1. (26F39C17) 
LOCATION:KVW virtueller Kursraum 6, , 
END:VEVENT
BEGIN:VEVENT
DTSTAMP:20260420T110142
DTSTART;TZID=Europe/Berlin:20260325T173000
DTEND;TZID=Europe/Berlin:20260325T191000
UID:26F39C17-20260325T173000@KVW BIBOZEN
SUMMARY:PRÄSENZ & ONLINE English conversation and vocabulary building Ab Kursniveau B1. (26F39C17) 
LOCATION:KVW virtueller Kursraum 6, , 
END:VEVENT
BEGIN:VEVENT
DTSTAMP:20260420T110142
DTSTART;TZID=Europe/Berlin:20260401T173000
DTEND;TZID=Europe/Berlin:20260401T191000
UID:26F39C17-20260401T173000@KVW BIBOZEN
SUMMARY:PRÄSENZ & ONLINE English conversation and vocabulary building Ab Kursniveau B1. (26F39C17) 
LOCATION:KVW virtueller Kursraum 6, , 
END:VEVENT
BEGIN:VEVENT
DTSTAMP:20260420T110142
DTSTART;TZID=Europe/Berlin:20260408T173000
DTEND;TZID=Europe/Berlin:20260408T191000
UID:26F39C17-20260408T173000@KVW BIBOZEN
SUMMARY:PRÄSENZ & ONLINE English conversation and vocabulary building Ab Kursniveau B1. (26F39C17) 
LOCATION:KVW virtueller Kursraum 6, , 
END:VEVENT
BEGIN:VEVENT
DTSTAMP:20260420T110142
DTSTART;TZID=Europe/Berlin:20260415T173000
DTEND;TZID=Europe/Berlin:20260415T191000
UID:26F39C17-20260415T173000@KVW BIBOZEN
SUMMARY:PRÄSENZ & ONLINE English conversation and vocabulary building Ab Kursniveau B1. (26F39C17) 
LOCATION:KVW virtueller Kursraum 6, , 
END:VEVENT
BEGIN:VEVENT
DTSTAMP:20260420T110142
DTSTART;TZID=Europe/Berlin:20260422T173000
DTEND;TZID=Europe/Berlin:20260422T191000
UID:26F39C17-20260422T173000@KVW BIBOZEN
SUMMARY:PRÄSENZ & ONLINE English conversation and vocabulary building Ab Kursniveau B1. (26F39C17) 
LOCATION:KVW Kursraum Pustertal, Via Dante Alighieri 1, 39031 Bruneck
END:VEVENT
BEGIN:VEVENT
DTSTAMP:20260420T110142
DTSTART;TZID=Europe/Berlin:20260429T173000
DTEND;TZID=Europe/Berlin:20260429T191000
UID:26F39C17-20260429T173000@KVW BIBOZEN
SUMMARY:PRÄSENZ & ONLINE English conversation and vocabulary building Ab Kursniveau B1. (26F39C17) 
LOCATION:KVW Kursraum Pustertal, Via Dante Alighieri 1, 39031 Bruneck
END:VEVENT
BEGIN:VEVENT
DTSTAMP:20260420T110142
DTSTART;TZID=Europe/Berlin:20260506T173000
DTEND;TZID=Europe/Berlin:20260506T191000
UID:26F39C17-20260506T173000@KVW BIBOZEN
SUMMARY:PRÄSENZ & ONLINE English conversation and vocabulary building Ab Kursniveau B1. (26F39C17) 
LOCATION:KVW Kursraum Pustertal, Via Dante Alighieri 1, 39031 Bruneck
END:VEVENT
BEGIN:VEVENT
DTSTAMP:20260420T110142
DTSTART;TZID=Europe/Berlin:20260513T173000
DTEND;TZID=Europe/Berlin:20260513T191000
UID:26F39C17-20260513T173000@KVW BIBOZEN
SUMMARY:PRÄSENZ & ONLINE English conversation and vocabulary building Ab Kursniveau B1. (26F39C17) 
LOCATION:KVW Kursraum Pustertal, Via Dante Alighieri 1, 39031 Bruneck
END:VEVENT
END:VCALENDAR