BEGIN:VCALENDAR
PRODID:http://www.kufer.de/kuferweb / DE
VERSION:2.0
METHOD:PUBLISH
CALSCALE:GREGORIAN
X-WR-TIMEZONE:Europe/Berlin
BEGIN:VTIMEZONE
TZID:Europe/Berlin
X-LIC-LOCATION:Europe/Berlin
BEGIN:DAYLIGHT
TZOFFSETFROM:+0100
TZOFFSETTO:+0200
TZNAME:CEST
DTSTART;TZID=Europe/Berlin:19700329T020000
RRULE:FREQ=YEARLY;INTERVAL=1;BYDAY=-1SU;BYMONTH=3
END:DAYLIGHT
BEGIN:STANDARD
TZOFFSETFROM:+0200
TZOFFSETTO:+0100
TZNAME:CET
DTSTART;TZID=Europe/Berlin:19701025T030000
RRULE:FREQ=YEARLY;INTERVAL=1;BYDAY=-1SU;BYMONTH=10
END:STANDARD
END:VTIMEZONE
BEGIN:VEVENT
DTSTAMP:20260420T103631
DTSTART;TZID=Europe/Berlin:20260506T183000
DTEND;TZID=Europe/Berlin:20260506T200000
UID:26F39C21-20260506T183000@KVW BIBOZEN
SUMMARY:English for holidays. Englisch für die Reise für AnfängerInnen - Kompaktkurs (26F39C21) 
LOCATION:Mittelschule Carl Wolf, Karl-Wolf-Straße 30, 39012 Meran
END:VEVENT
BEGIN:VEVENT
DTSTAMP:20260420T103631
DTSTART;TZID=Europe/Berlin:20260508T183000
DTEND;TZID=Europe/Berlin:20260508T200000
UID:26F39C21-20260508T183000@KVW BIBOZEN
SUMMARY:English for holidays. Englisch für die Reise für AnfängerInnen - Kompaktkurs (26F39C21) 
LOCATION:Mittelschule Carl Wolf, Karl-Wolf-Straße 30, 39012 Meran
END:VEVENT
BEGIN:VEVENT
DTSTAMP:20260420T103631
DTSTART;TZID=Europe/Berlin:20260513T183000
DTEND;TZID=Europe/Berlin:20260513T200000
UID:26F39C21-20260513T183000@KVW BIBOZEN
SUMMARY:English for holidays. Englisch für die Reise für AnfängerInnen - Kompaktkurs (26F39C21) 
LOCATION:Mittelschule Carl Wolf, Karl-Wolf-Straße 30, 39012 Meran
END:VEVENT
BEGIN:VEVENT
DTSTAMP:20260420T103631
DTSTART;TZID=Europe/Berlin:20260515T183000
DTEND;TZID=Europe/Berlin:20260515T200000
UID:26F39C21-20260515T183000@KVW BIBOZEN
SUMMARY:English for holidays. Englisch für die Reise für AnfängerInnen - Kompaktkurs (26F39C21) 
LOCATION:Mittelschule Carl Wolf, Karl-Wolf-Straße 30, 39012 Meran
END:VEVENT
BEGIN:VEVENT
DTSTAMP:20260420T103631
DTSTART;TZID=Europe/Berlin:20260520T183000
DTEND;TZID=Europe/Berlin:20260520T200000
UID:26F39C21-20260520T183000@KVW BIBOZEN
SUMMARY:English for holidays. Englisch für die Reise für AnfängerInnen - Kompaktkurs (26F39C21) 
LOCATION:Mittelschule Carl Wolf, Karl-Wolf-Straße 30, 39012 Meran
END:VEVENT
BEGIN:VEVENT
DTSTAMP:20260420T103631
DTSTART;TZID=Europe/Berlin:20260522T183000
DTEND;TZID=Europe/Berlin:20260522T200000
UID:26F39C21-20260522T183000@KVW BIBOZEN
SUMMARY:English for holidays. Englisch für die Reise für AnfängerInnen - Kompaktkurs (26F39C21) 
LOCATION:Mittelschule Carl Wolf, Karl-Wolf-Straße 30, 39012 Meran
END:VEVENT
BEGIN:VEVENT
DTSTAMP:20260420T103631
DTSTART;TZID=Europe/Berlin:20260527T183000
DTEND;TZID=Europe/Berlin:20260527T200000
UID:26F39C21-20260527T183000@KVW BIBOZEN
SUMMARY:English for holidays. Englisch für die Reise für AnfängerInnen - Kompaktkurs (26F39C21) 
LOCATION:Mittelschule Carl Wolf, Karl-Wolf-Straße 30, 39012 Meran
END:VEVENT
BEGIN:VEVENT
DTSTAMP:20260420T103631
DTSTART;TZID=Europe/Berlin:20260529T183000
DTEND;TZID=Europe/Berlin:20260529T200000
UID:26F39C21-20260529T183000@KVW BIBOZEN
SUMMARY:English for holidays. Englisch für die Reise für AnfängerInnen - Kompaktkurs (26F39C21) 
LOCATION:Mittelschule Carl Wolf, Karl-Wolf-Straße 30, 39012 Meran
END:VEVENT
END:VCALENDAR