BEGIN:VCALENDAR
PRODID:http://www.kufer.de/kuferweb / DE
VERSION:2.0
METHOD:PUBLISH
CALSCALE:GREGORIAN
X-WR-TIMEZONE:Europe/Berlin
BEGIN:VTIMEZONE
TZID:Europe/Berlin
X-LIC-LOCATION:Europe/Berlin
BEGIN:DAYLIGHT
TZOFFSETFROM:+0100
TZOFFSETTO:+0200
TZNAME:CEST
DTSTART;TZID=Europe/Berlin:19700329T020000
RRULE:FREQ=YEARLY;INTERVAL=1;BYDAY=-1SU;BYMONTH=3
END:DAYLIGHT
BEGIN:STANDARD
TZOFFSETFROM:+0200
TZOFFSETTO:+0100
TZNAME:CET
DTSTART;TZID=Europe/Berlin:19701025T030000
RRULE:FREQ=YEARLY;INTERVAL=1;BYDAY=-1SU;BYMONTH=10
END:STANDARD
END:VTIMEZONE
BEGIN:VEVENT
DTSTAMP:20260420T103357
DTSTART;TZID=Europe/Berlin:20260211T084500
DTEND;TZID=Europe/Berlin:20260211T101500
UID:26F39C23-20260211T084500@KVW BIBOZEN
SUMMARY:Englisch für AnfängerInnen (Teil 2) (26F39C23) 
LOCATION:urania-Haus, Ortweinstraße 6, 39012 Meran
END:VEVENT
BEGIN:VEVENT
DTSTAMP:20260420T103357
DTSTART;TZID=Europe/Berlin:20260225T084500
DTEND;TZID=Europe/Berlin:20260225T101500
UID:26F39C23-20260225T084500@KVW BIBOZEN
SUMMARY:Englisch für AnfängerInnen (Teil 2) (26F39C23) 
LOCATION:urania-Haus, Ortweinstraße 6, 39012 Meran
END:VEVENT
BEGIN:VEVENT
DTSTAMP:20260420T103357
DTSTART;TZID=Europe/Berlin:20260304T084500
DTEND;TZID=Europe/Berlin:20260304T101500
UID:26F39C23-20260304T084500@KVW BIBOZEN
SUMMARY:Englisch für AnfängerInnen (Teil 2) (26F39C23) 
LOCATION:urania-Haus, Ortweinstraße 6, 39012 Meran
END:VEVENT
BEGIN:VEVENT
DTSTAMP:20260420T103357
DTSTART;TZID=Europe/Berlin:20260311T084500
DTEND;TZID=Europe/Berlin:20260311T101500
UID:26F39C23-20260311T084500@KVW BIBOZEN
SUMMARY:Englisch für AnfängerInnen (Teil 2) (26F39C23) 
LOCATION:urania-Haus, Ortweinstraße 6, 39012 Meran
END:VEVENT
BEGIN:VEVENT
DTSTAMP:20260420T103357
DTSTART;TZID=Europe/Berlin:20260318T084500
DTEND;TZID=Europe/Berlin:20260318T101500
UID:26F39C23-20260318T084500@KVW BIBOZEN
SUMMARY:Englisch für AnfängerInnen (Teil 2) (26F39C23) 
LOCATION:urania-Haus, Ortweinstraße 6, 39012 Meran
END:VEVENT
BEGIN:VEVENT
DTSTAMP:20260420T103357
DTSTART;TZID=Europe/Berlin:20260325T084500
DTEND;TZID=Europe/Berlin:20260325T101500
UID:26F39C23-20260325T084500@KVW BIBOZEN
SUMMARY:Englisch für AnfängerInnen (Teil 2) (26F39C23) 
LOCATION:urania-Haus, Ortweinstraße 6, 39012 Meran
END:VEVENT
BEGIN:VEVENT
DTSTAMP:20260420T103357
DTSTART;TZID=Europe/Berlin:20260401T084500
DTEND;TZID=Europe/Berlin:20260401T101500
UID:26F39C23-20260401T084500@KVW BIBOZEN
SUMMARY:Englisch für AnfängerInnen (Teil 2) (26F39C23) 
LOCATION:urania-Haus, Ortweinstraße 6, 39012 Meran
END:VEVENT
BEGIN:VEVENT
DTSTAMP:20260420T103357
DTSTART;TZID=Europe/Berlin:20260408T084500
DTEND;TZID=Europe/Berlin:20260408T101500
UID:26F39C23-20260408T084500@KVW BIBOZEN
SUMMARY:Englisch für AnfängerInnen (Teil 2) (26F39C23) 
LOCATION:urania-Haus, Ortweinstraße 6, 39012 Meran
END:VEVENT
BEGIN:VEVENT
DTSTAMP:20260420T103357
DTSTART;TZID=Europe/Berlin:20260415T084500
DTEND;TZID=Europe/Berlin:20260415T101500
UID:26F39C23-20260415T084500@KVW BIBOZEN
SUMMARY:Englisch für AnfängerInnen (Teil 2) (26F39C23) 
LOCATION:urania-Haus, Ortweinstraße 6, 39012 Meran
END:VEVENT
BEGIN:VEVENT
DTSTAMP:20260420T103357
DTSTART;TZID=Europe/Berlin:20260422T084500
DTEND;TZID=Europe/Berlin:20260422T101500
UID:26F39C23-20260422T084500@KVW BIBOZEN
SUMMARY:Englisch für AnfängerInnen (Teil 2) (26F39C23) 
LOCATION:urania-Haus, Ortweinstraße 6, 39012 Meran
END:VEVENT
BEGIN:VEVENT
DTSTAMP:20260420T103357
DTSTART;TZID=Europe/Berlin:20260429T084500
DTEND;TZID=Europe/Berlin:20260429T101500
UID:26F39C23-20260429T084500@KVW BIBOZEN
SUMMARY:Englisch für AnfängerInnen (Teil 2) (26F39C23) 
LOCATION:urania-Haus, Ortweinstraße 6, 39012 Meran
END:VEVENT
BEGIN:VEVENT
DTSTAMP:20260420T103357
DTSTART;TZID=Europe/Berlin:20260506T084500
DTEND;TZID=Europe/Berlin:20260506T101500
UID:26F39C23-20260506T084500@KVW BIBOZEN
SUMMARY:Englisch für AnfängerInnen (Teil 2) (26F39C23) 
LOCATION:urania-Haus, Ortweinstraße 6, 39012 Meran
END:VEVENT
BEGIN:VEVENT
DTSTAMP:20260420T103357
DTSTART;TZID=Europe/Berlin:20260513T084500
DTEND;TZID=Europe/Berlin:20260513T101500
UID:26F39C23-20260513T084500@KVW BIBOZEN
SUMMARY:Englisch für AnfängerInnen (Teil 2) (26F39C23) 
LOCATION:urania-Haus, Ortweinstraße 6, 39012 Meran
END:VEVENT
BEGIN:VEVENT
DTSTAMP:20260420T103357
DTSTART;TZID=Europe/Berlin:20260520T084500
DTEND;TZID=Europe/Berlin:20260520T101500
UID:26F39C23-20260520T084500@KVW BIBOZEN
SUMMARY:Englisch für AnfängerInnen (Teil 2) (26F39C23) 
LOCATION:urania-Haus, Ortweinstraße 6, 39012 Meran
END:VEVENT
END:VCALENDAR