BEGIN:VCALENDAR
PRODID:http://www.kufer.de/kuferweb / DE
VERSION:2.0
METHOD:PUBLISH
CALSCALE:GREGORIAN
X-WR-TIMEZONE:Europe/Berlin
BEGIN:VTIMEZONE
TZID:Europe/Berlin
X-LIC-LOCATION:Europe/Berlin
BEGIN:DAYLIGHT
TZOFFSETFROM:+0100
TZOFFSETTO:+0200
TZNAME:CEST
DTSTART;TZID=Europe/Berlin:19700329T020000
RRULE:FREQ=YEARLY;INTERVAL=1;BYDAY=-1SU;BYMONTH=3
END:DAYLIGHT
BEGIN:STANDARD
TZOFFSETFROM:+0200
TZOFFSETTO:+0100
TZNAME:CET
DTSTART;TZID=Europe/Berlin:19701025T030000
RRULE:FREQ=YEARLY;INTERVAL=1;BYDAY=-1SU;BYMONTH=10
END:STANDARD
END:VTIMEZONE
BEGIN:VEVENT
DTSTAMP:20260420T121843
DTSTART;TZID=Europe/Berlin:20260225T181500
DTEND;TZID=Europe/Berlin:20260225T194500
UID:26F39C24-20260225T181500@KVW BIBOZEN
SUMMARY:Englisch für AnfängerInnen (Teil 2) (26F39C24) 
LOCATION:urania-Haus, Ortweinstraße 6, 39012 Meran
END:VEVENT
BEGIN:VEVENT
DTSTAMP:20260420T121843
DTSTART;TZID=Europe/Berlin:20260304T181500
DTEND;TZID=Europe/Berlin:20260304T194500
UID:26F39C24-20260304T181500@KVW BIBOZEN
SUMMARY:Englisch für AnfängerInnen (Teil 2) (26F39C24) 
LOCATION:urania-Haus, Ortweinstraße 6, 39012 Meran
END:VEVENT
BEGIN:VEVENT
DTSTAMP:20260420T121843
DTSTART;TZID=Europe/Berlin:20260311T181500
DTEND;TZID=Europe/Berlin:20260311T194500
UID:26F39C24-20260311T181500@KVW BIBOZEN
SUMMARY:Englisch für AnfängerInnen (Teil 2) (26F39C24) 
LOCATION:urania-Haus, Ortweinstraße 6, 39012 Meran
END:VEVENT
BEGIN:VEVENT
DTSTAMP:20260420T121843
DTSTART;TZID=Europe/Berlin:20260318T181500
DTEND;TZID=Europe/Berlin:20260318T194500
UID:26F39C24-20260318T181500@KVW BIBOZEN
SUMMARY:Englisch für AnfängerInnen (Teil 2) (26F39C24) 
LOCATION:urania-Haus, Ortweinstraße 6, 39012 Meran
END:VEVENT
BEGIN:VEVENT
DTSTAMP:20260420T121843
DTSTART;TZID=Europe/Berlin:20260325T181500
DTEND;TZID=Europe/Berlin:20260325T194500
UID:26F39C24-20260325T181500@KVW BIBOZEN
SUMMARY:Englisch für AnfängerInnen (Teil 2) (26F39C24) 
LOCATION:urania-Haus, Ortweinstraße 6, 39012 Meran
END:VEVENT
BEGIN:VEVENT
DTSTAMP:20260420T121843
DTSTART;TZID=Europe/Berlin:20260401T181500
DTEND;TZID=Europe/Berlin:20260401T194500
UID:26F39C24-20260401T181500@KVW BIBOZEN
SUMMARY:Englisch für AnfängerInnen (Teil 2) (26F39C24) 
LOCATION:urania-Haus, Ortweinstraße 6, 39012 Meran
END:VEVENT
BEGIN:VEVENT
DTSTAMP:20260420T121843
DTSTART;TZID=Europe/Berlin:20260408T181500
DTEND;TZID=Europe/Berlin:20260408T194500
UID:26F39C24-20260408T181500@KVW BIBOZEN
SUMMARY:Englisch für AnfängerInnen (Teil 2) (26F39C24) 
LOCATION:urania-Haus, Ortweinstraße 6, 39012 Meran
END:VEVENT
BEGIN:VEVENT
DTSTAMP:20260420T121843
DTSTART;TZID=Europe/Berlin:20260415T181500
DTEND;TZID=Europe/Berlin:20260415T194500
UID:26F39C24-20260415T181500@KVW BIBOZEN
SUMMARY:Englisch für AnfängerInnen (Teil 2) (26F39C24) 
LOCATION:urania-Haus, Ortweinstraße 6, 39012 Meran
END:VEVENT
BEGIN:VEVENT
DTSTAMP:20260420T121843
DTSTART;TZID=Europe/Berlin:20260422T181500
DTEND;TZID=Europe/Berlin:20260422T194500
UID:26F39C24-20260422T181500@KVW BIBOZEN
SUMMARY:Englisch für AnfängerInnen (Teil 2) (26F39C24) 
LOCATION:urania-Haus, Ortweinstraße 6, 39012 Meran
END:VEVENT
BEGIN:VEVENT
DTSTAMP:20260420T121843
DTSTART;TZID=Europe/Berlin:20260429T181500
DTEND;TZID=Europe/Berlin:20260429T194500
UID:26F39C24-20260429T181500@KVW BIBOZEN
SUMMARY:Englisch für AnfängerInnen (Teil 2) (26F39C24) 
LOCATION:urania-Haus, Ortweinstraße 6, 39012 Meran
END:VEVENT
BEGIN:VEVENT
DTSTAMP:20260420T121843
DTSTART;TZID=Europe/Berlin:20260506T181500
DTEND;TZID=Europe/Berlin:20260506T194500
UID:26F39C24-20260506T181500@KVW BIBOZEN
SUMMARY:Englisch für AnfängerInnen (Teil 2) (26F39C24) 
LOCATION:urania-Haus, Ortweinstraße 6, 39012 Meran
END:VEVENT
BEGIN:VEVENT
DTSTAMP:20260420T121843
DTSTART;TZID=Europe/Berlin:20260513T181500
DTEND;TZID=Europe/Berlin:20260513T194500
UID:26F39C24-20260513T181500@KVW BIBOZEN
SUMMARY:Englisch für AnfängerInnen (Teil 2) (26F39C24) 
LOCATION:urania-Haus, Ortweinstraße 6, 39012 Meran
END:VEVENT
END:VCALENDAR