BEGIN:VCALENDAR
PRODID:http://www.kufer.de/kuferweb / DE
VERSION:2.0
METHOD:PUBLISH
CALSCALE:GREGORIAN
X-WR-TIMEZONE:Europe/Berlin
BEGIN:VTIMEZONE
TZID:Europe/Berlin
X-LIC-LOCATION:Europe/Berlin
BEGIN:DAYLIGHT
TZOFFSETFROM:+0100
TZOFFSETTO:+0200
TZNAME:CEST
DTSTART;TZID=Europe/Berlin:19700329T020000
RRULE:FREQ=YEARLY;INTERVAL=1;BYDAY=-1SU;BYMONTH=3
END:DAYLIGHT
BEGIN:STANDARD
TZOFFSETFROM:+0200
TZOFFSETTO:+0100
TZNAME:CET
DTSTART;TZID=Europe/Berlin:19701025T030000
RRULE:FREQ=YEARLY;INTERVAL=1;BYDAY=-1SU;BYMONTH=10
END:STANDARD
END:VTIMEZONE
BEGIN:VEVENT
DTSTAMP:20260420T103427
DTSTART;TZID=Europe/Berlin:20260122T181500
DTEND;TZID=Europe/Berlin:20260122T194500
UID:26F39C26-20260122T181500@KVW BIBOZEN
SUMMARY:English Elementary  - Englisch für AnfängerInnen mit geringen Vorkenntnisse (26F39C26) 
LOCATION:urania-Haus, Ortweinstraße 6, 39012 Meran
END:VEVENT
BEGIN:VEVENT
DTSTAMP:20260420T103427
DTSTART;TZID=Europe/Berlin:20260129T181500
DTEND;TZID=Europe/Berlin:20260129T194500
UID:26F39C26-20260129T181500@KVW BIBOZEN
SUMMARY:English Elementary  - Englisch für AnfängerInnen mit geringen Vorkenntnisse (26F39C26) 
LOCATION:urania-Haus, Ortweinstraße 6, 39012 Meran
END:VEVENT
BEGIN:VEVENT
DTSTAMP:20260420T103427
DTSTART;TZID=Europe/Berlin:20260205T181500
DTEND;TZID=Europe/Berlin:20260205T194500
UID:26F39C26-20260205T181500@KVW BIBOZEN
SUMMARY:English Elementary  - Englisch für AnfängerInnen mit geringen Vorkenntnisse (26F39C26) 
LOCATION:urania-Haus, Ortweinstraße 6, 39012 Meran
END:VEVENT
BEGIN:VEVENT
DTSTAMP:20260420T103427
DTSTART;TZID=Europe/Berlin:20260226T181500
DTEND;TZID=Europe/Berlin:20260226T194500
UID:26F39C26-20260226T181500@KVW BIBOZEN
SUMMARY:English Elementary  - Englisch für AnfängerInnen mit geringen Vorkenntnisse (26F39C26) 
LOCATION:urania-Haus, Ortweinstraße 6, 39012 Meran
END:VEVENT
BEGIN:VEVENT
DTSTAMP:20260420T103427
DTSTART;TZID=Europe/Berlin:20260305T181500
DTEND;TZID=Europe/Berlin:20260305T194500
UID:26F39C26-20260305T181500@KVW BIBOZEN
SUMMARY:English Elementary  - Englisch für AnfängerInnen mit geringen Vorkenntnisse (26F39C26) 
LOCATION:urania-Haus, Ortweinstraße 6, 39012 Meran
END:VEVENT
BEGIN:VEVENT
DTSTAMP:20260420T103427
DTSTART;TZID=Europe/Berlin:20260312T181500
DTEND;TZID=Europe/Berlin:20260312T194500
UID:26F39C26-20260312T181500@KVW BIBOZEN
SUMMARY:English Elementary  - Englisch für AnfängerInnen mit geringen Vorkenntnisse (26F39C26) 
LOCATION:urania-Haus, Ortweinstraße 6, 39012 Meran
END:VEVENT
BEGIN:VEVENT
DTSTAMP:20260420T103427
DTSTART;TZID=Europe/Berlin:20260319T181500
DTEND;TZID=Europe/Berlin:20260319T194500
UID:26F39C26-20260319T181500@KVW BIBOZEN
SUMMARY:English Elementary  - Englisch für AnfängerInnen mit geringen Vorkenntnisse (26F39C26) 
LOCATION:urania-Haus, Ortweinstraße 6, 39012 Meran
END:VEVENT
BEGIN:VEVENT
DTSTAMP:20260420T103427
DTSTART;TZID=Europe/Berlin:20260326T181500
DTEND;TZID=Europe/Berlin:20260326T194500
UID:26F39C26-20260326T181500@KVW BIBOZEN
SUMMARY:English Elementary  - Englisch für AnfängerInnen mit geringen Vorkenntnisse (26F39C26) 
LOCATION:urania-Haus, Ortweinstraße 6, 39012 Meran
END:VEVENT
BEGIN:VEVENT
DTSTAMP:20260420T103427
DTSTART;TZID=Europe/Berlin:20260409T181500
DTEND;TZID=Europe/Berlin:20260409T194500
UID:26F39C26-20260409T181500@KVW BIBOZEN
SUMMARY:English Elementary  - Englisch für AnfängerInnen mit geringen Vorkenntnisse (26F39C26) 
LOCATION:urania-Haus, Ortweinstraße 6, 39012 Meran
END:VEVENT
BEGIN:VEVENT
DTSTAMP:20260420T103427
DTSTART;TZID=Europe/Berlin:20260416T181500
DTEND;TZID=Europe/Berlin:20260416T194500
UID:26F39C26-20260416T181500@KVW BIBOZEN
SUMMARY:English Elementary  - Englisch für AnfängerInnen mit geringen Vorkenntnisse (26F39C26) 
LOCATION:urania-Haus, Ortweinstraße 6, 39012 Meran
END:VEVENT
BEGIN:VEVENT
DTSTAMP:20260420T103427
DTSTART;TZID=Europe/Berlin:20260423T181500
DTEND;TZID=Europe/Berlin:20260423T194500
UID:26F39C26-20260423T181500@KVW BIBOZEN
SUMMARY:English Elementary  - Englisch für AnfängerInnen mit geringen Vorkenntnisse (26F39C26) 
LOCATION:urania-Haus, Ortweinstraße 6, 39012 Meran
END:VEVENT
BEGIN:VEVENT
DTSTAMP:20260420T103427
DTSTART;TZID=Europe/Berlin:20260430T181500
DTEND;TZID=Europe/Berlin:20260430T194500
UID:26F39C26-20260430T181500@KVW BIBOZEN
SUMMARY:English Elementary  - Englisch für AnfängerInnen mit geringen Vorkenntnisse (26F39C26) 
LOCATION:urania-Haus, Ortweinstraße 6, 39012 Meran
END:VEVENT
BEGIN:VEVENT
DTSTAMP:20260420T103427
DTSTART;TZID=Europe/Berlin:20260507T181500
DTEND;TZID=Europe/Berlin:20260507T194500
UID:26F39C26-20260507T181500@KVW BIBOZEN
SUMMARY:English Elementary  - Englisch für AnfängerInnen mit geringen Vorkenntnisse (26F39C26) 
LOCATION:urania-Haus, Ortweinstraße 6, 39012 Meran
END:VEVENT
BEGIN:VEVENT
DTSTAMP:20260420T103427
DTSTART;TZID=Europe/Berlin:20260514T181500
DTEND;TZID=Europe/Berlin:20260514T194500
UID:26F39C26-20260514T181500@KVW BIBOZEN
SUMMARY:English Elementary  - Englisch für AnfängerInnen mit geringen Vorkenntnisse (26F39C26) 
LOCATION:urania-Haus, Ortweinstraße 6, 39012 Meran
END:VEVENT
END:VCALENDAR