BEGIN:VCALENDAR
PRODID:http://www.kufer.de/kuferweb / DE
VERSION:2.0
METHOD:PUBLISH
CALSCALE:GREGORIAN
X-WR-TIMEZONE:Europe/Berlin
BEGIN:VTIMEZONE
TZID:Europe/Berlin
X-LIC-LOCATION:Europe/Berlin
BEGIN:DAYLIGHT
TZOFFSETFROM:+0100
TZOFFSETTO:+0200
TZNAME:CEST
DTSTART;TZID=Europe/Berlin:19700329T020000
RRULE:FREQ=YEARLY;INTERVAL=1;BYDAY=-1SU;BYMONTH=3
END:DAYLIGHT
BEGIN:STANDARD
TZOFFSETFROM:+0200
TZOFFSETTO:+0100
TZNAME:CET
DTSTART;TZID=Europe/Berlin:19701025T030000
RRULE:FREQ=YEARLY;INTERVAL=1;BYDAY=-1SU;BYMONTH=10
END:STANDARD
END:VTIMEZONE
BEGIN:VEVENT
DTSTAMP:20260420T103326
DTSTART;TZID=Europe/Berlin:20260127T093000
DTEND;TZID=Europe/Berlin:20260127T110000
UID:26F39C32-20260127T093000@KVW BIBOZEN
SUMMARY:English Intermediate (26F39C32) 
LOCATION:urania-Haus, Ortweinstraße 6, 39012 Meran
END:VEVENT
BEGIN:VEVENT
DTSTAMP:20260420T103326
DTSTART;TZID=Europe/Berlin:20260203T093000
DTEND;TZID=Europe/Berlin:20260203T110000
UID:26F39C32-20260203T093000@KVW BIBOZEN
SUMMARY:English Intermediate (26F39C32) 
LOCATION:urania-Haus, Ortweinstraße 6, 39012 Meran
END:VEVENT
BEGIN:VEVENT
DTSTAMP:20260420T103326
DTSTART;TZID=Europe/Berlin:20260210T093000
DTEND;TZID=Europe/Berlin:20260210T110000
UID:26F39C32-20260210T093000@KVW BIBOZEN
SUMMARY:English Intermediate (26F39C32) 
LOCATION:urania-Haus, Ortweinstraße 6, 39012 Meran
END:VEVENT
BEGIN:VEVENT
DTSTAMP:20260420T103326
DTSTART;TZID=Europe/Berlin:20260224T093000
DTEND;TZID=Europe/Berlin:20260224T110000
UID:26F39C32-20260224T093000@KVW BIBOZEN
SUMMARY:English Intermediate (26F39C32) 
LOCATION:urania-Haus, Ortweinstraße 6, 39012 Meran
END:VEVENT
BEGIN:VEVENT
DTSTAMP:20260420T103326
DTSTART;TZID=Europe/Berlin:20260303T093000
DTEND;TZID=Europe/Berlin:20260303T110000
UID:26F39C32-20260303T093000@KVW BIBOZEN
SUMMARY:English Intermediate (26F39C32) 
LOCATION:urania-Haus, Ortweinstraße 6, 39012 Meran
END:VEVENT
BEGIN:VEVENT
DTSTAMP:20260420T103326
DTSTART;TZID=Europe/Berlin:20260310T093000
DTEND;TZID=Europe/Berlin:20260310T110000
UID:26F39C32-20260310T093000@KVW BIBOZEN
SUMMARY:English Intermediate (26F39C32) 
LOCATION:urania-Haus, Ortweinstraße 6, 39012 Meran
END:VEVENT
BEGIN:VEVENT
DTSTAMP:20260420T103326
DTSTART;TZID=Europe/Berlin:20260317T093000
DTEND;TZID=Europe/Berlin:20260317T110000
UID:26F39C32-20260317T093000@KVW BIBOZEN
SUMMARY:English Intermediate (26F39C32) 
LOCATION:urania-Haus, Ortweinstraße 6, 39012 Meran
END:VEVENT
BEGIN:VEVENT
DTSTAMP:20260420T103326
DTSTART;TZID=Europe/Berlin:20260324T093000
DTEND;TZID=Europe/Berlin:20260324T110000
UID:26F39C32-20260324T093000@KVW BIBOZEN
SUMMARY:English Intermediate (26F39C32) 
LOCATION:urania-Haus, Ortweinstraße 6, 39012 Meran
END:VEVENT
BEGIN:VEVENT
DTSTAMP:20260420T103326
DTSTART;TZID=Europe/Berlin:20260331T093000
DTEND;TZID=Europe/Berlin:20260331T110000
UID:26F39C32-20260331T093000@KVW BIBOZEN
SUMMARY:English Intermediate (26F39C32) 
LOCATION:urania-Haus, Ortweinstraße 6, 39012 Meran
END:VEVENT
BEGIN:VEVENT
DTSTAMP:20260420T103326
DTSTART;TZID=Europe/Berlin:20260414T093000
DTEND;TZID=Europe/Berlin:20260414T110000
UID:26F39C32-20260414T093000@KVW BIBOZEN
SUMMARY:English Intermediate (26F39C32) 
LOCATION:urania-Haus, Ortweinstraße 6, 39012 Meran
END:VEVENT
BEGIN:VEVENT
DTSTAMP:20260420T103326
DTSTART;TZID=Europe/Berlin:20260421T093000
DTEND;TZID=Europe/Berlin:20260421T110000
UID:26F39C32-20260421T093000@KVW BIBOZEN
SUMMARY:English Intermediate (26F39C32) 
LOCATION:urania-Haus, Ortweinstraße 6, 39012 Meran
END:VEVENT
BEGIN:VEVENT
DTSTAMP:20260420T103326
DTSTART;TZID=Europe/Berlin:20260428T093000
DTEND;TZID=Europe/Berlin:20260428T110000
UID:26F39C32-20260428T093000@KVW BIBOZEN
SUMMARY:English Intermediate (26F39C32) 
LOCATION:urania-Haus, Ortweinstraße 6, 39012 Meran
END:VEVENT
BEGIN:VEVENT
DTSTAMP:20260420T103326
DTSTART;TZID=Europe/Berlin:20260505T093000
DTEND;TZID=Europe/Berlin:20260505T110000
UID:26F39C32-20260505T093000@KVW BIBOZEN
SUMMARY:English Intermediate (26F39C32) 
LOCATION:urania-Haus, Ortweinstraße 6, 39012 Meran
END:VEVENT
BEGIN:VEVENT
DTSTAMP:20260420T103326
DTSTART;TZID=Europe/Berlin:20260512T093000
DTEND;TZID=Europe/Berlin:20260512T110000
UID:26F39C32-20260512T093000@KVW BIBOZEN
SUMMARY:English Intermediate (26F39C32) 
LOCATION:urania-Haus, Ortweinstraße 6, 39012 Meran
END:VEVENT
END:VCALENDAR