BEGIN:VCALENDAR
PRODID:http://www.kufer.de/kuferweb / DE
VERSION:2.0
METHOD:PUBLISH
CALSCALE:GREGORIAN
X-WR-TIMEZONE:Europe/Berlin
BEGIN:VTIMEZONE
TZID:Europe/Berlin
X-LIC-LOCATION:Europe/Berlin
BEGIN:DAYLIGHT
TZOFFSETFROM:+0100
TZOFFSETTO:+0200
TZNAME:CEST
DTSTART;TZID=Europe/Berlin:19700329T020000
RRULE:FREQ=YEARLY;INTERVAL=1;BYDAY=-1SU;BYMONTH=3
END:DAYLIGHT
BEGIN:STANDARD
TZOFFSETFROM:+0200
TZOFFSETTO:+0100
TZNAME:CET
DTSTART;TZID=Europe/Berlin:19701025T030000
RRULE:FREQ=YEARLY;INTERVAL=1;BYDAY=-1SU;BYMONTH=10
END:STANDARD
END:VTIMEZONE
BEGIN:VEVENT
DTSTAMP:20260420T121814
DTSTART;TZID=Europe/Berlin:20260803T084500
DTEND;TZID=Europe/Berlin:20260803T121500
UID:26F39C47-20260803T084500@KVW BIBOZEN
SUMMARY:Playing with English - Sommer und Sprachen - Katharinaberg In Zusammenarbeit mit alpha beta piccadilly (26F39C47) 
LOCATION:Grundschule, , 
END:VEVENT
BEGIN:VEVENT
DTSTAMP:20260420T121814
DTSTART;TZID=Europe/Berlin:20260804T084500
DTEND;TZID=Europe/Berlin:20260804T121500
UID:26F39C47-20260804T084500@KVW BIBOZEN
SUMMARY:Playing with English - Sommer und Sprachen - Katharinaberg In Zusammenarbeit mit alpha beta piccadilly (26F39C47) 
LOCATION:Grundschule, , 
END:VEVENT
BEGIN:VEVENT
DTSTAMP:20260420T121814
DTSTART;TZID=Europe/Berlin:20260805T084500
DTEND;TZID=Europe/Berlin:20260805T121500
UID:26F39C47-20260805T084500@KVW BIBOZEN
SUMMARY:Playing with English - Sommer und Sprachen - Katharinaberg In Zusammenarbeit mit alpha beta piccadilly (26F39C47) 
LOCATION:Grundschule, , 
END:VEVENT
BEGIN:VEVENT
DTSTAMP:20260420T121814
DTSTART;TZID=Europe/Berlin:20260806T084500
DTEND;TZID=Europe/Berlin:20260806T121500
UID:26F39C47-20260806T084500@KVW BIBOZEN
SUMMARY:Playing with English - Sommer und Sprachen - Katharinaberg In Zusammenarbeit mit alpha beta piccadilly (26F39C47) 
LOCATION:Grundschule, , 
END:VEVENT
BEGIN:VEVENT
DTSTAMP:20260420T121814
DTSTART;TZID=Europe/Berlin:20260807T084500
DTEND;TZID=Europe/Berlin:20260807T121500
UID:26F39C47-20260807T084500@KVW BIBOZEN
SUMMARY:Playing with English - Sommer und Sprachen - Katharinaberg In Zusammenarbeit mit alpha beta piccadilly (26F39C47) 
LOCATION:Grundschule, , 
END:VEVENT
BEGIN:VEVENT
DTSTAMP:20260420T121814
DTSTART;TZID=Europe/Berlin:20260810T084500
DTEND;TZID=Europe/Berlin:20260810T121500
UID:26F39C47-20260810T084500@KVW BIBOZEN
SUMMARY:Playing with English - Sommer und Sprachen - Katharinaberg In Zusammenarbeit mit alpha beta piccadilly (26F39C47) 
LOCATION:Grundschule, , 
END:VEVENT
BEGIN:VEVENT
DTSTAMP:20260420T121814
DTSTART;TZID=Europe/Berlin:20260811T084500
DTEND;TZID=Europe/Berlin:20260811T121500
UID:26F39C47-20260811T084500@KVW BIBOZEN
SUMMARY:Playing with English - Sommer und Sprachen - Katharinaberg In Zusammenarbeit mit alpha beta piccadilly (26F39C47) 
LOCATION:Grundschule, , 
END:VEVENT
BEGIN:VEVENT
DTSTAMP:20260420T121814
DTSTART;TZID=Europe/Berlin:20260812T084500
DTEND;TZID=Europe/Berlin:20260812T121500
UID:26F39C47-20260812T084500@KVW BIBOZEN
SUMMARY:Playing with English - Sommer und Sprachen - Katharinaberg In Zusammenarbeit mit alpha beta piccadilly (26F39C47) 
LOCATION:Grundschule, , 
END:VEVENT
BEGIN:VEVENT
DTSTAMP:20260420T121814
DTSTART;TZID=Europe/Berlin:20260813T084500
DTEND;TZID=Europe/Berlin:20260813T121500
UID:26F39C47-20260813T084500@KVW BIBOZEN
SUMMARY:Playing with English - Sommer und Sprachen - Katharinaberg In Zusammenarbeit mit alpha beta piccadilly (26F39C47) 
LOCATION:Grundschule, , 
END:VEVENT
BEGIN:VEVENT
DTSTAMP:20260420T121814
DTSTART;TZID=Europe/Berlin:20260814T084500
DTEND;TZID=Europe/Berlin:20260814T121500
UID:26F39C47-20260814T084500@KVW BIBOZEN
SUMMARY:Playing with English - Sommer und Sprachen - Katharinaberg In Zusammenarbeit mit alpha beta piccadilly (26F39C47) 
LOCATION:Grundschule, , 
END:VEVENT
END:VCALENDAR