BEGIN:VCALENDAR
PRODID:http://www.kufer.de/kuferweb / DE
VERSION:2.0
METHOD:PUBLISH
CALSCALE:GREGORIAN
X-WR-TIMEZONE:Europe/Berlin
BEGIN:VTIMEZONE
TZID:Europe/Berlin
X-LIC-LOCATION:Europe/Berlin
BEGIN:DAYLIGHT
TZOFFSETFROM:+0100
TZOFFSETTO:+0200
TZNAME:CEST
DTSTART;TZID=Europe/Berlin:19700329T020000
RRULE:FREQ=YEARLY;INTERVAL=1;BYDAY=-1SU;BYMONTH=3
END:DAYLIGHT
BEGIN:STANDARD
TZOFFSETFROM:+0200
TZOFFSETTO:+0100
TZNAME:CET
DTSTART;TZID=Europe/Berlin:19701025T030000
RRULE:FREQ=YEARLY;INTERVAL=1;BYDAY=-1SU;BYMONTH=10
END:STANDARD
END:VTIMEZONE
BEGIN:VEVENT
DTSTAMP:20260420T103504
DTSTART;TZID=Europe/Berlin:20260303T163000
DTEND;TZID=Europe/Berlin:20260303T180000
UID:26F39Z04-20260303T163000@KVW BIBOZEN
SUMMARY:Japanisch AnfängerInnen Teil 2 (26F39Z04) 
LOCATION:Urania-Haus, Ortweinstraße 6 oder Meran, Mittelschule ‚Carl Wolf‘,, , 
END:VEVENT
BEGIN:VEVENT
DTSTAMP:20260420T103504
DTSTART;TZID=Europe/Berlin:20260310T163000
DTEND;TZID=Europe/Berlin:20260310T180000
UID:26F39Z04-20260310T163000@KVW BIBOZEN
SUMMARY:Japanisch AnfängerInnen Teil 2 (26F39Z04) 
LOCATION:Urania-Haus, Ortweinstraße 6 oder Meran, Mittelschule ‚Carl Wolf‘,, , 
END:VEVENT
BEGIN:VEVENT
DTSTAMP:20260420T103504
DTSTART;TZID=Europe/Berlin:20260317T163000
DTEND;TZID=Europe/Berlin:20260317T180000
UID:26F39Z04-20260317T163000@KVW BIBOZEN
SUMMARY:Japanisch AnfängerInnen Teil 2 (26F39Z04) 
LOCATION:Urania-Haus, Ortweinstraße 6 oder Meran, Mittelschule ‚Carl Wolf‘,, , 
END:VEVENT
BEGIN:VEVENT
DTSTAMP:20260420T103504
DTSTART;TZID=Europe/Berlin:20260324T163000
DTEND;TZID=Europe/Berlin:20260324T180000
UID:26F39Z04-20260324T163000@KVW BIBOZEN
SUMMARY:Japanisch AnfängerInnen Teil 2 (26F39Z04) 
LOCATION:Urania-Haus, Ortweinstraße 6 oder Meran, Mittelschule ‚Carl Wolf‘,, , 
END:VEVENT
BEGIN:VEVENT
DTSTAMP:20260420T103504
DTSTART;TZID=Europe/Berlin:20260331T163000
DTEND;TZID=Europe/Berlin:20260331T180000
UID:26F39Z04-20260331T163000@KVW BIBOZEN
SUMMARY:Japanisch AnfängerInnen Teil 2 (26F39Z04) 
LOCATION:Urania-Haus, Ortweinstraße 6 oder Meran, Mittelschule ‚Carl Wolf‘,, , 
END:VEVENT
BEGIN:VEVENT
DTSTAMP:20260420T103504
DTSTART;TZID=Europe/Berlin:20260414T163000
DTEND;TZID=Europe/Berlin:20260414T180000
UID:26F39Z04-20260414T163000@KVW BIBOZEN
SUMMARY:Japanisch AnfängerInnen Teil 2 (26F39Z04) 
LOCATION:Urania-Haus, Ortweinstraße 6 oder Meran, Mittelschule ‚Carl Wolf‘,, , 
END:VEVENT
BEGIN:VEVENT
DTSTAMP:20260420T103504
DTSTART;TZID=Europe/Berlin:20260421T163000
DTEND;TZID=Europe/Berlin:20260421T180000
UID:26F39Z04-20260421T163000@KVW BIBOZEN
SUMMARY:Japanisch AnfängerInnen Teil 2 (26F39Z04) 
LOCATION:Urania-Haus, Ortweinstraße 6 oder Meran, Mittelschule ‚Carl Wolf‘,, , 
END:VEVENT
BEGIN:VEVENT
DTSTAMP:20260420T103504
DTSTART;TZID=Europe/Berlin:20260428T163000
DTEND;TZID=Europe/Berlin:20260428T180000
UID:26F39Z04-20260428T163000@KVW BIBOZEN
SUMMARY:Japanisch AnfängerInnen Teil 2 (26F39Z04) 
LOCATION:Urania-Haus, Ortweinstraße 6 oder Meran, Mittelschule ‚Carl Wolf‘,, , 
END:VEVENT
BEGIN:VEVENT
DTSTAMP:20260420T103504
DTSTART;TZID=Europe/Berlin:20260505T163000
DTEND;TZID=Europe/Berlin:20260505T180000
UID:26F39Z04-20260505T163000@KVW BIBOZEN
SUMMARY:Japanisch AnfängerInnen Teil 2 (26F39Z04) 
LOCATION:Urania-Haus, Ortweinstraße 6 oder Meran, Mittelschule ‚Carl Wolf‘,, , 
END:VEVENT
BEGIN:VEVENT
DTSTAMP:20260420T103504
DTSTART;TZID=Europe/Berlin:20260512T163000
DTEND;TZID=Europe/Berlin:20260512T180000
UID:26F39Z04-20260512T163000@KVW BIBOZEN
SUMMARY:Japanisch AnfängerInnen Teil 2 (26F39Z04) 
LOCATION:Urania-Haus, Ortweinstraße 6 oder Meran, Mittelschule ‚Carl Wolf‘,, , 
END:VEVENT
BEGIN:VEVENT
DTSTAMP:20260420T103504
DTSTART;TZID=Europe/Berlin:20260519T163000
DTEND;TZID=Europe/Berlin:20260519T180000
UID:26F39Z04-20260519T163000@KVW BIBOZEN
SUMMARY:Japanisch AnfängerInnen Teil 2 (26F39Z04) 
LOCATION:Urania-Haus, Ortweinstraße 6 oder Meran, Mittelschule ‚Carl Wolf‘,, , 
END:VEVENT
BEGIN:VEVENT
DTSTAMP:20260420T103504
DTSTART;TZID=Europe/Berlin:20260526T163000
DTEND;TZID=Europe/Berlin:20260526T180000
UID:26F39Z04-20260526T163000@KVW BIBOZEN
SUMMARY:Japanisch AnfängerInnen Teil 2 (26F39Z04) 
LOCATION:Urania-Haus, Ortweinstraße 6 oder Meran, Mittelschule ‚Carl Wolf‘,, , 
END:VEVENT
END:VCALENDAR