BEGIN:VCALENDAR
PRODID:http://www.kufer.de/kuferweb / DE
VERSION:2.0
METHOD:PUBLISH
CALSCALE:GREGORIAN
X-WR-TIMEZONE:Europe/Berlin
BEGIN:VTIMEZONE
TZID:Europe/Berlin
X-LIC-LOCATION:Europe/Berlin
BEGIN:DAYLIGHT
TZOFFSETFROM:+0100
TZOFFSETTO:+0200
TZNAME:CEST
DTSTART;TZID=Europe/Berlin:19700329T020000
RRULE:FREQ=YEARLY;INTERVAL=1;BYDAY=-1SU;BYMONTH=3
END:DAYLIGHT
BEGIN:STANDARD
TZOFFSETFROM:+0200
TZOFFSETTO:+0100
TZNAME:CET
DTSTART;TZID=Europe/Berlin:19701025T030000
RRULE:FREQ=YEARLY;INTERVAL=1;BYDAY=-1SU;BYMONTH=10
END:STANDARD
END:VTIMEZONE
BEGIN:VEVENT
DTSTAMP:20260420T103607
DTSTART;TZID=Europe/Berlin:20260206T174500
DTEND;TZID=Europe/Berlin:20260206T191500
UID:26F39Z05-20260206T174500@KVW BIBOZEN
SUMMARY:Japanisch für leicht Fortgeschrittene (26F39Z05) 
LOCATION:Urania-Haus, Ortweinstraße 6 , , 
END:VEVENT
BEGIN:VEVENT
DTSTAMP:20260420T103607
DTSTART;TZID=Europe/Berlin:20260213T174500
DTEND;TZID=Europe/Berlin:20260213T191500
UID:26F39Z05-20260213T174500@KVW BIBOZEN
SUMMARY:Japanisch für leicht Fortgeschrittene (26F39Z05) 
LOCATION:Urania-Haus, Ortweinstraße 6 , , 
END:VEVENT
BEGIN:VEVENT
DTSTAMP:20260420T103607
DTSTART;TZID=Europe/Berlin:20260227T174500
DTEND;TZID=Europe/Berlin:20260227T191500
UID:26F39Z05-20260227T174500@KVW BIBOZEN
SUMMARY:Japanisch für leicht Fortgeschrittene (26F39Z05) 
LOCATION:Urania-Haus, Ortweinstraße 6 , , 
END:VEVENT
BEGIN:VEVENT
DTSTAMP:20260420T103607
DTSTART;TZID=Europe/Berlin:20260306T174500
DTEND;TZID=Europe/Berlin:20260306T191500
UID:26F39Z05-20260306T174500@KVW BIBOZEN
SUMMARY:Japanisch für leicht Fortgeschrittene (26F39Z05) 
LOCATION:Urania-Haus, Ortweinstraße 6 , , 
END:VEVENT
BEGIN:VEVENT
DTSTAMP:20260420T103607
DTSTART;TZID=Europe/Berlin:20260313T174500
DTEND;TZID=Europe/Berlin:20260313T191500
UID:26F39Z05-20260313T174500@KVW BIBOZEN
SUMMARY:Japanisch für leicht Fortgeschrittene (26F39Z05) 
LOCATION:Urania-Haus, Ortweinstraße 6 , , 
END:VEVENT
BEGIN:VEVENT
DTSTAMP:20260420T103607
DTSTART;TZID=Europe/Berlin:20260320T174500
DTEND;TZID=Europe/Berlin:20260320T191500
UID:26F39Z05-20260320T174500@KVW BIBOZEN
SUMMARY:Japanisch für leicht Fortgeschrittene (26F39Z05) 
LOCATION:Urania-Haus, Ortweinstraße 6 , , 
END:VEVENT
BEGIN:VEVENT
DTSTAMP:20260420T103607
DTSTART;TZID=Europe/Berlin:20260327T174500
DTEND;TZID=Europe/Berlin:20260327T191500
UID:26F39Z05-20260327T174500@KVW BIBOZEN
SUMMARY:Japanisch für leicht Fortgeschrittene (26F39Z05) 
LOCATION:Urania-Haus, Ortweinstraße 6 , , 
END:VEVENT
BEGIN:VEVENT
DTSTAMP:20260420T103607
DTSTART;TZID=Europe/Berlin:20260410T174500
DTEND;TZID=Europe/Berlin:20260410T191500
UID:26F39Z05-20260410T174500@KVW BIBOZEN
SUMMARY:Japanisch für leicht Fortgeschrittene (26F39Z05) 
LOCATION:Urania-Haus, Ortweinstraße 6 , , 
END:VEVENT
BEGIN:VEVENT
DTSTAMP:20260420T103607
DTSTART;TZID=Europe/Berlin:20260417T174500
DTEND;TZID=Europe/Berlin:20260417T191500
UID:26F39Z05-20260417T174500@KVW BIBOZEN
SUMMARY:Japanisch für leicht Fortgeschrittene (26F39Z05) 
LOCATION:Urania-Haus, Ortweinstraße 6 , , 
END:VEVENT
BEGIN:VEVENT
DTSTAMP:20260420T103607
DTSTART;TZID=Europe/Berlin:20260424T174500
DTEND;TZID=Europe/Berlin:20260424T191500
UID:26F39Z05-20260424T174500@KVW BIBOZEN
SUMMARY:Japanisch für leicht Fortgeschrittene (26F39Z05) 
LOCATION:Urania-Haus, Ortweinstraße 6 , , 
END:VEVENT
BEGIN:VEVENT
DTSTAMP:20260420T103607
DTSTART;TZID=Europe/Berlin:20260508T174500
DTEND;TZID=Europe/Berlin:20260508T191500
UID:26F39Z05-20260508T174500@KVW BIBOZEN
SUMMARY:Japanisch für leicht Fortgeschrittene (26F39Z05) 
LOCATION:Urania-Haus, Ortweinstraße 6 , , 
END:VEVENT
BEGIN:VEVENT
DTSTAMP:20260420T103607
DTSTART;TZID=Europe/Berlin:20260515T174500
DTEND;TZID=Europe/Berlin:20260515T191500
UID:26F39Z05-20260515T174500@KVW BIBOZEN
SUMMARY:Japanisch für leicht Fortgeschrittene (26F39Z05) 
LOCATION:Urania-Haus, Ortweinstraße 6 , , 
END:VEVENT
BEGIN:VEVENT
DTSTAMP:20260420T103607
DTSTART;TZID=Europe/Berlin:20260522T174500
DTEND;TZID=Europe/Berlin:20260522T191500
UID:26F39Z05-20260522T174500@KVW BIBOZEN
SUMMARY:Japanisch für leicht Fortgeschrittene (26F39Z05) 
LOCATION:Urania-Haus, Ortweinstraße 6 , , 
END:VEVENT
BEGIN:VEVENT
DTSTAMP:20260420T103607
DTSTART;TZID=Europe/Berlin:20260529T174500
DTEND;TZID=Europe/Berlin:20260529T191500
UID:26F39Z05-20260529T174500@KVW BIBOZEN
SUMMARY:Japanisch für leicht Fortgeschrittene (26F39Z05) 
LOCATION:Urania-Haus, Ortweinstraße 6 , , 
END:VEVENT
END:VCALENDAR