BEGIN:VCALENDAR
PRODID:http://www.kufer.de/kuferweb / DE
VERSION:2.0
METHOD:PUBLISH
CALSCALE:GREGORIAN
X-WR-TIMEZONE:Europe/Berlin
BEGIN:VTIMEZONE
TZID:Europe/Berlin
X-LIC-LOCATION:Europe/Berlin
BEGIN:DAYLIGHT
TZOFFSETFROM:+0100
TZOFFSETTO:+0200
TZNAME:CEST
DTSTART;TZID=Europe/Berlin:19700329T020000
RRULE:FREQ=YEARLY;INTERVAL=1;BYDAY=-1SU;BYMONTH=3
END:DAYLIGHT
BEGIN:STANDARD
TZOFFSETFROM:+0200
TZOFFSETTO:+0100
TZNAME:CET
DTSTART;TZID=Europe/Berlin:19701025T030000
RRULE:FREQ=YEARLY;INTERVAL=1;BYDAY=-1SU;BYMONTH=10
END:STANDARD
END:VTIMEZONE
BEGIN:VEVENT
DTSTAMP:20260420T103410
DTSTART;TZID=Europe/Berlin:20260123T160000
DTEND;TZID=Europe/Berlin:20260123T173000
UID:26F39Z06-20260123T160000@KVW BIBOZEN
SUMMARY:Japanisch für leicht Fortgeschrittene (26F39Z06) 
LOCATION:Urania-Haus, Ortweinstraße 6 , , 
END:VEVENT
BEGIN:VEVENT
DTSTAMP:20260420T103410
DTSTART;TZID=Europe/Berlin:20260130T160000
DTEND;TZID=Europe/Berlin:20260130T173000
UID:26F39Z06-20260130T160000@KVW BIBOZEN
SUMMARY:Japanisch für leicht Fortgeschrittene (26F39Z06) 
LOCATION:Urania-Haus, Ortweinstraße 6 , , 
END:VEVENT
BEGIN:VEVENT
DTSTAMP:20260420T103410
DTSTART;TZID=Europe/Berlin:20260206T160000
DTEND;TZID=Europe/Berlin:20260206T173000
UID:26F39Z06-20260206T160000@KVW BIBOZEN
SUMMARY:Japanisch für leicht Fortgeschrittene (26F39Z06) 
LOCATION:Urania-Haus, Ortweinstraße 6 , , 
END:VEVENT
BEGIN:VEVENT
DTSTAMP:20260420T103410
DTSTART;TZID=Europe/Berlin:20260213T160000
DTEND;TZID=Europe/Berlin:20260213T173000
UID:26F39Z06-20260213T160000@KVW BIBOZEN
SUMMARY:Japanisch für leicht Fortgeschrittene (26F39Z06) 
LOCATION:Urania-Haus, Ortweinstraße 6 , , 
END:VEVENT
BEGIN:VEVENT
DTSTAMP:20260420T103410
DTSTART;TZID=Europe/Berlin:20260227T160000
DTEND;TZID=Europe/Berlin:20260227T173000
UID:26F39Z06-20260227T160000@KVW BIBOZEN
SUMMARY:Japanisch für leicht Fortgeschrittene (26F39Z06) 
LOCATION:Urania-Haus, Ortweinstraße 6 , , 
END:VEVENT
BEGIN:VEVENT
DTSTAMP:20260420T103410
DTSTART;TZID=Europe/Berlin:20260306T160000
DTEND;TZID=Europe/Berlin:20260306T173000
UID:26F39Z06-20260306T160000@KVW BIBOZEN
SUMMARY:Japanisch für leicht Fortgeschrittene (26F39Z06) 
LOCATION:Urania-Haus, Ortweinstraße 6 , , 
END:VEVENT
BEGIN:VEVENT
DTSTAMP:20260420T103410
DTSTART;TZID=Europe/Berlin:20260313T160000
DTEND;TZID=Europe/Berlin:20260313T173000
UID:26F39Z06-20260313T160000@KVW BIBOZEN
SUMMARY:Japanisch für leicht Fortgeschrittene (26F39Z06) 
LOCATION:Urania-Haus, Ortweinstraße 6 , , 
END:VEVENT
BEGIN:VEVENT
DTSTAMP:20260420T103410
DTSTART;TZID=Europe/Berlin:20260320T160000
DTEND;TZID=Europe/Berlin:20260320T173000
UID:26F39Z06-20260320T160000@KVW BIBOZEN
SUMMARY:Japanisch für leicht Fortgeschrittene (26F39Z06) 
LOCATION:Urania-Haus, Ortweinstraße 6 , , 
END:VEVENT
BEGIN:VEVENT
DTSTAMP:20260420T103410
DTSTART;TZID=Europe/Berlin:20260327T160000
DTEND;TZID=Europe/Berlin:20260327T173000
UID:26F39Z06-20260327T160000@KVW BIBOZEN
SUMMARY:Japanisch für leicht Fortgeschrittene (26F39Z06) 
LOCATION:Urania-Haus, Ortweinstraße 6 , , 
END:VEVENT
BEGIN:VEVENT
DTSTAMP:20260420T103410
DTSTART;TZID=Europe/Berlin:20260410T160000
DTEND;TZID=Europe/Berlin:20260410T173000
UID:26F39Z06-20260410T160000@KVW BIBOZEN
SUMMARY:Japanisch für leicht Fortgeschrittene (26F39Z06) 
LOCATION:Urania-Haus, Ortweinstraße 6 , , 
END:VEVENT
BEGIN:VEVENT
DTSTAMP:20260420T103410
DTSTART;TZID=Europe/Berlin:20260417T160000
DTEND;TZID=Europe/Berlin:20260417T173000
UID:26F39Z06-20260417T160000@KVW BIBOZEN
SUMMARY:Japanisch für leicht Fortgeschrittene (26F39Z06) 
LOCATION:Urania-Haus, Ortweinstraße 6 , , 
END:VEVENT
BEGIN:VEVENT
DTSTAMP:20260420T103410
DTSTART;TZID=Europe/Berlin:20260424T160000
DTEND;TZID=Europe/Berlin:20260424T173000
UID:26F39Z06-20260424T160000@KVW BIBOZEN
SUMMARY:Japanisch für leicht Fortgeschrittene (26F39Z06) 
LOCATION:Urania-Haus, Ortweinstraße 6 , , 
END:VEVENT
BEGIN:VEVENT
DTSTAMP:20260420T103410
DTSTART;TZID=Europe/Berlin:20260508T160000
DTEND;TZID=Europe/Berlin:20260508T173000
UID:26F39Z06-20260508T160000@KVW BIBOZEN
SUMMARY:Japanisch für leicht Fortgeschrittene (26F39Z06) 
LOCATION:Urania-Haus, Ortweinstraße 6 , , 
END:VEVENT
BEGIN:VEVENT
DTSTAMP:20260420T103410
DTSTART;TZID=Europe/Berlin:20260515T160000
DTEND;TZID=Europe/Berlin:20260515T173000
UID:26F39Z06-20260515T160000@KVW BIBOZEN
SUMMARY:Japanisch für leicht Fortgeschrittene (26F39Z06) 
LOCATION:Urania-Haus, Ortweinstraße 6 , , 
END:VEVENT
END:VCALENDAR