BEGIN:VCALENDAR
PRODID:http://www.kufer.de/kuferweb / DE
VERSION:2.0
METHOD:PUBLISH
CALSCALE:GREGORIAN
X-WR-TIMEZONE:Europe/Berlin
BEGIN:VTIMEZONE
TZID:Europe/Berlin
X-LIC-LOCATION:Europe/Berlin
BEGIN:DAYLIGHT
TZOFFSETFROM:+0100
TZOFFSETTO:+0200
TZNAME:CEST
DTSTART;TZID=Europe/Berlin:19700329T020000
RRULE:FREQ=YEARLY;INTERVAL=1;BYDAY=-1SU;BYMONTH=3
END:DAYLIGHT
BEGIN:STANDARD
TZOFFSETFROM:+0200
TZOFFSETTO:+0100
TZNAME:CET
DTSTART;TZID=Europe/Berlin:19701025T030000
RRULE:FREQ=YEARLY;INTERVAL=1;BYDAY=-1SU;BYMONTH=10
END:STANDARD
END:VTIMEZONE
BEGIN:VEVENT
DTSTAMP:20260420T103059
DTSTART;TZID=Europe/Berlin:20260504T173000
DTEND;TZID=Europe/Berlin:20260504T190000
UID:26F50A142-20260504T173000@KVW BIBOZEN
SUMMARY:DU HAST ALLES IN DEINER HAND! Deine Hände -ein Wunderwerk (26F50A142) 
LOCATION:Kindergarten, Siebeneich, , 
END:VEVENT
BEGIN:VEVENT
DTSTAMP:20260420T103059
DTSTART;TZID=Europe/Berlin:20260511T173000
DTEND;TZID=Europe/Berlin:20260511T190000
UID:26F50A142-20260511T173000@KVW BIBOZEN
SUMMARY:DU HAST ALLES IN DEINER HAND! Deine Hände -ein Wunderwerk (26F50A142) 
LOCATION:Kindergarten, Siebeneich, , 
END:VEVENT
BEGIN:VEVENT
DTSTAMP:20260420T103059
DTSTART;TZID=Europe/Berlin:20260518T173000
DTEND;TZID=Europe/Berlin:20260518T190000
UID:26F50A142-20260518T173000@KVW BIBOZEN
SUMMARY:DU HAST ALLES IN DEINER HAND! Deine Hände -ein Wunderwerk (26F50A142) 
LOCATION:Kindergarten, Siebeneich, , 
END:VEVENT
END:VCALENDAR