BEGIN:VCALENDAR
PRODID:http://www.kufer.de/kuferweb / DE
VERSION:2.0
METHOD:PUBLISH
CALSCALE:GREGORIAN
X-WR-TIMEZONE:Europe/Berlin
BEGIN:VTIMEZONE
TZID:Europe/Berlin
X-LIC-LOCATION:Europe/Berlin
BEGIN:DAYLIGHT
TZOFFSETFROM:+0100
TZOFFSETTO:+0200
TZNAME:CEST
DTSTART;TZID=Europe/Berlin:19700329T020000
RRULE:FREQ=YEARLY;INTERVAL=1;BYDAY=-1SU;BYMONTH=3
END:DAYLIGHT
BEGIN:STANDARD
TZOFFSETFROM:+0200
TZOFFSETTO:+0100
TZNAME:CET
DTSTART;TZID=Europe/Berlin:19701025T030000
RRULE:FREQ=YEARLY;INTERVAL=1;BYDAY=-1SU;BYMONTH=10
END:STANDARD
END:VTIMEZONE
BEGIN:VEVENT
DTSTAMP:20260420T101813
DTSTART;TZID=Europe/Berlin:20260413T143000
DTEND;TZID=Europe/Berlin:20260413T160000
UID:26F50A156-20260413T143000@KVW BIBOZEN
SUMMARY:Tanzen ab der Lebensmitte Mit Tanz gesund bleiben. (26F50A156) 
LOCATION:Raiffeisensaal, , 
END:VEVENT
BEGIN:VEVENT
DTSTAMP:20260420T101813
DTSTART;TZID=Europe/Berlin:20260427T143000
DTEND;TZID=Europe/Berlin:20260427T160000
UID:26F50A156-20260427T143000@KVW BIBOZEN
SUMMARY:Tanzen ab der Lebensmitte Mit Tanz gesund bleiben. (26F50A156) 
LOCATION:Raiffeisensaal, , 
END:VEVENT
BEGIN:VEVENT
DTSTAMP:20260420T101813
DTSTART;TZID=Europe/Berlin:20260504T143000
DTEND;TZID=Europe/Berlin:20260504T160000
UID:26F50A156-20260504T143000@KVW BIBOZEN
SUMMARY:Tanzen ab der Lebensmitte Mit Tanz gesund bleiben. (26F50A156) 
LOCATION:Raiffeisensaal, , 
END:VEVENT
BEGIN:VEVENT
DTSTAMP:20260420T101813
DTSTART;TZID=Europe/Berlin:20260511T143000
DTEND;TZID=Europe/Berlin:20260511T160000
UID:26F50A156-20260511T143000@KVW BIBOZEN
SUMMARY:Tanzen ab der Lebensmitte Mit Tanz gesund bleiben. (26F50A156) 
LOCATION:Raiffeisensaal, , 
END:VEVENT
BEGIN:VEVENT
DTSTAMP:20260420T101813
DTSTART;TZID=Europe/Berlin:20260518T143000
DTEND;TZID=Europe/Berlin:20260518T160000
UID:26F50A156-20260518T143000@KVW BIBOZEN
SUMMARY:Tanzen ab der Lebensmitte Mit Tanz gesund bleiben. (26F50A156) 
LOCATION:Raiffeisensaal, , 
END:VEVENT
END:VCALENDAR