BEGIN:VCALENDAR
PRODID:http://www.kufer.de/kuferweb / DE
VERSION:2.0
METHOD:PUBLISH
CALSCALE:GREGORIAN
X-WR-TIMEZONE:Europe/Berlin
BEGIN:VTIMEZONE
TZID:Europe/Berlin
X-LIC-LOCATION:Europe/Berlin
BEGIN:DAYLIGHT
TZOFFSETFROM:+0100
TZOFFSETTO:+0200
TZNAME:CEST
DTSTART;TZID=Europe/Berlin:19700329T020000
RRULE:FREQ=YEARLY;INTERVAL=1;BYDAY=-1SU;BYMONTH=3
END:DAYLIGHT
BEGIN:STANDARD
TZOFFSETFROM:+0200
TZOFFSETTO:+0100
TZNAME:CET
DTSTART;TZID=Europe/Berlin:19701025T030000
RRULE:FREQ=YEARLY;INTERVAL=1;BYDAY=-1SU;BYMONTH=10
END:STANDARD
END:VTIMEZONE
BEGIN:VEVENT
DTSTAMP:20260420T103049
DTSTART;TZID=Europe/Berlin:20260413T150000
DTEND;TZID=Europe/Berlin:20260413T170000
UID:26F50A89-20260413T150000@KVW BIBOZEN
SUMMARY:Spiele als Vorbeugung und für Menschen mit Demenz im Alltag (26F50A89) 
LOCATION:Wohn- und Pflegeheim St. Sisinius, Vinschgaustraße 50, , 
END:VEVENT
BEGIN:VEVENT
DTSTAMP:20260420T103049
DTSTART;TZID=Europe/Berlin:20260427T150000
DTEND;TZID=Europe/Berlin:20260427T170000
UID:26F50A89-20260427T150000@KVW BIBOZEN
SUMMARY:Spiele als Vorbeugung und für Menschen mit Demenz im Alltag (26F50A89) 
LOCATION:Wohn- und Pflegeheim St. Sisinius, Vinschgaustraße 50, , 
END:VEVENT
END:VCALENDAR