BEGIN:VCALENDAR
PRODID:http://www.kufer.de/kuferweb / DE
VERSION:2.0
METHOD:PUBLISH
CALSCALE:GREGORIAN
X-WR-TIMEZONE:Europe/Berlin
BEGIN:VTIMEZONE
TZID:Europe/Berlin
X-LIC-LOCATION:Europe/Berlin
BEGIN:DAYLIGHT
TZOFFSETFROM:+0100
TZOFFSETTO:+0200
TZNAME:CEST
DTSTART;TZID=Europe/Berlin:19700329T020000
RRULE:FREQ=YEARLY;INTERVAL=1;BYDAY=-1SU;BYMONTH=3
END:DAYLIGHT
BEGIN:STANDARD
TZOFFSETFROM:+0200
TZOFFSETTO:+0100
TZNAME:CET
DTSTART;TZID=Europe/Berlin:19701025T030000
RRULE:FREQ=YEARLY;INTERVAL=1;BYDAY=-1SU;BYMONTH=10
END:STANDARD
END:VTIMEZONE
BEGIN:VEVENT
DTSTAMP:20260420T103505
DTSTART;TZID=Europe/Berlin:20260508T140000
DTEND;TZID=Europe/Berlin:20260508T190000
UID:26F50D03-20260508T140000@KVW BIBOZEN
SUMMARY:Massageausbildung - Holistic Touch 13. Auflage. (26F50D03) 
LOCATION:KVW Kursraum Brixen, Hofgasse 2, 39042 Brixen
END:VEVENT
BEGIN:VEVENT
DTSTAMP:20260420T103505
DTSTART;TZID=Europe/Berlin:20260509T090000
DTEND;TZID=Europe/Berlin:20260509T180000
UID:26F50D03-20260509T090000@KVW BIBOZEN
SUMMARY:Massageausbildung - Holistic Touch 13. Auflage. (26F50D03) 
LOCATION:KVW Kursraum Brixen, Hofgasse 2, 39042 Brixen
END:VEVENT
BEGIN:VEVENT
DTSTAMP:20260420T103505
DTSTART;TZID=Europe/Berlin:20260510T090000
DTEND;TZID=Europe/Berlin:20260510T170000
UID:26F50D03-20260510T090000@KVW BIBOZEN
SUMMARY:Massageausbildung - Holistic Touch 13. Auflage. (26F50D03) 
LOCATION:KVW Kursraum Brixen, Hofgasse 2, 39042 Brixen
END:VEVENT
BEGIN:VEVENT
DTSTAMP:20260420T103505
DTSTART;TZID=Europe/Berlin:20260530T090000
DTEND;TZID=Europe/Berlin:20260530T180000
UID:26F50D03-20260530T090000@KVW BIBOZEN
SUMMARY:Massageausbildung - Holistic Touch 13. Auflage. (26F50D03) 
LOCATION:KVW Kursraum Brixen, Hofgasse 2, 39042 Brixen
END:VEVENT
BEGIN:VEVENT
DTSTAMP:20260420T103505
DTSTART;TZID=Europe/Berlin:20260531T090000
DTEND;TZID=Europe/Berlin:20260531T170000
UID:26F50D03-20260531T090000@KVW BIBOZEN
SUMMARY:Massageausbildung - Holistic Touch 13. Auflage. (26F50D03) 
LOCATION:KVW Kursraum Brixen, Hofgasse 2, 39042 Brixen
END:VEVENT
BEGIN:VEVENT
DTSTAMP:20260420T103505
DTSTART;TZID=Europe/Berlin:20260619T140000
DTEND;TZID=Europe/Berlin:20260619T190000
UID:26F50D03-20260619T140000@KVW BIBOZEN
SUMMARY:Massageausbildung - Holistic Touch 13. Auflage. (26F50D03) 
LOCATION:KVW Kursraum Brixen, Hofgasse 2, 39042 Brixen
END:VEVENT
BEGIN:VEVENT
DTSTAMP:20260420T103505
DTSTART;TZID=Europe/Berlin:20260620T090000
DTEND;TZID=Europe/Berlin:20260620T180000
UID:26F50D03-20260620T090000@KVW BIBOZEN
SUMMARY:Massageausbildung - Holistic Touch 13. Auflage. (26F50D03) 
LOCATION:KVW Kursraum Brixen, Hofgasse 2, 39042 Brixen
END:VEVENT
BEGIN:VEVENT
DTSTAMP:20260420T103505
DTSTART;TZID=Europe/Berlin:20260621T090000
DTEND;TZID=Europe/Berlin:20260621T170000
UID:26F50D03-20260621T090000@KVW BIBOZEN
SUMMARY:Massageausbildung - Holistic Touch 13. Auflage. (26F50D03) 
LOCATION:KVW Kursraum Brixen, Hofgasse 2, 39042 Brixen
END:VEVENT
BEGIN:VEVENT
DTSTAMP:20260420T103505
DTSTART;TZID=Europe/Berlin:20260710T140000
DTEND;TZID=Europe/Berlin:20260710T190000
UID:26F50D03-20260710T140000@KVW BIBOZEN
SUMMARY:Massageausbildung - Holistic Touch 13. Auflage. (26F50D03) 
LOCATION:KVW Kursraum Brixen, Hofgasse 2, 39042 Brixen
END:VEVENT
BEGIN:VEVENT
DTSTAMP:20260420T103505
DTSTART;TZID=Europe/Berlin:20260711T090000
DTEND;TZID=Europe/Berlin:20260711T180000
UID:26F50D03-20260711T090000@KVW BIBOZEN
SUMMARY:Massageausbildung - Holistic Touch 13. Auflage. (26F50D03) 
LOCATION:KVW Kursraum Brixen, Hofgasse 2, 39042 Brixen
END:VEVENT
BEGIN:VEVENT
DTSTAMP:20260420T103505
DTSTART;TZID=Europe/Berlin:20260712T090000
DTEND;TZID=Europe/Berlin:20260712T170000
UID:26F50D03-20260712T090000@KVW BIBOZEN
SUMMARY:Massageausbildung - Holistic Touch 13. Auflage. (26F50D03) 
LOCATION:KVW Kursraum Brixen, Hofgasse 2, 39042 Brixen
END:VEVENT
BEGIN:VEVENT
DTSTAMP:20260420T103505
DTSTART;TZID=Europe/Berlin:20260801T090000
DTEND;TZID=Europe/Berlin:20260801T180000
UID:26F50D03-20260801T090000@KVW BIBOZEN
SUMMARY:Massageausbildung - Holistic Touch 13. Auflage. (26F50D03) 
LOCATION:KVW Kursraum Brixen, Hofgasse 2, 39042 Brixen
END:VEVENT
BEGIN:VEVENT
DTSTAMP:20260420T103505
DTSTART;TZID=Europe/Berlin:20260802T090000
DTEND;TZID=Europe/Berlin:20260802T170000
UID:26F50D03-20260802T090000@KVW BIBOZEN
SUMMARY:Massageausbildung - Holistic Touch 13. Auflage. (26F50D03) 
LOCATION:KVW Kursraum Brixen, Hofgasse 2, 39042 Brixen
END:VEVENT
END:VCALENDAR