BEGIN:VCALENDAR
PRODID:http://www.kufer.de/kuferweb / DE
VERSION:2.0
METHOD:PUBLISH
CALSCALE:GREGORIAN
X-WR-TIMEZONE:Europe/Berlin
BEGIN:VTIMEZONE
TZID:Europe/Berlin
X-LIC-LOCATION:Europe/Berlin
BEGIN:DAYLIGHT
TZOFFSETFROM:+0100
TZOFFSETTO:+0200
TZNAME:CEST
DTSTART;TZID=Europe/Berlin:19700329T020000
RRULE:FREQ=YEARLY;INTERVAL=1;BYDAY=-1SU;BYMONTH=3
END:DAYLIGHT
BEGIN:STANDARD
TZOFFSETFROM:+0200
TZOFFSETTO:+0100
TZNAME:CET
DTSTART;TZID=Europe/Berlin:19701025T030000
RRULE:FREQ=YEARLY;INTERVAL=1;BYDAY=-1SU;BYMONTH=10
END:STANDARD
END:VTIMEZONE
BEGIN:VEVENT
DTSTAMP:20260420T103531
DTSTART;TZID=Europe/Berlin:20260116T090000
DTEND;TZID=Europe/Berlin:20260116T100000
UID:26F50E07-20260116T090000@KVW BIBOZEN
SUMMARY:Wassergymnastik (26F50E07) 
LOCATION:Pastor Angelicus - Schwimmbad, Dantestraße 34, 39012 Meran
END:VEVENT
BEGIN:VEVENT
DTSTAMP:20260420T103531
DTSTART;TZID=Europe/Berlin:20260123T090000
DTEND;TZID=Europe/Berlin:20260123T100000
UID:26F50E07-20260123T090000@KVW BIBOZEN
SUMMARY:Wassergymnastik (26F50E07) 
LOCATION:Pastor Angelicus - Schwimmbad, Dantestraße 34, 39012 Meran
END:VEVENT
BEGIN:VEVENT
DTSTAMP:20260420T103531
DTSTART;TZID=Europe/Berlin:20260130T090000
DTEND;TZID=Europe/Berlin:20260130T100000
UID:26F50E07-20260130T090000@KVW BIBOZEN
SUMMARY:Wassergymnastik (26F50E07) 
LOCATION:Pastor Angelicus - Schwimmbad, Dantestraße 34, 39012 Meran
END:VEVENT
BEGIN:VEVENT
DTSTAMP:20260420T103531
DTSTART;TZID=Europe/Berlin:20260206T090000
DTEND;TZID=Europe/Berlin:20260206T100000
UID:26F50E07-20260206T090000@KVW BIBOZEN
SUMMARY:Wassergymnastik (26F50E07) 
LOCATION:Pastor Angelicus - Schwimmbad, Dantestraße 34, 39012 Meran
END:VEVENT
BEGIN:VEVENT
DTSTAMP:20260420T103531
DTSTART;TZID=Europe/Berlin:20260227T090000
DTEND;TZID=Europe/Berlin:20260227T100000
UID:26F50E07-20260227T090000@KVW BIBOZEN
SUMMARY:Wassergymnastik (26F50E07) 
LOCATION:Pastor Angelicus - Schwimmbad, Dantestraße 34, 39012 Meran
END:VEVENT
BEGIN:VEVENT
DTSTAMP:20260420T103531
DTSTART;TZID=Europe/Berlin:20260306T090000
DTEND;TZID=Europe/Berlin:20260306T100000
UID:26F50E07-20260306T090000@KVW BIBOZEN
SUMMARY:Wassergymnastik (26F50E07) 
LOCATION:Pastor Angelicus - Schwimmbad, Dantestraße 34, 39012 Meran
END:VEVENT
BEGIN:VEVENT
DTSTAMP:20260420T103531
DTSTART;TZID=Europe/Berlin:20260313T090000
DTEND;TZID=Europe/Berlin:20260313T100000
UID:26F50E07-20260313T090000@KVW BIBOZEN
SUMMARY:Wassergymnastik (26F50E07) 
LOCATION:Pastor Angelicus - Schwimmbad, Dantestraße 34, 39012 Meran
END:VEVENT
BEGIN:VEVENT
DTSTAMP:20260420T103531
DTSTART;TZID=Europe/Berlin:20260320T090000
DTEND;TZID=Europe/Berlin:20260320T100000
UID:26F50E07-20260320T090000@KVW BIBOZEN
SUMMARY:Wassergymnastik (26F50E07) 
LOCATION:Pastor Angelicus - Schwimmbad, Dantestraße 34, 39012 Meran
END:VEVENT
BEGIN:VEVENT
DTSTAMP:20260420T103531
DTSTART;TZID=Europe/Berlin:20260327T090000
DTEND;TZID=Europe/Berlin:20260327T100000
UID:26F50E07-20260327T090000@KVW BIBOZEN
SUMMARY:Wassergymnastik (26F50E07) 
LOCATION:Pastor Angelicus - Schwimmbad, Dantestraße 34, 39012 Meran
END:VEVENT
BEGIN:VEVENT
DTSTAMP:20260420T103531
DTSTART;TZID=Europe/Berlin:20260410T090000
DTEND;TZID=Europe/Berlin:20260410T100000
UID:26F50E07-20260410T090000@KVW BIBOZEN
SUMMARY:Wassergymnastik (26F50E07) 
LOCATION:Pastor Angelicus - Schwimmbad, Dantestraße 34, 39012 Meran
END:VEVENT
BEGIN:VEVENT
DTSTAMP:20260420T103531
DTSTART;TZID=Europe/Berlin:20260417T090000
DTEND;TZID=Europe/Berlin:20260417T100000
UID:26F50E07-20260417T090000@KVW BIBOZEN
SUMMARY:Wassergymnastik (26F50E07) 
LOCATION:Pastor Angelicus - Schwimmbad, Dantestraße 34, 39012 Meran
END:VEVENT
BEGIN:VEVENT
DTSTAMP:20260420T103531
DTSTART;TZID=Europe/Berlin:20260424T090000
DTEND;TZID=Europe/Berlin:20260424T100000
UID:26F50E07-20260424T090000@KVW BIBOZEN
SUMMARY:Wassergymnastik (26F50E07) 
LOCATION:Pastor Angelicus - Schwimmbad, Dantestraße 34, 39012 Meran
END:VEVENT
END:VCALENDAR