BEGIN:VCALENDAR
PRODID:http://www.kufer.de/kuferweb / DE
VERSION:2.0
METHOD:PUBLISH
CALSCALE:GREGORIAN
X-WR-TIMEZONE:Europe/Berlin
BEGIN:VTIMEZONE
TZID:Europe/Berlin
X-LIC-LOCATION:Europe/Berlin
BEGIN:DAYLIGHT
TZOFFSETFROM:+0100
TZOFFSETTO:+0200
TZNAME:CEST
DTSTART;TZID=Europe/Berlin:19700329T020000
RRULE:FREQ=YEARLY;INTERVAL=1;BYDAY=-1SU;BYMONTH=3
END:DAYLIGHT
BEGIN:STANDARD
TZOFFSETFROM:+0200
TZOFFSETTO:+0100
TZNAME:CET
DTSTART;TZID=Europe/Berlin:19701025T030000
RRULE:FREQ=YEARLY;INTERVAL=1;BYDAY=-1SU;BYMONTH=10
END:STANDARD
END:VTIMEZONE
BEGIN:VEVENT
DTSTAMP:20260420T084926
DTSTART;TZID=Europe/Berlin:20260112T083000
DTEND;TZID=Europe/Berlin:20260112T093000
UID:26F50E09-20260112T083000@KVW BIBOZEN
SUMMARY:Wassergymnastik (26F50E09) 
LOCATION:Kapuzinerstiftung Liebeswerk - Schwimmbad, Goethestraße 15, 39012 Meran
END:VEVENT
BEGIN:VEVENT
DTSTAMP:20260420T084926
DTSTART;TZID=Europe/Berlin:20260119T083000
DTEND;TZID=Europe/Berlin:20260119T093000
UID:26F50E09-20260119T083000@KVW BIBOZEN
SUMMARY:Wassergymnastik (26F50E09) 
LOCATION:Kapuzinerstiftung Liebeswerk - Schwimmbad, Goethestraße 15, 39012 Meran
END:VEVENT
BEGIN:VEVENT
DTSTAMP:20260420T084926
DTSTART;TZID=Europe/Berlin:20260126T083000
DTEND;TZID=Europe/Berlin:20260126T093000
UID:26F50E09-20260126T083000@KVW BIBOZEN
SUMMARY:Wassergymnastik (26F50E09) 
LOCATION:Kapuzinerstiftung Liebeswerk - Schwimmbad, Goethestraße 15, 39012 Meran
END:VEVENT
BEGIN:VEVENT
DTSTAMP:20260420T084926
DTSTART;TZID=Europe/Berlin:20260202T083000
DTEND;TZID=Europe/Berlin:20260202T093000
UID:26F50E09-20260202T083000@KVW BIBOZEN
SUMMARY:Wassergymnastik (26F50E09) 
LOCATION:Kapuzinerstiftung Liebeswerk - Schwimmbad, Goethestraße 15, 39012 Meran
END:VEVENT
BEGIN:VEVENT
DTSTAMP:20260420T084926
DTSTART;TZID=Europe/Berlin:20260209T083000
DTEND;TZID=Europe/Berlin:20260209T093000
UID:26F50E09-20260209T083000@KVW BIBOZEN
SUMMARY:Wassergymnastik (26F50E09) 
LOCATION:Kapuzinerstiftung Liebeswerk - Schwimmbad, Goethestraße 15, 39012 Meran
END:VEVENT
BEGIN:VEVENT
DTSTAMP:20260420T084926
DTSTART;TZID=Europe/Berlin:20260223T083000
DTEND;TZID=Europe/Berlin:20260223T093000
UID:26F50E09-20260223T083000@KVW BIBOZEN
SUMMARY:Wassergymnastik (26F50E09) 
LOCATION:Kapuzinerstiftung Liebeswerk - Schwimmbad, Goethestraße 15, 39012 Meran
END:VEVENT
BEGIN:VEVENT
DTSTAMP:20260420T084926
DTSTART;TZID=Europe/Berlin:20260302T083000
DTEND;TZID=Europe/Berlin:20260302T093000
UID:26F50E09-20260302T083000@KVW BIBOZEN
SUMMARY:Wassergymnastik (26F50E09) 
LOCATION:Kapuzinerstiftung Liebeswerk - Schwimmbad, Goethestraße 15, 39012 Meran
END:VEVENT
BEGIN:VEVENT
DTSTAMP:20260420T084926
DTSTART;TZID=Europe/Berlin:20260309T083000
DTEND;TZID=Europe/Berlin:20260309T093000
UID:26F50E09-20260309T083000@KVW BIBOZEN
SUMMARY:Wassergymnastik (26F50E09) 
LOCATION:Kapuzinerstiftung Liebeswerk - Schwimmbad, Goethestraße 15, 39012 Meran
END:VEVENT
BEGIN:VEVENT
DTSTAMP:20260420T084926
DTSTART;TZID=Europe/Berlin:20260316T083000
DTEND;TZID=Europe/Berlin:20260316T093000
UID:26F50E09-20260316T083000@KVW BIBOZEN
SUMMARY:Wassergymnastik (26F50E09) 
LOCATION:Kapuzinerstiftung Liebeswerk - Schwimmbad, Goethestraße 15, 39012 Meran
END:VEVENT
BEGIN:VEVENT
DTSTAMP:20260420T084926
DTSTART;TZID=Europe/Berlin:20260323T083000
DTEND;TZID=Europe/Berlin:20260323T093000
UID:26F50E09-20260323T083000@KVW BIBOZEN
SUMMARY:Wassergymnastik (26F50E09) 
LOCATION:Kapuzinerstiftung Liebeswerk - Schwimmbad, Goethestraße 15, 39012 Meran
END:VEVENT
BEGIN:VEVENT
DTSTAMP:20260420T084926
DTSTART;TZID=Europe/Berlin:20260330T083000
DTEND;TZID=Europe/Berlin:20260330T093000
UID:26F50E09-20260330T083000@KVW BIBOZEN
SUMMARY:Wassergymnastik (26F50E09) 
LOCATION:Kapuzinerstiftung Liebeswerk - Schwimmbad, Goethestraße 15, 39012 Meran
END:VEVENT
BEGIN:VEVENT
DTSTAMP:20260420T084926
DTSTART;TZID=Europe/Berlin:20260413T083000
DTEND;TZID=Europe/Berlin:20260413T093000
UID:26F50E09-20260413T083000@KVW BIBOZEN
SUMMARY:Wassergymnastik (26F50E09) 
LOCATION:Kapuzinerstiftung Liebeswerk - Schwimmbad, Goethestraße 15, 39012 Meran
END:VEVENT
BEGIN:VEVENT
DTSTAMP:20260420T084926
DTSTART;TZID=Europe/Berlin:20260420T083000
DTEND;TZID=Europe/Berlin:20260420T093000
UID:26F50E09-20260420T083000@KVW BIBOZEN
SUMMARY:Wassergymnastik (26F50E09) 
LOCATION:Kapuzinerstiftung Liebeswerk - Schwimmbad, Goethestraße 15, 39012 Meran
END:VEVENT
END:VCALENDAR