BEGIN:VCALENDAR
PRODID:http://www.kufer.de/kuferweb / DE
VERSION:2.0
METHOD:PUBLISH
CALSCALE:GREGORIAN
X-WR-TIMEZONE:Europe/Berlin
BEGIN:VTIMEZONE
TZID:Europe/Berlin
X-LIC-LOCATION:Europe/Berlin
BEGIN:DAYLIGHT
TZOFFSETFROM:+0100
TZOFFSETTO:+0200
TZNAME:CEST
DTSTART;TZID=Europe/Berlin:19700329T020000
RRULE:FREQ=YEARLY;INTERVAL=1;BYDAY=-1SU;BYMONTH=3
END:DAYLIGHT
BEGIN:STANDARD
TZOFFSETFROM:+0200
TZOFFSETTO:+0100
TZNAME:CET
DTSTART;TZID=Europe/Berlin:19701025T030000
RRULE:FREQ=YEARLY;INTERVAL=1;BYDAY=-1SU;BYMONTH=10
END:STANDARD
END:VTIMEZONE
BEGIN:VEVENT
DTSTAMP:20260420T084952
DTSTART;TZID=Europe/Berlin:20260112T150000
DTEND;TZID=Europe/Berlin:20260112T160000
UID:26F50E10-20260112T150000@KVW BIBOZEN
SUMMARY:Wassergymnastik (26F50E10) 
LOCATION:Kapuzinerstiftung Liebeswerk - Schwimmbad, Goethestraße 15, 39012 Meran
END:VEVENT
BEGIN:VEVENT
DTSTAMP:20260420T084952
DTSTART;TZID=Europe/Berlin:20260119T150000
DTEND;TZID=Europe/Berlin:20260119T160000
UID:26F50E10-20260119T150000@KVW BIBOZEN
SUMMARY:Wassergymnastik (26F50E10) 
LOCATION:Kapuzinerstiftung Liebeswerk - Schwimmbad, Goethestraße 15, 39012 Meran
END:VEVENT
BEGIN:VEVENT
DTSTAMP:20260420T084952
DTSTART;TZID=Europe/Berlin:20260126T150000
DTEND;TZID=Europe/Berlin:20260126T160000
UID:26F50E10-20260126T150000@KVW BIBOZEN
SUMMARY:Wassergymnastik (26F50E10) 
LOCATION:Kapuzinerstiftung Liebeswerk - Schwimmbad, Goethestraße 15, 39012 Meran
END:VEVENT
BEGIN:VEVENT
DTSTAMP:20260420T084952
DTSTART;TZID=Europe/Berlin:20260202T150000
DTEND;TZID=Europe/Berlin:20260202T160000
UID:26F50E10-20260202T150000@KVW BIBOZEN
SUMMARY:Wassergymnastik (26F50E10) 
LOCATION:Kapuzinerstiftung Liebeswerk - Schwimmbad, Goethestraße 15, 39012 Meran
END:VEVENT
BEGIN:VEVENT
DTSTAMP:20260420T084952
DTSTART;TZID=Europe/Berlin:20260209T150000
DTEND;TZID=Europe/Berlin:20260209T160000
UID:26F50E10-20260209T150000@KVW BIBOZEN
SUMMARY:Wassergymnastik (26F50E10) 
LOCATION:Kapuzinerstiftung Liebeswerk - Schwimmbad, Goethestraße 15, 39012 Meran
END:VEVENT
BEGIN:VEVENT
DTSTAMP:20260420T084952
DTSTART;TZID=Europe/Berlin:20260223T150000
DTEND;TZID=Europe/Berlin:20260223T160000
UID:26F50E10-20260223T150000@KVW BIBOZEN
SUMMARY:Wassergymnastik (26F50E10) 
LOCATION:Kapuzinerstiftung Liebeswerk - Schwimmbad, Goethestraße 15, 39012 Meran
END:VEVENT
BEGIN:VEVENT
DTSTAMP:20260420T084952
DTSTART;TZID=Europe/Berlin:20260302T150000
DTEND;TZID=Europe/Berlin:20260302T160000
UID:26F50E10-20260302T150000@KVW BIBOZEN
SUMMARY:Wassergymnastik (26F50E10) 
LOCATION:Kapuzinerstiftung Liebeswerk - Schwimmbad, Goethestraße 15, 39012 Meran
END:VEVENT
BEGIN:VEVENT
DTSTAMP:20260420T084952
DTSTART;TZID=Europe/Berlin:20260309T150000
DTEND;TZID=Europe/Berlin:20260309T160000
UID:26F50E10-20260309T150000@KVW BIBOZEN
SUMMARY:Wassergymnastik (26F50E10) 
LOCATION:Kapuzinerstiftung Liebeswerk - Schwimmbad, Goethestraße 15, 39012 Meran
END:VEVENT
BEGIN:VEVENT
DTSTAMP:20260420T084952
DTSTART;TZID=Europe/Berlin:20260316T150000
DTEND;TZID=Europe/Berlin:20260316T160000
UID:26F50E10-20260316T150000@KVW BIBOZEN
SUMMARY:Wassergymnastik (26F50E10) 
LOCATION:Kapuzinerstiftung Liebeswerk - Schwimmbad, Goethestraße 15, 39012 Meran
END:VEVENT
BEGIN:VEVENT
DTSTAMP:20260420T084952
DTSTART;TZID=Europe/Berlin:20260323T150000
DTEND;TZID=Europe/Berlin:20260323T160000
UID:26F50E10-20260323T150000@KVW BIBOZEN
SUMMARY:Wassergymnastik (26F50E10) 
LOCATION:Kapuzinerstiftung Liebeswerk - Schwimmbad, Goethestraße 15, 39012 Meran
END:VEVENT
BEGIN:VEVENT
DTSTAMP:20260420T084952
DTSTART;TZID=Europe/Berlin:20260330T150000
DTEND;TZID=Europe/Berlin:20260330T160000
UID:26F50E10-20260330T150000@KVW BIBOZEN
SUMMARY:Wassergymnastik (26F50E10) 
LOCATION:Kapuzinerstiftung Liebeswerk - Schwimmbad, Goethestraße 15, 39012 Meran
END:VEVENT
BEGIN:VEVENT
DTSTAMP:20260420T084952
DTSTART;TZID=Europe/Berlin:20260413T150000
DTEND;TZID=Europe/Berlin:20260413T160000
UID:26F50E10-20260413T150000@KVW BIBOZEN
SUMMARY:Wassergymnastik (26F50E10) 
LOCATION:Kapuzinerstiftung Liebeswerk - Schwimmbad, Goethestraße 15, 39012 Meran
END:VEVENT
BEGIN:VEVENT
DTSTAMP:20260420T084952
DTSTART;TZID=Europe/Berlin:20260420T150000
DTEND;TZID=Europe/Berlin:20260420T160000
UID:26F50E10-20260420T150000@KVW BIBOZEN
SUMMARY:Wassergymnastik (26F50E10) 
LOCATION:Kapuzinerstiftung Liebeswerk - Schwimmbad, Goethestraße 15, 39012 Meran
END:VEVENT
END:VCALENDAR