BEGIN:VCALENDAR
PRODID:http://www.kufer.de/kuferweb / DE
VERSION:2.0
METHOD:PUBLISH
CALSCALE:GREGORIAN
X-WR-TIMEZONE:Europe/Berlin
BEGIN:VTIMEZONE
TZID:Europe/Berlin
X-LIC-LOCATION:Europe/Berlin
BEGIN:DAYLIGHT
TZOFFSETFROM:+0100
TZOFFSETTO:+0200
TZNAME:CEST
DTSTART;TZID=Europe/Berlin:19700329T020000
RRULE:FREQ=YEARLY;INTERVAL=1;BYDAY=-1SU;BYMONTH=3
END:DAYLIGHT
BEGIN:STANDARD
TZOFFSETFROM:+0200
TZOFFSETTO:+0100
TZNAME:CET
DTSTART;TZID=Europe/Berlin:19701025T030000
RRULE:FREQ=YEARLY;INTERVAL=1;BYDAY=-1SU;BYMONTH=10
END:STANDARD
END:VTIMEZONE
BEGIN:VEVENT
DTSTAMP:20260420T084952
DTSTART;TZID=Europe/Berlin:20260113T083000
DTEND;TZID=Europe/Berlin:20260113T093000
UID:26F50E11-20260113T083000@KVW BIBOZEN
SUMMARY:Pilates (26F50E11) 
LOCATION:KVW Bewegungsraum Meran, Otto-Huber-Straße 84, 39012 Meran
END:VEVENT
BEGIN:VEVENT
DTSTAMP:20260420T084952
DTSTART;TZID=Europe/Berlin:20260120T083000
DTEND;TZID=Europe/Berlin:20260120T093000
UID:26F50E11-20260120T083000@KVW BIBOZEN
SUMMARY:Pilates (26F50E11) 
LOCATION:KVW Bewegungsraum Meran, Otto-Huber-Straße 84, 39012 Meran
END:VEVENT
BEGIN:VEVENT
DTSTAMP:20260420T084952
DTSTART;TZID=Europe/Berlin:20260127T083000
DTEND;TZID=Europe/Berlin:20260127T093000
UID:26F50E11-20260127T083000@KVW BIBOZEN
SUMMARY:Pilates (26F50E11) 
LOCATION:KVW Bewegungsraum Meran, Otto-Huber-Straße 84, 39012 Meran
END:VEVENT
BEGIN:VEVENT
DTSTAMP:20260420T084952
DTSTART;TZID=Europe/Berlin:20260203T083000
DTEND;TZID=Europe/Berlin:20260203T093000
UID:26F50E11-20260203T083000@KVW BIBOZEN
SUMMARY:Pilates (26F50E11) 
LOCATION:KVW Bewegungsraum Meran, Otto-Huber-Straße 84, 39012 Meran
END:VEVENT
BEGIN:VEVENT
DTSTAMP:20260420T084952
DTSTART;TZID=Europe/Berlin:20260210T083000
DTEND;TZID=Europe/Berlin:20260210T093000
UID:26F50E11-20260210T083000@KVW BIBOZEN
SUMMARY:Pilates (26F50E11) 
LOCATION:KVW Bewegungsraum Meran, Otto-Huber-Straße 84, 39012 Meran
END:VEVENT
BEGIN:VEVENT
DTSTAMP:20260420T084952
DTSTART;TZID=Europe/Berlin:20260224T083000
DTEND;TZID=Europe/Berlin:20260224T093000
UID:26F50E11-20260224T083000@KVW BIBOZEN
SUMMARY:Pilates (26F50E11) 
LOCATION:KVW Bewegungsraum Meran, Otto-Huber-Straße 84, 39012 Meran
END:VEVENT
BEGIN:VEVENT
DTSTAMP:20260420T084952
DTSTART;TZID=Europe/Berlin:20260303T083000
DTEND;TZID=Europe/Berlin:20260303T093000
UID:26F50E11-20260303T083000@KVW BIBOZEN
SUMMARY:Pilates (26F50E11) 
LOCATION:KVW Bewegungsraum Meran, Otto-Huber-Straße 84, 39012 Meran
END:VEVENT
BEGIN:VEVENT
DTSTAMP:20260420T084952
DTSTART;TZID=Europe/Berlin:20260310T083000
DTEND;TZID=Europe/Berlin:20260310T093000
UID:26F50E11-20260310T083000@KVW BIBOZEN
SUMMARY:Pilates (26F50E11) 
LOCATION:KVW Bewegungsraum Meran, Otto-Huber-Straße 84, 39012 Meran
END:VEVENT
BEGIN:VEVENT
DTSTAMP:20260420T084952
DTSTART;TZID=Europe/Berlin:20260317T083000
DTEND;TZID=Europe/Berlin:20260317T093000
UID:26F50E11-20260317T083000@KVW BIBOZEN
SUMMARY:Pilates (26F50E11) 
LOCATION:KVW Bewegungsraum Meran, Otto-Huber-Straße 84, 39012 Meran
END:VEVENT
BEGIN:VEVENT
DTSTAMP:20260420T084952
DTSTART;TZID=Europe/Berlin:20260324T083000
DTEND;TZID=Europe/Berlin:20260324T093000
UID:26F50E11-20260324T083000@KVW BIBOZEN
SUMMARY:Pilates (26F50E11) 
LOCATION:KVW Bewegungsraum Meran, Otto-Huber-Straße 84, 39012 Meran
END:VEVENT
BEGIN:VEVENT
DTSTAMP:20260420T084952
DTSTART;TZID=Europe/Berlin:20260331T083000
DTEND;TZID=Europe/Berlin:20260331T093000
UID:26F50E11-20260331T083000@KVW BIBOZEN
SUMMARY:Pilates (26F50E11) 
LOCATION:KVW Bewegungsraum Meran, Otto-Huber-Straße 84, 39012 Meran
END:VEVENT
BEGIN:VEVENT
DTSTAMP:20260420T084952
DTSTART;TZID=Europe/Berlin:20260414T083000
DTEND;TZID=Europe/Berlin:20260414T093000
UID:26F50E11-20260414T083000@KVW BIBOZEN
SUMMARY:Pilates (26F50E11) 
LOCATION:KVW Bewegungsraum Meran, Otto-Huber-Straße 84, 39012 Meran
END:VEVENT
BEGIN:VEVENT
DTSTAMP:20260420T084952
DTSTART;TZID=Europe/Berlin:20260421T083000
DTEND;TZID=Europe/Berlin:20260421T093000
UID:26F50E11-20260421T083000@KVW BIBOZEN
SUMMARY:Pilates (26F50E11) 
LOCATION:KVW Bewegungsraum Meran, Otto-Huber-Straße 84, 39012 Meran
END:VEVENT
END:VCALENDAR