BEGIN:VCALENDAR
PRODID:http://www.kufer.de/kuferweb / DE
VERSION:2.0
METHOD:PUBLISH
CALSCALE:GREGORIAN
X-WR-TIMEZONE:Europe/Berlin
BEGIN:VTIMEZONE
TZID:Europe/Berlin
X-LIC-LOCATION:Europe/Berlin
BEGIN:DAYLIGHT
TZOFFSETFROM:+0100
TZOFFSETTO:+0200
TZNAME:CEST
DTSTART;TZID=Europe/Berlin:19700329T020000
RRULE:FREQ=YEARLY;INTERVAL=1;BYDAY=-1SU;BYMONTH=3
END:DAYLIGHT
BEGIN:STANDARD
TZOFFSETFROM:+0200
TZOFFSETTO:+0100
TZNAME:CET
DTSTART;TZID=Europe/Berlin:19701025T030000
RRULE:FREQ=YEARLY;INTERVAL=1;BYDAY=-1SU;BYMONTH=10
END:STANDARD
END:VTIMEZONE
BEGIN:VEVENT
DTSTAMP:20260420T090004
DTSTART;TZID=Europe/Berlin:20260113T094500
DTEND;TZID=Europe/Berlin:20260113T104500
UID:26F50E12-20260113T094500@KVW BIBOZEN
SUMMARY:Bauch-Beine-Po-Workout (26F50E12) 
LOCATION:KVW Bewegungsraum Meran, Otto-Huber-Straße 84, 39012 Meran
END:VEVENT
BEGIN:VEVENT
DTSTAMP:20260420T090004
DTSTART;TZID=Europe/Berlin:20260120T094500
DTEND;TZID=Europe/Berlin:20260120T104500
UID:26F50E12-20260120T094500@KVW BIBOZEN
SUMMARY:Bauch-Beine-Po-Workout (26F50E12) 
LOCATION:KVW Bewegungsraum Meran, Otto-Huber-Straße 84, 39012 Meran
END:VEVENT
BEGIN:VEVENT
DTSTAMP:20260420T090004
DTSTART;TZID=Europe/Berlin:20260127T094500
DTEND;TZID=Europe/Berlin:20260127T104500
UID:26F50E12-20260127T094500@KVW BIBOZEN
SUMMARY:Bauch-Beine-Po-Workout (26F50E12) 
LOCATION:KVW Bewegungsraum Meran, Otto-Huber-Straße 84, 39012 Meran
END:VEVENT
BEGIN:VEVENT
DTSTAMP:20260420T090004
DTSTART;TZID=Europe/Berlin:20260203T094500
DTEND;TZID=Europe/Berlin:20260203T104500
UID:26F50E12-20260203T094500@KVW BIBOZEN
SUMMARY:Bauch-Beine-Po-Workout (26F50E12) 
LOCATION:KVW Bewegungsraum Meran, Otto-Huber-Straße 84, 39012 Meran
END:VEVENT
BEGIN:VEVENT
DTSTAMP:20260420T090004
DTSTART;TZID=Europe/Berlin:20260210T094500
DTEND;TZID=Europe/Berlin:20260210T104500
UID:26F50E12-20260210T094500@KVW BIBOZEN
SUMMARY:Bauch-Beine-Po-Workout (26F50E12) 
LOCATION:KVW Bewegungsraum Meran, Otto-Huber-Straße 84, 39012 Meran
END:VEVENT
BEGIN:VEVENT
DTSTAMP:20260420T090004
DTSTART;TZID=Europe/Berlin:20260224T094500
DTEND;TZID=Europe/Berlin:20260224T104500
UID:26F50E12-20260224T094500@KVW BIBOZEN
SUMMARY:Bauch-Beine-Po-Workout (26F50E12) 
LOCATION:KVW Bewegungsraum Meran, Otto-Huber-Straße 84, 39012 Meran
END:VEVENT
BEGIN:VEVENT
DTSTAMP:20260420T090004
DTSTART;TZID=Europe/Berlin:20260303T094500
DTEND;TZID=Europe/Berlin:20260303T104500
UID:26F50E12-20260303T094500@KVW BIBOZEN
SUMMARY:Bauch-Beine-Po-Workout (26F50E12) 
LOCATION:KVW Bewegungsraum Meran, Otto-Huber-Straße 84, 39012 Meran
END:VEVENT
BEGIN:VEVENT
DTSTAMP:20260420T090004
DTSTART;TZID=Europe/Berlin:20260310T094500
DTEND;TZID=Europe/Berlin:20260310T104500
UID:26F50E12-20260310T094500@KVW BIBOZEN
SUMMARY:Bauch-Beine-Po-Workout (26F50E12) 
LOCATION:KVW Bewegungsraum Meran, Otto-Huber-Straße 84, 39012 Meran
END:VEVENT
BEGIN:VEVENT
DTSTAMP:20260420T090004
DTSTART;TZID=Europe/Berlin:20260317T094500
DTEND;TZID=Europe/Berlin:20260317T104500
UID:26F50E12-20260317T094500@KVW BIBOZEN
SUMMARY:Bauch-Beine-Po-Workout (26F50E12) 
LOCATION:KVW Bewegungsraum Meran, Otto-Huber-Straße 84, 39012 Meran
END:VEVENT
BEGIN:VEVENT
DTSTAMP:20260420T090004
DTSTART;TZID=Europe/Berlin:20260324T094500
DTEND;TZID=Europe/Berlin:20260324T104500
UID:26F50E12-20260324T094500@KVW BIBOZEN
SUMMARY:Bauch-Beine-Po-Workout (26F50E12) 
LOCATION:KVW Bewegungsraum Meran, Otto-Huber-Straße 84, 39012 Meran
END:VEVENT
BEGIN:VEVENT
DTSTAMP:20260420T090004
DTSTART;TZID=Europe/Berlin:20260331T094500
DTEND;TZID=Europe/Berlin:20260331T104500
UID:26F50E12-20260331T094500@KVW BIBOZEN
SUMMARY:Bauch-Beine-Po-Workout (26F50E12) 
LOCATION:KVW Bewegungsraum Meran, Otto-Huber-Straße 84, 39012 Meran
END:VEVENT
BEGIN:VEVENT
DTSTAMP:20260420T090004
DTSTART;TZID=Europe/Berlin:20260414T094500
DTEND;TZID=Europe/Berlin:20260414T104500
UID:26F50E12-20260414T094500@KVW BIBOZEN
SUMMARY:Bauch-Beine-Po-Workout (26F50E12) 
LOCATION:KVW Bewegungsraum Meran, Otto-Huber-Straße 84, 39012 Meran
END:VEVENT
BEGIN:VEVENT
DTSTAMP:20260420T090004
DTSTART;TZID=Europe/Berlin:20260421T094500
DTEND;TZID=Europe/Berlin:20260421T104500
UID:26F50E12-20260421T094500@KVW BIBOZEN
SUMMARY:Bauch-Beine-Po-Workout (26F50E12) 
LOCATION:KVW Bewegungsraum Meran, Otto-Huber-Straße 84, 39012 Meran
END:VEVENT
END:VCALENDAR