BEGIN:VCALENDAR
PRODID:http://www.kufer.de/kuferweb / DE
VERSION:2.0
METHOD:PUBLISH
CALSCALE:GREGORIAN
X-WR-TIMEZONE:Europe/Berlin
BEGIN:VTIMEZONE
TZID:Europe/Berlin
X-LIC-LOCATION:Europe/Berlin
BEGIN:DAYLIGHT
TZOFFSETFROM:+0100
TZOFFSETTO:+0200
TZNAME:CEST
DTSTART;TZID=Europe/Berlin:19700329T020000
RRULE:FREQ=YEARLY;INTERVAL=1;BYDAY=-1SU;BYMONTH=3
END:DAYLIGHT
BEGIN:STANDARD
TZOFFSETFROM:+0200
TZOFFSETTO:+0100
TZNAME:CET
DTSTART;TZID=Europe/Berlin:19701025T030000
RRULE:FREQ=YEARLY;INTERVAL=1;BYDAY=-1SU;BYMONTH=10
END:STANDARD
END:VTIMEZONE
BEGIN:VEVENT
DTSTAMP:20260420T090003
DTSTART;TZID=Europe/Berlin:20260113T183000
DTEND;TZID=Europe/Berlin:20260113T193000
UID:26F50E14-20260113T183000@KVW BIBOZEN
SUMMARY:Pilates (26F50E14) 
LOCATION:KVW Bewegungsraum Meran, Otto-Huber-Straße 84, 39012 Meran
END:VEVENT
BEGIN:VEVENT
DTSTAMP:20260420T090003
DTSTART;TZID=Europe/Berlin:20260120T183000
DTEND;TZID=Europe/Berlin:20260120T193000
UID:26F50E14-20260120T183000@KVW BIBOZEN
SUMMARY:Pilates (26F50E14) 
LOCATION:KVW Bewegungsraum Meran, Otto-Huber-Straße 84, 39012 Meran
END:VEVENT
BEGIN:VEVENT
DTSTAMP:20260420T090003
DTSTART;TZID=Europe/Berlin:20260127T183000
DTEND;TZID=Europe/Berlin:20260127T193000
UID:26F50E14-20260127T183000@KVW BIBOZEN
SUMMARY:Pilates (26F50E14) 
LOCATION:KVW Bewegungsraum Meran, Otto-Huber-Straße 84, 39012 Meran
END:VEVENT
BEGIN:VEVENT
DTSTAMP:20260420T090003
DTSTART;TZID=Europe/Berlin:20260203T183000
DTEND;TZID=Europe/Berlin:20260203T193000
UID:26F50E14-20260203T183000@KVW BIBOZEN
SUMMARY:Pilates (26F50E14) 
LOCATION:KVW Bewegungsraum Meran, Otto-Huber-Straße 84, 39012 Meran
END:VEVENT
BEGIN:VEVENT
DTSTAMP:20260420T090003
DTSTART;TZID=Europe/Berlin:20260210T183000
DTEND;TZID=Europe/Berlin:20260210T193000
UID:26F50E14-20260210T183000@KVW BIBOZEN
SUMMARY:Pilates (26F50E14) 
LOCATION:KVW Bewegungsraum Meran, Otto-Huber-Straße 84, 39012 Meran
END:VEVENT
BEGIN:VEVENT
DTSTAMP:20260420T090003
DTSTART;TZID=Europe/Berlin:20260224T183000
DTEND;TZID=Europe/Berlin:20260224T193000
UID:26F50E14-20260224T183000@KVW BIBOZEN
SUMMARY:Pilates (26F50E14) 
LOCATION:KVW Bewegungsraum Meran, Otto-Huber-Straße 84, 39012 Meran
END:VEVENT
BEGIN:VEVENT
DTSTAMP:20260420T090003
DTSTART;TZID=Europe/Berlin:20260303T183000
DTEND;TZID=Europe/Berlin:20260303T193000
UID:26F50E14-20260303T183000@KVW BIBOZEN
SUMMARY:Pilates (26F50E14) 
LOCATION:KVW Bewegungsraum Meran, Otto-Huber-Straße 84, 39012 Meran
END:VEVENT
BEGIN:VEVENT
DTSTAMP:20260420T090003
DTSTART;TZID=Europe/Berlin:20260310T183000
DTEND;TZID=Europe/Berlin:20260310T193000
UID:26F50E14-20260310T183000@KVW BIBOZEN
SUMMARY:Pilates (26F50E14) 
LOCATION:KVW Bewegungsraum Meran, Otto-Huber-Straße 84, 39012 Meran
END:VEVENT
BEGIN:VEVENT
DTSTAMP:20260420T090003
DTSTART;TZID=Europe/Berlin:20260317T183000
DTEND;TZID=Europe/Berlin:20260317T193000
UID:26F50E14-20260317T183000@KVW BIBOZEN
SUMMARY:Pilates (26F50E14) 
LOCATION:KVW Bewegungsraum Meran, Otto-Huber-Straße 84, 39012 Meran
END:VEVENT
BEGIN:VEVENT
DTSTAMP:20260420T090003
DTSTART;TZID=Europe/Berlin:20260324T183000
DTEND;TZID=Europe/Berlin:20260324T193000
UID:26F50E14-20260324T183000@KVW BIBOZEN
SUMMARY:Pilates (26F50E14) 
LOCATION:KVW Bewegungsraum Meran, Otto-Huber-Straße 84, 39012 Meran
END:VEVENT
BEGIN:VEVENT
DTSTAMP:20260420T090003
DTSTART;TZID=Europe/Berlin:20260331T183000
DTEND;TZID=Europe/Berlin:20260331T193000
UID:26F50E14-20260331T183000@KVW BIBOZEN
SUMMARY:Pilates (26F50E14) 
LOCATION:KVW Bewegungsraum Meran, Otto-Huber-Straße 84, 39012 Meran
END:VEVENT
BEGIN:VEVENT
DTSTAMP:20260420T090003
DTSTART;TZID=Europe/Berlin:20260414T183000
DTEND;TZID=Europe/Berlin:20260414T193000
UID:26F50E14-20260414T183000@KVW BIBOZEN
SUMMARY:Pilates (26F50E14) 
LOCATION:KVW Bewegungsraum Meran, Otto-Huber-Straße 84, 39012 Meran
END:VEVENT
BEGIN:VEVENT
DTSTAMP:20260420T090003
DTSTART;TZID=Europe/Berlin:20260421T183000
DTEND;TZID=Europe/Berlin:20260421T193000
UID:26F50E14-20260421T183000@KVW BIBOZEN
SUMMARY:Pilates (26F50E14) 
LOCATION:KVW Bewegungsraum Meran, Otto-Huber-Straße 84, 39012 Meran
END:VEVENT
END:VCALENDAR