BEGIN:VCALENDAR
PRODID:http://www.kufer.de/kuferweb / DE
VERSION:2.0
METHOD:PUBLISH
CALSCALE:GREGORIAN
X-WR-TIMEZONE:Europe/Berlin
BEGIN:VTIMEZONE
TZID:Europe/Berlin
X-LIC-LOCATION:Europe/Berlin
BEGIN:DAYLIGHT
TZOFFSETFROM:+0100
TZOFFSETTO:+0200
TZNAME:CEST
DTSTART;TZID=Europe/Berlin:19700329T020000
RRULE:FREQ=YEARLY;INTERVAL=1;BYDAY=-1SU;BYMONTH=3
END:DAYLIGHT
BEGIN:STANDARD
TZOFFSETFROM:+0200
TZOFFSETTO:+0100
TZNAME:CET
DTSTART;TZID=Europe/Berlin:19701025T030000
RRULE:FREQ=YEARLY;INTERVAL=1;BYDAY=-1SU;BYMONTH=10
END:STANDARD
END:VTIMEZONE
BEGIN:VEVENT
DTSTAMP:20260420T103810
DTSTART;TZID=Europe/Berlin:20260319T160000
DTEND;TZID=Europe/Berlin:20260319T165000
UID:26F50E183-20260319T160000@KVW BIBOZEN
SUMMARY:Die Turnmäuse Spannende Bewegungsparcours für Zwei- und Dreijährige mit Begleitung (26F50E183) 
LOCATION:Haus der Dorfgemeinschaft Wiesen, Wiesen Nr. 110, 39049 Pfitsch
END:VEVENT
BEGIN:VEVENT
DTSTAMP:20260420T103810
DTSTART;TZID=Europe/Berlin:20260326T160000
DTEND;TZID=Europe/Berlin:20260326T165000
UID:26F50E183-20260326T160000@KVW BIBOZEN
SUMMARY:Die Turnmäuse Spannende Bewegungsparcours für Zwei- und Dreijährige mit Begleitung (26F50E183) 
LOCATION:Haus der Dorfgemeinschaft Wiesen, Wiesen Nr. 110, 39049 Pfitsch
END:VEVENT
BEGIN:VEVENT
DTSTAMP:20260420T103810
DTSTART;TZID=Europe/Berlin:20260402T160000
DTEND;TZID=Europe/Berlin:20260402T165000
UID:26F50E183-20260402T160000@KVW BIBOZEN
SUMMARY:Die Turnmäuse Spannende Bewegungsparcours für Zwei- und Dreijährige mit Begleitung (26F50E183) 
LOCATION:Haus der Dorfgemeinschaft Wiesen, Wiesen Nr. 110, 39049 Pfitsch
END:VEVENT
BEGIN:VEVENT
DTSTAMP:20260420T103810
DTSTART;TZID=Europe/Berlin:20260409T160000
DTEND;TZID=Europe/Berlin:20260409T165000
UID:26F50E183-20260409T160000@KVW BIBOZEN
SUMMARY:Die Turnmäuse Spannende Bewegungsparcours für Zwei- und Dreijährige mit Begleitung (26F50E183) 
LOCATION:Haus der Dorfgemeinschaft Wiesen, Wiesen Nr. 110, 39049 Pfitsch
END:VEVENT
BEGIN:VEVENT
DTSTAMP:20260420T103810
DTSTART;TZID=Europe/Berlin:20260416T160000
DTEND;TZID=Europe/Berlin:20260416T165000
UID:26F50E183-20260416T160000@KVW BIBOZEN
SUMMARY:Die Turnmäuse Spannende Bewegungsparcours für Zwei- und Dreijährige mit Begleitung (26F50E183) 
LOCATION:Haus der Dorfgemeinschaft Wiesen, Wiesen Nr. 110, 39049 Pfitsch
END:VEVENT
BEGIN:VEVENT
DTSTAMP:20260420T103810
DTSTART;TZID=Europe/Berlin:20260423T160000
DTEND;TZID=Europe/Berlin:20260423T165000
UID:26F50E183-20260423T160000@KVW BIBOZEN
SUMMARY:Die Turnmäuse Spannende Bewegungsparcours für Zwei- und Dreijährige mit Begleitung (26F50E183) 
LOCATION:Haus der Dorfgemeinschaft Wiesen, Wiesen Nr. 110, 39049 Pfitsch
END:VEVENT
BEGIN:VEVENT
DTSTAMP:20260420T103810
DTSTART;TZID=Europe/Berlin:20260430T160000
DTEND;TZID=Europe/Berlin:20260430T165000
UID:26F50E183-20260430T160000@KVW BIBOZEN
SUMMARY:Die Turnmäuse Spannende Bewegungsparcours für Zwei- und Dreijährige mit Begleitung (26F50E183) 
LOCATION:Haus der Dorfgemeinschaft Wiesen, Wiesen Nr. 110, 39049 Pfitsch
END:VEVENT
BEGIN:VEVENT
DTSTAMP:20260420T103810
DTSTART;TZID=Europe/Berlin:20260507T160000
DTEND;TZID=Europe/Berlin:20260507T165000
UID:26F50E183-20260507T160000@KVW BIBOZEN
SUMMARY:Die Turnmäuse Spannende Bewegungsparcours für Zwei- und Dreijährige mit Begleitung (26F50E183) 
LOCATION:Haus der Dorfgemeinschaft Wiesen, Wiesen Nr. 110, 39049 Pfitsch
END:VEVENT
END:VCALENDAR