BEGIN:VCALENDAR
PRODID:http://www.kufer.de/kuferweb / DE
VERSION:2.0
METHOD:PUBLISH
CALSCALE:GREGORIAN
X-WR-TIMEZONE:Europe/Berlin
BEGIN:VTIMEZONE
TZID:Europe/Berlin
X-LIC-LOCATION:Europe/Berlin
BEGIN:DAYLIGHT
TZOFFSETFROM:+0100
TZOFFSETTO:+0200
TZNAME:CEST
DTSTART;TZID=Europe/Berlin:19700329T020000
RRULE:FREQ=YEARLY;INTERVAL=1;BYDAY=-1SU;BYMONTH=3
END:DAYLIGHT
BEGIN:STANDARD
TZOFFSETFROM:+0200
TZOFFSETTO:+0100
TZNAME:CET
DTSTART;TZID=Europe/Berlin:19701025T030000
RRULE:FREQ=YEARLY;INTERVAL=1;BYDAY=-1SU;BYMONTH=10
END:STANDARD
END:VTIMEZONE
BEGIN:VEVENT
DTSTAMP:20260420T084953
DTSTART;TZID=Europe/Berlin:20260115T084500
DTEND;TZID=Europe/Berlin:20260115T094500
UID:26F50E19-20260115T084500@KVW BIBOZEN
SUMMARY:Wassergymnastik (26F50E19) 
LOCATION:Kapuzinerstiftung Liebeswerk - Schwimmbad, Goethestraße 15, 39012 Meran
END:VEVENT
BEGIN:VEVENT
DTSTAMP:20260420T084953
DTSTART;TZID=Europe/Berlin:20260122T084500
DTEND;TZID=Europe/Berlin:20260122T094500
UID:26F50E19-20260122T084500@KVW BIBOZEN
SUMMARY:Wassergymnastik (26F50E19) 
LOCATION:Kapuzinerstiftung Liebeswerk - Schwimmbad, Goethestraße 15, 39012 Meran
END:VEVENT
BEGIN:VEVENT
DTSTAMP:20260420T084953
DTSTART;TZID=Europe/Berlin:20260129T084500
DTEND;TZID=Europe/Berlin:20260129T094500
UID:26F50E19-20260129T084500@KVW BIBOZEN
SUMMARY:Wassergymnastik (26F50E19) 
LOCATION:Kapuzinerstiftung Liebeswerk - Schwimmbad, Goethestraße 15, 39012 Meran
END:VEVENT
BEGIN:VEVENT
DTSTAMP:20260420T084953
DTSTART;TZID=Europe/Berlin:20260205T084500
DTEND;TZID=Europe/Berlin:20260205T094500
UID:26F50E19-20260205T084500@KVW BIBOZEN
SUMMARY:Wassergymnastik (26F50E19) 
LOCATION:Kapuzinerstiftung Liebeswerk - Schwimmbad, Goethestraße 15, 39012 Meran
END:VEVENT
BEGIN:VEVENT
DTSTAMP:20260420T084953
DTSTART;TZID=Europe/Berlin:20260212T084500
DTEND;TZID=Europe/Berlin:20260212T094500
UID:26F50E19-20260212T084500@KVW BIBOZEN
SUMMARY:Wassergymnastik (26F50E19) 
LOCATION:Kapuzinerstiftung Liebeswerk - Schwimmbad, Goethestraße 15, 39012 Meran
END:VEVENT
BEGIN:VEVENT
DTSTAMP:20260420T084953
DTSTART;TZID=Europe/Berlin:20260226T084500
DTEND;TZID=Europe/Berlin:20260226T094500
UID:26F50E19-20260226T084500@KVW BIBOZEN
SUMMARY:Wassergymnastik (26F50E19) 
LOCATION:Kapuzinerstiftung Liebeswerk - Schwimmbad, Goethestraße 15, 39012 Meran
END:VEVENT
BEGIN:VEVENT
DTSTAMP:20260420T084953
DTSTART;TZID=Europe/Berlin:20260305T084500
DTEND;TZID=Europe/Berlin:20260305T094500
UID:26F50E19-20260305T084500@KVW BIBOZEN
SUMMARY:Wassergymnastik (26F50E19) 
LOCATION:Kapuzinerstiftung Liebeswerk - Schwimmbad, Goethestraße 15, 39012 Meran
END:VEVENT
BEGIN:VEVENT
DTSTAMP:20260420T084953
DTSTART;TZID=Europe/Berlin:20260312T084500
DTEND;TZID=Europe/Berlin:20260312T094500
UID:26F50E19-20260312T084500@KVW BIBOZEN
SUMMARY:Wassergymnastik (26F50E19) 
LOCATION:Kapuzinerstiftung Liebeswerk - Schwimmbad, Goethestraße 15, 39012 Meran
END:VEVENT
BEGIN:VEVENT
DTSTAMP:20260420T084953
DTSTART;TZID=Europe/Berlin:20260319T084500
DTEND;TZID=Europe/Berlin:20260319T094500
UID:26F50E19-20260319T084500@KVW BIBOZEN
SUMMARY:Wassergymnastik (26F50E19) 
LOCATION:Kapuzinerstiftung Liebeswerk - Schwimmbad, Goethestraße 15, 39012 Meran
END:VEVENT
BEGIN:VEVENT
DTSTAMP:20260420T084953
DTSTART;TZID=Europe/Berlin:20260326T084500
DTEND;TZID=Europe/Berlin:20260326T094500
UID:26F50E19-20260326T084500@KVW BIBOZEN
SUMMARY:Wassergymnastik (26F50E19) 
LOCATION:Kapuzinerstiftung Liebeswerk - Schwimmbad, Goethestraße 15, 39012 Meran
END:VEVENT
BEGIN:VEVENT
DTSTAMP:20260420T084953
DTSTART;TZID=Europe/Berlin:20260409T084500
DTEND;TZID=Europe/Berlin:20260409T094500
UID:26F50E19-20260409T084500@KVW BIBOZEN
SUMMARY:Wassergymnastik (26F50E19) 
LOCATION:Kapuzinerstiftung Liebeswerk - Schwimmbad, Goethestraße 15, 39012 Meran
END:VEVENT
BEGIN:VEVENT
DTSTAMP:20260420T084953
DTSTART;TZID=Europe/Berlin:20260416T084500
DTEND;TZID=Europe/Berlin:20260416T094500
UID:26F50E19-20260416T084500@KVW BIBOZEN
SUMMARY:Wassergymnastik (26F50E19) 
LOCATION:Kapuzinerstiftung Liebeswerk - Schwimmbad, Goethestraße 15, 39012 Meran
END:VEVENT
BEGIN:VEVENT
DTSTAMP:20260420T084953
DTSTART;TZID=Europe/Berlin:20260423T084500
DTEND;TZID=Europe/Berlin:20260423T094500
UID:26F50E19-20260423T084500@KVW BIBOZEN
SUMMARY:Wassergymnastik (26F50E19) 
LOCATION:Kapuzinerstiftung Liebeswerk - Schwimmbad, Goethestraße 15, 39012 Meran
END:VEVENT
END:VCALENDAR