BEGIN:VCALENDAR
PRODID:http://www.kufer.de/kuferweb / DE
VERSION:2.0
METHOD:PUBLISH
CALSCALE:GREGORIAN
X-WR-TIMEZONE:Europe/Berlin
BEGIN:VTIMEZONE
TZID:Europe/Berlin
X-LIC-LOCATION:Europe/Berlin
BEGIN:DAYLIGHT
TZOFFSETFROM:+0100
TZOFFSETTO:+0200
TZNAME:CEST
DTSTART;TZID=Europe/Berlin:19700329T020000
RRULE:FREQ=YEARLY;INTERVAL=1;BYDAY=-1SU;BYMONTH=3
END:DAYLIGHT
BEGIN:STANDARD
TZOFFSETFROM:+0200
TZOFFSETTO:+0100
TZNAME:CET
DTSTART;TZID=Europe/Berlin:19701025T030000
RRULE:FREQ=YEARLY;INTERVAL=1;BYDAY=-1SU;BYMONTH=10
END:STANDARD
END:VTIMEZONE
BEGIN:VEVENT
DTSTAMP:20260420T085005
DTSTART;TZID=Europe/Berlin:20260115T170000
DTEND;TZID=Europe/Berlin:20260115T180000
UID:26F50E21-20260115T170000@KVW BIBOZEN
SUMMARY:Pilates (26F50E21) 
LOCATION:KVW Bewegungsraum Meran, Otto-Huber-Straße 84, 39012 Meran
END:VEVENT
BEGIN:VEVENT
DTSTAMP:20260420T085005
DTSTART;TZID=Europe/Berlin:20260122T170000
DTEND;TZID=Europe/Berlin:20260122T180000
UID:26F50E21-20260122T170000@KVW BIBOZEN
SUMMARY:Pilates (26F50E21) 
LOCATION:KVW Bewegungsraum Meran, Otto-Huber-Straße 84, 39012 Meran
END:VEVENT
BEGIN:VEVENT
DTSTAMP:20260420T085005
DTSTART;TZID=Europe/Berlin:20260129T170000
DTEND;TZID=Europe/Berlin:20260129T180000
UID:26F50E21-20260129T170000@KVW BIBOZEN
SUMMARY:Pilates (26F50E21) 
LOCATION:KVW Bewegungsraum Meran, Otto-Huber-Straße 84, 39012 Meran
END:VEVENT
BEGIN:VEVENT
DTSTAMP:20260420T085005
DTSTART;TZID=Europe/Berlin:20260205T170000
DTEND;TZID=Europe/Berlin:20260205T180000
UID:26F50E21-20260205T170000@KVW BIBOZEN
SUMMARY:Pilates (26F50E21) 
LOCATION:KVW Bewegungsraum Meran, Otto-Huber-Straße 84, 39012 Meran
END:VEVENT
BEGIN:VEVENT
DTSTAMP:20260420T085005
DTSTART;TZID=Europe/Berlin:20260212T170000
DTEND;TZID=Europe/Berlin:20260212T180000
UID:26F50E21-20260212T170000@KVW BIBOZEN
SUMMARY:Pilates (26F50E21) 
LOCATION:KVW Bewegungsraum Meran, Otto-Huber-Straße 84, 39012 Meran
END:VEVENT
BEGIN:VEVENT
DTSTAMP:20260420T085005
DTSTART;TZID=Europe/Berlin:20260226T170000
DTEND;TZID=Europe/Berlin:20260226T180000
UID:26F50E21-20260226T170000@KVW BIBOZEN
SUMMARY:Pilates (26F50E21) 
LOCATION:KVW Bewegungsraum Meran, Otto-Huber-Straße 84, 39012 Meran
END:VEVENT
BEGIN:VEVENT
DTSTAMP:20260420T085005
DTSTART;TZID=Europe/Berlin:20260305T170000
DTEND;TZID=Europe/Berlin:20260305T180000
UID:26F50E21-20260305T170000@KVW BIBOZEN
SUMMARY:Pilates (26F50E21) 
LOCATION:KVW Bewegungsraum Meran, Otto-Huber-Straße 84, 39012 Meran
END:VEVENT
BEGIN:VEVENT
DTSTAMP:20260420T085005
DTSTART;TZID=Europe/Berlin:20260312T170000
DTEND;TZID=Europe/Berlin:20260312T180000
UID:26F50E21-20260312T170000@KVW BIBOZEN
SUMMARY:Pilates (26F50E21) 
LOCATION:KVW Bewegungsraum Meran, Otto-Huber-Straße 84, 39012 Meran
END:VEVENT
BEGIN:VEVENT
DTSTAMP:20260420T085005
DTSTART;TZID=Europe/Berlin:20260319T170000
DTEND;TZID=Europe/Berlin:20260319T180000
UID:26F50E21-20260319T170000@KVW BIBOZEN
SUMMARY:Pilates (26F50E21) 
LOCATION:KVW Bewegungsraum Meran, Otto-Huber-Straße 84, 39012 Meran
END:VEVENT
BEGIN:VEVENT
DTSTAMP:20260420T085005
DTSTART;TZID=Europe/Berlin:20260326T170000
DTEND;TZID=Europe/Berlin:20260326T180000
UID:26F50E21-20260326T170000@KVW BIBOZEN
SUMMARY:Pilates (26F50E21) 
LOCATION:KVW Bewegungsraum Meran, Otto-Huber-Straße 84, 39012 Meran
END:VEVENT
BEGIN:VEVENT
DTSTAMP:20260420T085005
DTSTART;TZID=Europe/Berlin:20260409T170000
DTEND;TZID=Europe/Berlin:20260409T180000
UID:26F50E21-20260409T170000@KVW BIBOZEN
SUMMARY:Pilates (26F50E21) 
LOCATION:KVW Bewegungsraum Meran, Otto-Huber-Straße 84, 39012 Meran
END:VEVENT
BEGIN:VEVENT
DTSTAMP:20260420T085005
DTSTART;TZID=Europe/Berlin:20260416T170000
DTEND;TZID=Europe/Berlin:20260416T180000
UID:26F50E21-20260416T170000@KVW BIBOZEN
SUMMARY:Pilates (26F50E21) 
LOCATION:KVW Bewegungsraum Meran, Otto-Huber-Straße 84, 39012 Meran
END:VEVENT
BEGIN:VEVENT
DTSTAMP:20260420T085005
DTSTART;TZID=Europe/Berlin:20260423T170000
DTEND;TZID=Europe/Berlin:20260423T180000
UID:26F50E21-20260423T170000@KVW BIBOZEN
SUMMARY:Pilates (26F50E21) 
LOCATION:KVW Bewegungsraum Meran, Otto-Huber-Straße 84, 39012 Meran
END:VEVENT
END:VCALENDAR