BEGIN:VCALENDAR
PRODID:http://www.kufer.de/kuferweb / DE
VERSION:2.0
METHOD:PUBLISH
CALSCALE:GREGORIAN
X-WR-TIMEZONE:Europe/Berlin
BEGIN:VTIMEZONE
TZID:Europe/Berlin
X-LIC-LOCATION:Europe/Berlin
BEGIN:DAYLIGHT
TZOFFSETFROM:+0100
TZOFFSETTO:+0200
TZNAME:CEST
DTSTART;TZID=Europe/Berlin:19700329T020000
RRULE:FREQ=YEARLY;INTERVAL=1;BYDAY=-1SU;BYMONTH=3
END:DAYLIGHT
BEGIN:STANDARD
TZOFFSETFROM:+0200
TZOFFSETTO:+0100
TZNAME:CET
DTSTART;TZID=Europe/Berlin:19701025T030000
RRULE:FREQ=YEARLY;INTERVAL=1;BYDAY=-1SU;BYMONTH=10
END:STANDARD
END:VTIMEZONE
BEGIN:VEVENT
DTSTAMP:20260420T115051
DTSTART;TZID=Europe/Berlin:20260508T100000
DTEND;TZID=Europe/Berlin:20260508T110000
UID:26F50E244-20260508T100000@KVW BIBOZEN
SUMMARY:Wassergymnastik (26F50E244) 
LOCATION:Pastor Angelicus - Schwimmbad, Dantestraße 34, 39012 Meran
END:VEVENT
BEGIN:VEVENT
DTSTAMP:20260420T115051
DTSTART;TZID=Europe/Berlin:20260515T100000
DTEND;TZID=Europe/Berlin:20260515T110000
UID:26F50E244-20260515T100000@KVW BIBOZEN
SUMMARY:Wassergymnastik (26F50E244) 
LOCATION:Pastor Angelicus - Schwimmbad, Dantestraße 34, 39012 Meran
END:VEVENT
BEGIN:VEVENT
DTSTAMP:20260420T115051
DTSTART;TZID=Europe/Berlin:20260522T100000
DTEND;TZID=Europe/Berlin:20260522T110000
UID:26F50E244-20260522T100000@KVW BIBOZEN
SUMMARY:Wassergymnastik (26F50E244) 
LOCATION:Pastor Angelicus - Schwimmbad, Dantestraße 34, 39012 Meran
END:VEVENT
BEGIN:VEVENT
DTSTAMP:20260420T115051
DTSTART;TZID=Europe/Berlin:20260529T100000
DTEND;TZID=Europe/Berlin:20260529T110000
UID:26F50E244-20260529T100000@KVW BIBOZEN
SUMMARY:Wassergymnastik (26F50E244) 
LOCATION:Pastor Angelicus - Schwimmbad, Dantestraße 34, 39012 Meran
END:VEVENT
END:VCALENDAR