BEGIN:VCALENDAR
PRODID:http://www.kufer.de/kuferweb / DE
VERSION:2.0
METHOD:PUBLISH
CALSCALE:GREGORIAN
X-WR-TIMEZONE:Europe/Berlin
BEGIN:VTIMEZONE
TZID:Europe/Berlin
X-LIC-LOCATION:Europe/Berlin
BEGIN:DAYLIGHT
TZOFFSETFROM:+0100
TZOFFSETTO:+0200
TZNAME:CEST
DTSTART;TZID=Europe/Berlin:19700329T020000
RRULE:FREQ=YEARLY;INTERVAL=1;BYDAY=-1SU;BYMONTH=3
END:DAYLIGHT
BEGIN:STANDARD
TZOFFSETFROM:+0200
TZOFFSETTO:+0100
TZNAME:CET
DTSTART;TZID=Europe/Berlin:19701025T030000
RRULE:FREQ=YEARLY;INTERVAL=1;BYDAY=-1SU;BYMONTH=10
END:STANDARD
END:VTIMEZONE
BEGIN:VEVENT
DTSTAMP:20260420T102145
DTSTART;TZID=Europe/Berlin:20260120T080000
DTEND;TZID=Europe/Berlin:20260120T090000
UID:26F50E27-20260120T080000@KVW BIBOZEN
SUMMARY:Body Postural  (26F50E27) 
LOCATION:Koru Studio, Andreas-Hofer-Straße 11, , 
END:VEVENT
BEGIN:VEVENT
DTSTAMP:20260420T102145
DTSTART;TZID=Europe/Berlin:20260127T080000
DTEND;TZID=Europe/Berlin:20260127T090000
UID:26F50E27-20260127T080000@KVW BIBOZEN
SUMMARY:Body Postural  (26F50E27) 
LOCATION:Koru Studio, Andreas-Hofer-Straße 11, , 
END:VEVENT
BEGIN:VEVENT
DTSTAMP:20260420T102145
DTSTART;TZID=Europe/Berlin:20260203T080000
DTEND;TZID=Europe/Berlin:20260203T090000
UID:26F50E27-20260203T080000@KVW BIBOZEN
SUMMARY:Body Postural  (26F50E27) 
LOCATION:Koru Studio, Andreas-Hofer-Straße 11, , 
END:VEVENT
BEGIN:VEVENT
DTSTAMP:20260420T102145
DTSTART;TZID=Europe/Berlin:20260210T080000
DTEND;TZID=Europe/Berlin:20260210T090000
UID:26F50E27-20260210T080000@KVW BIBOZEN
SUMMARY:Body Postural  (26F50E27) 
LOCATION:Koru Studio, Andreas-Hofer-Straße 11, , 
END:VEVENT
BEGIN:VEVENT
DTSTAMP:20260420T102145
DTSTART;TZID=Europe/Berlin:20260224T080000
DTEND;TZID=Europe/Berlin:20260224T090000
UID:26F50E27-20260224T080000@KVW BIBOZEN
SUMMARY:Body Postural  (26F50E27) 
LOCATION:Koru Studio, Andreas-Hofer-Straße 11, , 
END:VEVENT
BEGIN:VEVENT
DTSTAMP:20260420T102145
DTSTART;TZID=Europe/Berlin:20260303T080000
DTEND;TZID=Europe/Berlin:20260303T090000
UID:26F50E27-20260303T080000@KVW BIBOZEN
SUMMARY:Body Postural  (26F50E27) 
LOCATION:Koru Studio, Andreas-Hofer-Straße 11, , 
END:VEVENT
BEGIN:VEVENT
DTSTAMP:20260420T102145
DTSTART;TZID=Europe/Berlin:20260310T080000
DTEND;TZID=Europe/Berlin:20260310T090000
UID:26F50E27-20260310T080000@KVW BIBOZEN
SUMMARY:Body Postural  (26F50E27) 
LOCATION:Koru Studio, Andreas-Hofer-Straße 11, , 
END:VEVENT
BEGIN:VEVENT
DTSTAMP:20260420T102145
DTSTART;TZID=Europe/Berlin:20260317T080000
DTEND;TZID=Europe/Berlin:20260317T090000
UID:26F50E27-20260317T080000@KVW BIBOZEN
SUMMARY:Body Postural  (26F50E27) 
LOCATION:Koru Studio, Andreas-Hofer-Straße 11, , 
END:VEVENT
BEGIN:VEVENT
DTSTAMP:20260420T102145
DTSTART;TZID=Europe/Berlin:20260324T080000
DTEND;TZID=Europe/Berlin:20260324T090000
UID:26F50E27-20260324T080000@KVW BIBOZEN
SUMMARY:Body Postural  (26F50E27) 
LOCATION:Koru Studio, Andreas-Hofer-Straße 11, , 
END:VEVENT
BEGIN:VEVENT
DTSTAMP:20260420T102145
DTSTART;TZID=Europe/Berlin:20260331T080000
DTEND;TZID=Europe/Berlin:20260331T090000
UID:26F50E27-20260331T080000@KVW BIBOZEN
SUMMARY:Body Postural  (26F50E27) 
LOCATION:Koru Studio, Andreas-Hofer-Straße 11, , 
END:VEVENT
BEGIN:VEVENT
DTSTAMP:20260420T102145
DTSTART;TZID=Europe/Berlin:20260414T080000
DTEND;TZID=Europe/Berlin:20260414T090000
UID:26F50E27-20260414T080000@KVW BIBOZEN
SUMMARY:Body Postural  (26F50E27) 
LOCATION:Koru Studio, Andreas-Hofer-Straße 11, , 
END:VEVENT
BEGIN:VEVENT
DTSTAMP:20260420T102145
DTSTART;TZID=Europe/Berlin:20260421T080000
DTEND;TZID=Europe/Berlin:20260421T090000
UID:26F50E27-20260421T080000@KVW BIBOZEN
SUMMARY:Body Postural  (26F50E27) 
LOCATION:Koru Studio, Andreas-Hofer-Straße 11, , 
END:VEVENT
END:VCALENDAR