BEGIN:VCALENDAR
PRODID:http://www.kufer.de/kuferweb / DE
VERSION:2.0
METHOD:PUBLISH
CALSCALE:GREGORIAN
X-WR-TIMEZONE:Europe/Berlin
BEGIN:VTIMEZONE
TZID:Europe/Berlin
X-LIC-LOCATION:Europe/Berlin
BEGIN:DAYLIGHT
TZOFFSETFROM:+0100
TZOFFSETTO:+0200
TZNAME:CEST
DTSTART;TZID=Europe/Berlin:19700329T020000
RRULE:FREQ=YEARLY;INTERVAL=1;BYDAY=-1SU;BYMONTH=3
END:DAYLIGHT
BEGIN:STANDARD
TZOFFSETFROM:+0200
TZOFFSETTO:+0100
TZNAME:CET
DTSTART;TZID=Europe/Berlin:19701025T030000
RRULE:FREQ=YEARLY;INTERVAL=1;BYDAY=-1SU;BYMONTH=10
END:STANDARD
END:VTIMEZONE
BEGIN:VEVENT
DTSTAMP:20260420T102148
DTSTART;TZID=Europe/Berlin:20260120T180000
DTEND;TZID=Europe/Berlin:20260120T190000
UID:26F50E28-20260120T180000@KVW BIBOZEN
SUMMARY:Pilates (26F50E28) 
LOCATION:Koru Studio, Andreas-Hofer-Straße 11, Bozen, , 
END:VEVENT
BEGIN:VEVENT
DTSTAMP:20260420T102148
DTSTART;TZID=Europe/Berlin:20260127T180000
DTEND;TZID=Europe/Berlin:20260127T190000
UID:26F50E28-20260127T180000@KVW BIBOZEN
SUMMARY:Pilates (26F50E28) 
LOCATION:Koru Studio, Andreas-Hofer-Straße 11, Bozen, , 
END:VEVENT
BEGIN:VEVENT
DTSTAMP:20260420T102148
DTSTART;TZID=Europe/Berlin:20260203T180000
DTEND;TZID=Europe/Berlin:20260203T190000
UID:26F50E28-20260203T180000@KVW BIBOZEN
SUMMARY:Pilates (26F50E28) 
LOCATION:Koru Studio, Andreas-Hofer-Straße 11, Bozen, , 
END:VEVENT
BEGIN:VEVENT
DTSTAMP:20260420T102148
DTSTART;TZID=Europe/Berlin:20260210T180000
DTEND;TZID=Europe/Berlin:20260210T190000
UID:26F50E28-20260210T180000@KVW BIBOZEN
SUMMARY:Pilates (26F50E28) 
LOCATION:Koru Studio, Andreas-Hofer-Straße 11, Bozen, , 
END:VEVENT
BEGIN:VEVENT
DTSTAMP:20260420T102148
DTSTART;TZID=Europe/Berlin:20260224T180000
DTEND;TZID=Europe/Berlin:20260224T190000
UID:26F50E28-20260224T180000@KVW BIBOZEN
SUMMARY:Pilates (26F50E28) 
LOCATION:Koru Studio, Andreas-Hofer-Straße 11, Bozen, , 
END:VEVENT
BEGIN:VEVENT
DTSTAMP:20260420T102148
DTSTART;TZID=Europe/Berlin:20260303T180000
DTEND;TZID=Europe/Berlin:20260303T190000
UID:26F50E28-20260303T180000@KVW BIBOZEN
SUMMARY:Pilates (26F50E28) 
LOCATION:Koru Studio, Andreas-Hofer-Straße 11, Bozen, , 
END:VEVENT
BEGIN:VEVENT
DTSTAMP:20260420T102148
DTSTART;TZID=Europe/Berlin:20260310T180000
DTEND;TZID=Europe/Berlin:20260310T190000
UID:26F50E28-20260310T180000@KVW BIBOZEN
SUMMARY:Pilates (26F50E28) 
LOCATION:Koru Studio, Andreas-Hofer-Straße 11, Bozen, , 
END:VEVENT
BEGIN:VEVENT
DTSTAMP:20260420T102148
DTSTART;TZID=Europe/Berlin:20260317T180000
DTEND;TZID=Europe/Berlin:20260317T190000
UID:26F50E28-20260317T180000@KVW BIBOZEN
SUMMARY:Pilates (26F50E28) 
LOCATION:Koru Studio, Andreas-Hofer-Straße 11, Bozen, , 
END:VEVENT
BEGIN:VEVENT
DTSTAMP:20260420T102148
DTSTART;TZID=Europe/Berlin:20260324T180000
DTEND;TZID=Europe/Berlin:20260324T190000
UID:26F50E28-20260324T180000@KVW BIBOZEN
SUMMARY:Pilates (26F50E28) 
LOCATION:Koru Studio, Andreas-Hofer-Straße 11, Bozen, , 
END:VEVENT
BEGIN:VEVENT
DTSTAMP:20260420T102148
DTSTART;TZID=Europe/Berlin:20260331T180000
DTEND;TZID=Europe/Berlin:20260331T190000
UID:26F50E28-20260331T180000@KVW BIBOZEN
SUMMARY:Pilates (26F50E28) 
LOCATION:Koru Studio, Andreas-Hofer-Straße 11, Bozen, , 
END:VEVENT
BEGIN:VEVENT
DTSTAMP:20260420T102148
DTSTART;TZID=Europe/Berlin:20260414T180000
DTEND;TZID=Europe/Berlin:20260414T190000
UID:26F50E28-20260414T180000@KVW BIBOZEN
SUMMARY:Pilates (26F50E28) 
LOCATION:Koru Studio, Andreas-Hofer-Straße 11, Bozen, , 
END:VEVENT
BEGIN:VEVENT
DTSTAMP:20260420T102148
DTSTART;TZID=Europe/Berlin:20260421T180000
DTEND;TZID=Europe/Berlin:20260421T190000
UID:26F50E28-20260421T180000@KVW BIBOZEN
SUMMARY:Pilates (26F50E28) 
LOCATION:Koru Studio, Andreas-Hofer-Straße 11, Bozen, , 
END:VEVENT
END:VCALENDAR