BEGIN:VCALENDAR
PRODID:http://www.kufer.de/kuferweb / DE
VERSION:2.0
METHOD:PUBLISH
CALSCALE:GREGORIAN
X-WR-TIMEZONE:Europe/Berlin
BEGIN:VTIMEZONE
TZID:Europe/Berlin
X-LIC-LOCATION:Europe/Berlin
BEGIN:DAYLIGHT
TZOFFSETFROM:+0100
TZOFFSETTO:+0200
TZNAME:CEST
DTSTART;TZID=Europe/Berlin:19700329T020000
RRULE:FREQ=YEARLY;INTERVAL=1;BYDAY=-1SU;BYMONTH=3
END:DAYLIGHT
BEGIN:STANDARD
TZOFFSETFROM:+0200
TZOFFSETTO:+0100
TZNAME:CET
DTSTART;TZID=Europe/Berlin:19701025T030000
RRULE:FREQ=YEARLY;INTERVAL=1;BYDAY=-1SU;BYMONTH=10
END:STANDARD
END:VTIMEZONE
BEGIN:VEVENT
DTSTAMP:20260420T103653
DTSTART;TZID=Europe/Berlin:20260319T170000
DTEND;TZID=Europe/Berlin:20260319T174000
UID:26F50E292-20260319T170000@KVW BIBOZEN
SUMMARY:Die Turnmäuse Spannende Bewegungsparcours für Zwei- und Dreijährige mit Begleitung (26F50E292) 
LOCATION:Haus der Dorfgemeinschaft Wiesen, Wiesen Nr. 110, 39049 Pfitsch
END:VEVENT
BEGIN:VEVENT
DTSTAMP:20260420T103653
DTSTART;TZID=Europe/Berlin:20260326T170000
DTEND;TZID=Europe/Berlin:20260326T174000
UID:26F50E292-20260326T170000@KVW BIBOZEN
SUMMARY:Die Turnmäuse Spannende Bewegungsparcours für Zwei- und Dreijährige mit Begleitung (26F50E292) 
LOCATION:Haus der Dorfgemeinschaft Wiesen, Wiesen Nr. 110, 39049 Pfitsch
END:VEVENT
BEGIN:VEVENT
DTSTAMP:20260420T103653
DTSTART;TZID=Europe/Berlin:20260402T170000
DTEND;TZID=Europe/Berlin:20260402T174000
UID:26F50E292-20260402T170000@KVW BIBOZEN
SUMMARY:Die Turnmäuse Spannende Bewegungsparcours für Zwei- und Dreijährige mit Begleitung (26F50E292) 
LOCATION:Haus der Dorfgemeinschaft Wiesen, Wiesen Nr. 110, 39049 Pfitsch
END:VEVENT
BEGIN:VEVENT
DTSTAMP:20260420T103653
DTSTART;TZID=Europe/Berlin:20260409T170000
DTEND;TZID=Europe/Berlin:20260409T174000
UID:26F50E292-20260409T170000@KVW BIBOZEN
SUMMARY:Die Turnmäuse Spannende Bewegungsparcours für Zwei- und Dreijährige mit Begleitung (26F50E292) 
LOCATION:Haus der Dorfgemeinschaft Wiesen, Wiesen Nr. 110, 39049 Pfitsch
END:VEVENT
BEGIN:VEVENT
DTSTAMP:20260420T103653
DTSTART;TZID=Europe/Berlin:20260416T170000
DTEND;TZID=Europe/Berlin:20260416T174000
UID:26F50E292-20260416T170000@KVW BIBOZEN
SUMMARY:Die Turnmäuse Spannende Bewegungsparcours für Zwei- und Dreijährige mit Begleitung (26F50E292) 
LOCATION:Haus der Dorfgemeinschaft Wiesen, Wiesen Nr. 110, 39049 Pfitsch
END:VEVENT
BEGIN:VEVENT
DTSTAMP:20260420T103653
DTSTART;TZID=Europe/Berlin:20260423T170000
DTEND;TZID=Europe/Berlin:20260423T174000
UID:26F50E292-20260423T170000@KVW BIBOZEN
SUMMARY:Die Turnmäuse Spannende Bewegungsparcours für Zwei- und Dreijährige mit Begleitung (26F50E292) 
LOCATION:Haus der Dorfgemeinschaft Wiesen, Wiesen Nr. 110, 39049 Pfitsch
END:VEVENT
BEGIN:VEVENT
DTSTAMP:20260420T103653
DTSTART;TZID=Europe/Berlin:20260430T170000
DTEND;TZID=Europe/Berlin:20260430T174000
UID:26F50E292-20260430T170000@KVW BIBOZEN
SUMMARY:Die Turnmäuse Spannende Bewegungsparcours für Zwei- und Dreijährige mit Begleitung (26F50E292) 
LOCATION:Haus der Dorfgemeinschaft Wiesen, Wiesen Nr. 110, 39049 Pfitsch
END:VEVENT
BEGIN:VEVENT
DTSTAMP:20260420T103653
DTSTART;TZID=Europe/Berlin:20260507T170000
DTEND;TZID=Europe/Berlin:20260507T174000
UID:26F50E292-20260507T170000@KVW BIBOZEN
SUMMARY:Die Turnmäuse Spannende Bewegungsparcours für Zwei- und Dreijährige mit Begleitung (26F50E292) 
LOCATION:Haus der Dorfgemeinschaft Wiesen, Wiesen Nr. 110, 39049 Pfitsch
END:VEVENT
END:VCALENDAR