BEGIN:VCALENDAR
PRODID:http://www.kufer.de/kuferweb / DE
VERSION:2.0
METHOD:PUBLISH
CALSCALE:GREGORIAN
X-WR-TIMEZONE:Europe/Berlin
BEGIN:VTIMEZONE
TZID:Europe/Berlin
X-LIC-LOCATION:Europe/Berlin
BEGIN:DAYLIGHT
TZOFFSETFROM:+0100
TZOFFSETTO:+0200
TZNAME:CEST
DTSTART;TZID=Europe/Berlin:19700329T020000
RRULE:FREQ=YEARLY;INTERVAL=1;BYDAY=-1SU;BYMONTH=3
END:DAYLIGHT
BEGIN:STANDARD
TZOFFSETFROM:+0200
TZOFFSETTO:+0100
TZNAME:CET
DTSTART;TZID=Europe/Berlin:19701025T030000
RRULE:FREQ=YEARLY;INTERVAL=1;BYDAY=-1SU;BYMONTH=10
END:STANDARD
END:VTIMEZONE
BEGIN:VEVENT
DTSTAMP:20260420T115318
DTSTART;TZID=Europe/Berlin:20260416T171500
DTEND;TZID=Europe/Berlin:20260416T181500
UID:26F50E296-20260416T171500@KVW BIBOZEN
SUMMARY:Fit in den Frühling 50+ (26F50E296) 
LOCATION:Vereinshaus Innerratschings, , 
END:VEVENT
BEGIN:VEVENT
DTSTAMP:20260420T115318
DTSTART;TZID=Europe/Berlin:20260423T171500
DTEND;TZID=Europe/Berlin:20260423T181500
UID:26F50E296-20260423T171500@KVW BIBOZEN
SUMMARY:Fit in den Frühling 50+ (26F50E296) 
LOCATION:Vereinshaus Innerratschings, , 
END:VEVENT
BEGIN:VEVENT
DTSTAMP:20260420T115318
DTSTART;TZID=Europe/Berlin:20260430T171500
DTEND;TZID=Europe/Berlin:20260430T181500
UID:26F50E296-20260430T171500@KVW BIBOZEN
SUMMARY:Fit in den Frühling 50+ (26F50E296) 
LOCATION:Vereinshaus Innerratschings, , 
END:VEVENT
BEGIN:VEVENT
DTSTAMP:20260420T115318
DTSTART;TZID=Europe/Berlin:20260507T171500
DTEND;TZID=Europe/Berlin:20260507T181500
UID:26F50E296-20260507T171500@KVW BIBOZEN
SUMMARY:Fit in den Frühling 50+ (26F50E296) 
LOCATION:Vereinshaus Innerratschings, , 
END:VEVENT
BEGIN:VEVENT
DTSTAMP:20260420T115318
DTSTART;TZID=Europe/Berlin:20260514T171500
DTEND;TZID=Europe/Berlin:20260514T181500
UID:26F50E296-20260514T171500@KVW BIBOZEN
SUMMARY:Fit in den Frühling 50+ (26F50E296) 
LOCATION:Vereinshaus Innerratschings, , 
END:VEVENT
BEGIN:VEVENT
DTSTAMP:20260420T115318
DTSTART;TZID=Europe/Berlin:20260521T171500
DTEND;TZID=Europe/Berlin:20260521T181500
UID:26F50E296-20260521T171500@KVW BIBOZEN
SUMMARY:Fit in den Frühling 50+ (26F50E296) 
LOCATION:Vereinshaus Innerratschings, , 
END:VEVENT
BEGIN:VEVENT
DTSTAMP:20260420T115318
DTSTART;TZID=Europe/Berlin:20260528T171500
DTEND;TZID=Europe/Berlin:20260528T181500
UID:26F50E296-20260528T171500@KVW BIBOZEN
SUMMARY:Fit in den Frühling 50+ (26F50E296) 
LOCATION:Vereinshaus Innerratschings, , 
END:VEVENT
BEGIN:VEVENT
DTSTAMP:20260420T115318
DTSTART;TZID=Europe/Berlin:20260604T171500
DTEND;TZID=Europe/Berlin:20260604T181500
UID:26F50E296-20260604T171500@KVW BIBOZEN
SUMMARY:Fit in den Frühling 50+ (26F50E296) 
LOCATION:Vereinshaus Innerratschings, , 
END:VEVENT
END:VCALENDAR