BEGIN:VCALENDAR
PRODID:http://www.kufer.de/kuferweb / DE
VERSION:2.0
METHOD:PUBLISH
CALSCALE:GREGORIAN
X-WR-TIMEZONE:Europe/Berlin
BEGIN:VTIMEZONE
TZID:Europe/Berlin
X-LIC-LOCATION:Europe/Berlin
BEGIN:DAYLIGHT
TZOFFSETFROM:+0100
TZOFFSETTO:+0200
TZNAME:CEST
DTSTART;TZID=Europe/Berlin:19700329T020000
RRULE:FREQ=YEARLY;INTERVAL=1;BYDAY=-1SU;BYMONTH=3
END:DAYLIGHT
BEGIN:STANDARD
TZOFFSETFROM:+0200
TZOFFSETTO:+0100
TZNAME:CET
DTSTART;TZID=Europe/Berlin:19701025T030000
RRULE:FREQ=YEARLY;INTERVAL=1;BYDAY=-1SU;BYMONTH=10
END:STANDARD
END:VTIMEZONE
BEGIN:VEVENT
DTSTAMP:20260420T101710
DTSTART;TZID=Europe/Berlin:20260408T141500
DTEND;TZID=Europe/Berlin:20260408T150500
UID:26F50E302-20260408T141500@KVW BIBOZEN
SUMMARY:Kinderturnen Bewegung - Spiel - Spass Koordination stärken. Körper spüren. Bewegungsfreude entfalten (26F50E302) 
LOCATION:Turnhalle Grundschule Ridnaun, , 
END:VEVENT
BEGIN:VEVENT
DTSTAMP:20260420T101710
DTSTART;TZID=Europe/Berlin:20260415T141500
DTEND;TZID=Europe/Berlin:20260415T150500
UID:26F50E302-20260415T141500@KVW BIBOZEN
SUMMARY:Kinderturnen Bewegung - Spiel - Spass Koordination stärken. Körper spüren. Bewegungsfreude entfalten (26F50E302) 
LOCATION:Turnhalle Grundschule Ridnaun, , 
END:VEVENT
BEGIN:VEVENT
DTSTAMP:20260420T101710
DTSTART;TZID=Europe/Berlin:20260429T141500
DTEND;TZID=Europe/Berlin:20260429T150500
UID:26F50E302-20260429T141500@KVW BIBOZEN
SUMMARY:Kinderturnen Bewegung - Spiel - Spass Koordination stärken. Körper spüren. Bewegungsfreude entfalten (26F50E302) 
LOCATION:Turnhalle Grundschule Ridnaun, , 
END:VEVENT
BEGIN:VEVENT
DTSTAMP:20260420T101710
DTSTART;TZID=Europe/Berlin:20260506T141500
DTEND;TZID=Europe/Berlin:20260506T150500
UID:26F50E302-20260506T141500@KVW BIBOZEN
SUMMARY:Kinderturnen Bewegung - Spiel - Spass Koordination stärken. Körper spüren. Bewegungsfreude entfalten (26F50E302) 
LOCATION:Turnhalle Grundschule Ridnaun, , 
END:VEVENT
BEGIN:VEVENT
DTSTAMP:20260420T101710
DTSTART;TZID=Europe/Berlin:20260513T141500
DTEND;TZID=Europe/Berlin:20260513T150500
UID:26F50E302-20260513T141500@KVW BIBOZEN
SUMMARY:Kinderturnen Bewegung - Spiel - Spass Koordination stärken. Körper spüren. Bewegungsfreude entfalten (26F50E302) 
LOCATION:Turnhalle Grundschule Ridnaun, , 
END:VEVENT
BEGIN:VEVENT
DTSTAMP:20260420T101710
DTSTART;TZID=Europe/Berlin:20260520T141500
DTEND;TZID=Europe/Berlin:20260520T150500
UID:26F50E302-20260520T141500@KVW BIBOZEN
SUMMARY:Kinderturnen Bewegung - Spiel - Spass Koordination stärken. Körper spüren. Bewegungsfreude entfalten (26F50E302) 
LOCATION:Turnhalle Grundschule Ridnaun, , 
END:VEVENT
END:VCALENDAR