BEGIN:VCALENDAR
PRODID:http://www.kufer.de/kuferweb / DE
VERSION:2.0
METHOD:PUBLISH
CALSCALE:GREGORIAN
X-WR-TIMEZONE:Europe/Berlin
BEGIN:VTIMEZONE
TZID:Europe/Berlin
X-LIC-LOCATION:Europe/Berlin
BEGIN:DAYLIGHT
TZOFFSETFROM:+0100
TZOFFSETTO:+0200
TZNAME:CEST
DTSTART;TZID=Europe/Berlin:19700329T020000
RRULE:FREQ=YEARLY;INTERVAL=1;BYDAY=-1SU;BYMONTH=3
END:DAYLIGHT
BEGIN:STANDARD
TZOFFSETFROM:+0200
TZOFFSETTO:+0100
TZNAME:CET
DTSTART;TZID=Europe/Berlin:19701025T030000
RRULE:FREQ=YEARLY;INTERVAL=1;BYDAY=-1SU;BYMONTH=10
END:STANDARD
END:VTIMEZONE
BEGIN:VEVENT
DTSTAMP:20260420T101812
DTSTART;TZID=Europe/Berlin:20260408T151500
DTEND;TZID=Europe/Berlin:20260408T160500
UID:26F50E303-20260408T151500@KVW BIBOZEN
SUMMARY:Kinderturnen Bewegung - Spiel - Spass Koordination stärken. Körper spüren. Bewegungsfreude entfalten (26F50E303) 
LOCATION:Turnhalle Grundschule Ridnaun, , 
END:VEVENT
BEGIN:VEVENT
DTSTAMP:20260420T101812
DTSTART;TZID=Europe/Berlin:20260415T151500
DTEND;TZID=Europe/Berlin:20260415T160500
UID:26F50E303-20260415T151500@KVW BIBOZEN
SUMMARY:Kinderturnen Bewegung - Spiel - Spass Koordination stärken. Körper spüren. Bewegungsfreude entfalten (26F50E303) 
LOCATION:Turnhalle Grundschule Ridnaun, , 
END:VEVENT
BEGIN:VEVENT
DTSTAMP:20260420T101812
DTSTART;TZID=Europe/Berlin:20260429T151500
DTEND;TZID=Europe/Berlin:20260429T160500
UID:26F50E303-20260429T151500@KVW BIBOZEN
SUMMARY:Kinderturnen Bewegung - Spiel - Spass Koordination stärken. Körper spüren. Bewegungsfreude entfalten (26F50E303) 
LOCATION:Turnhalle Grundschule Ridnaun, , 
END:VEVENT
BEGIN:VEVENT
DTSTAMP:20260420T101812
DTSTART;TZID=Europe/Berlin:20260506T151500
DTEND;TZID=Europe/Berlin:20260506T160500
UID:26F50E303-20260506T151500@KVW BIBOZEN
SUMMARY:Kinderturnen Bewegung - Spiel - Spass Koordination stärken. Körper spüren. Bewegungsfreude entfalten (26F50E303) 
LOCATION:Turnhalle Grundschule Ridnaun, , 
END:VEVENT
BEGIN:VEVENT
DTSTAMP:20260420T101812
DTSTART;TZID=Europe/Berlin:20260513T151500
DTEND;TZID=Europe/Berlin:20260513T160500
UID:26F50E303-20260513T151500@KVW BIBOZEN
SUMMARY:Kinderturnen Bewegung - Spiel - Spass Koordination stärken. Körper spüren. Bewegungsfreude entfalten (26F50E303) 
LOCATION:Turnhalle Grundschule Ridnaun, , 
END:VEVENT
BEGIN:VEVENT
DTSTAMP:20260420T101812
DTSTART;TZID=Europe/Berlin:20260520T151500
DTEND;TZID=Europe/Berlin:20260520T160500
UID:26F50E303-20260520T151500@KVW BIBOZEN
SUMMARY:Kinderturnen Bewegung - Spiel - Spass Koordination stärken. Körper spüren. Bewegungsfreude entfalten (26F50E303) 
LOCATION:Turnhalle Grundschule Ridnaun, , 
END:VEVENT
END:VCALENDAR