BEGIN:VCALENDAR
PRODID:http://www.kufer.de/kuferweb / DE
VERSION:2.0
METHOD:PUBLISH
CALSCALE:GREGORIAN
X-WR-TIMEZONE:Europe/Berlin
BEGIN:VTIMEZONE
TZID:Europe/Berlin
X-LIC-LOCATION:Europe/Berlin
BEGIN:DAYLIGHT
TZOFFSETFROM:+0100
TZOFFSETTO:+0200
TZNAME:CEST
DTSTART;TZID=Europe/Berlin:19700329T020000
RRULE:FREQ=YEARLY;INTERVAL=1;BYDAY=-1SU;BYMONTH=3
END:DAYLIGHT
BEGIN:STANDARD
TZOFFSETFROM:+0200
TZOFFSETTO:+0100
TZNAME:CET
DTSTART;TZID=Europe/Berlin:19701025T030000
RRULE:FREQ=YEARLY;INTERVAL=1;BYDAY=-1SU;BYMONTH=10
END:STANDARD
END:VTIMEZONE
BEGIN:VEVENT
DTSTAMP:20260420T101728
DTSTART;TZID=Europe/Berlin:20260409T070000
DTEND;TZID=Europe/Berlin:20260409T075000
UID:26F50E308-20260409T070000@KVW BIBOZEN
SUMMARY:Pilates (26F50E308) 
LOCATION:Vereinshaus Ridanun, , 
END:VEVENT
BEGIN:VEVENT
DTSTAMP:20260420T101728
DTSTART;TZID=Europe/Berlin:20260416T070000
DTEND;TZID=Europe/Berlin:20260416T075000
UID:26F50E308-20260416T070000@KVW BIBOZEN
SUMMARY:Pilates (26F50E308) 
LOCATION:Vereinshaus Ridanun, , 
END:VEVENT
BEGIN:VEVENT
DTSTAMP:20260420T101728
DTSTART;TZID=Europe/Berlin:20260430T070000
DTEND;TZID=Europe/Berlin:20260430T075000
UID:26F50E308-20260430T070000@KVW BIBOZEN
SUMMARY:Pilates (26F50E308) 
LOCATION:Vereinshaus Ridanun, , 
END:VEVENT
BEGIN:VEVENT
DTSTAMP:20260420T101728
DTSTART;TZID=Europe/Berlin:20260507T070000
DTEND;TZID=Europe/Berlin:20260507T075000
UID:26F50E308-20260507T070000@KVW BIBOZEN
SUMMARY:Pilates (26F50E308) 
LOCATION:Vereinshaus Ridanun, , 
END:VEVENT
BEGIN:VEVENT
DTSTAMP:20260420T101728
DTSTART;TZID=Europe/Berlin:20260514T070000
DTEND;TZID=Europe/Berlin:20260514T075000
UID:26F50E308-20260514T070000@KVW BIBOZEN
SUMMARY:Pilates (26F50E308) 
LOCATION:Vereinshaus Ridanun, , 
END:VEVENT
END:VCALENDAR