BEGIN:VCALENDAR
PRODID:http://www.kufer.de/kuferweb / DE
VERSION:2.0
METHOD:PUBLISH
CALSCALE:GREGORIAN
X-WR-TIMEZONE:Europe/Berlin
BEGIN:VTIMEZONE
TZID:Europe/Berlin
X-LIC-LOCATION:Europe/Berlin
BEGIN:DAYLIGHT
TZOFFSETFROM:+0100
TZOFFSETTO:+0200
TZNAME:CEST
DTSTART;TZID=Europe/Berlin:19700329T020000
RRULE:FREQ=YEARLY;INTERVAL=1;BYDAY=-1SU;BYMONTH=3
END:DAYLIGHT
BEGIN:STANDARD
TZOFFSETFROM:+0200
TZOFFSETTO:+0100
TZNAME:CET
DTSTART;TZID=Europe/Berlin:19701025T030000
RRULE:FREQ=YEARLY;INTERVAL=1;BYDAY=-1SU;BYMONTH=10
END:STANDARD
END:VTIMEZONE
BEGIN:VEVENT
DTSTAMP:20260420T103654
DTSTART;TZID=Europe/Berlin:20260202T183000
DTEND;TZID=Europe/Berlin:20260202T193000
UID:26F50E57-20260202T183000@KVW BIBOZEN
SUMMARY:Body Workout – Kräftigung, Ausdauer, Power! (26F50E57) 
LOCATION:Kapuzinerstiftung Liebeswerk - Turnhalle, Goethestraße 15, 39012 Meran
END:VEVENT
BEGIN:VEVENT
DTSTAMP:20260420T103654
DTSTART;TZID=Europe/Berlin:20260209T183000
DTEND;TZID=Europe/Berlin:20260209T193000
UID:26F50E57-20260209T183000@KVW BIBOZEN
SUMMARY:Body Workout – Kräftigung, Ausdauer, Power! (26F50E57) 
LOCATION:Kapuzinerstiftung Liebeswerk - Turnhalle, Goethestraße 15, 39012 Meran
END:VEVENT
BEGIN:VEVENT
DTSTAMP:20260420T103654
DTSTART;TZID=Europe/Berlin:20260223T183000
DTEND;TZID=Europe/Berlin:20260223T193000
UID:26F50E57-20260223T183000@KVW BIBOZEN
SUMMARY:Body Workout – Kräftigung, Ausdauer, Power! (26F50E57) 
LOCATION:Kapuzinerstiftung Liebeswerk - Turnhalle, Goethestraße 15, 39012 Meran
END:VEVENT
BEGIN:VEVENT
DTSTAMP:20260420T103654
DTSTART;TZID=Europe/Berlin:20260302T183000
DTEND;TZID=Europe/Berlin:20260302T193000
UID:26F50E57-20260302T183000@KVW BIBOZEN
SUMMARY:Body Workout – Kräftigung, Ausdauer, Power! (26F50E57) 
LOCATION:Kapuzinerstiftung Liebeswerk - Turnhalle, Goethestraße 15, 39012 Meran
END:VEVENT
BEGIN:VEVENT
DTSTAMP:20260420T103654
DTSTART;TZID=Europe/Berlin:20260309T183000
DTEND;TZID=Europe/Berlin:20260309T193000
UID:26F50E57-20260309T183000@KVW BIBOZEN
SUMMARY:Body Workout – Kräftigung, Ausdauer, Power! (26F50E57) 
LOCATION:Kapuzinerstiftung Liebeswerk - Turnhalle, Goethestraße 15, 39012 Meran
END:VEVENT
BEGIN:VEVENT
DTSTAMP:20260420T103654
DTSTART;TZID=Europe/Berlin:20260316T183000
DTEND;TZID=Europe/Berlin:20260316T193000
UID:26F50E57-20260316T183000@KVW BIBOZEN
SUMMARY:Body Workout – Kräftigung, Ausdauer, Power! (26F50E57) 
LOCATION:Kapuzinerstiftung Liebeswerk - Turnhalle, Goethestraße 15, 39012 Meran
END:VEVENT
BEGIN:VEVENT
DTSTAMP:20260420T103654
DTSTART;TZID=Europe/Berlin:20260323T183000
DTEND;TZID=Europe/Berlin:20260323T193000
UID:26F50E57-20260323T183000@KVW BIBOZEN
SUMMARY:Body Workout – Kräftigung, Ausdauer, Power! (26F50E57) 
LOCATION:Kapuzinerstiftung Liebeswerk - Turnhalle, Goethestraße 15, 39012 Meran
END:VEVENT
BEGIN:VEVENT
DTSTAMP:20260420T103654
DTSTART;TZID=Europe/Berlin:20260330T183000
DTEND;TZID=Europe/Berlin:20260330T193000
UID:26F50E57-20260330T183000@KVW BIBOZEN
SUMMARY:Body Workout – Kräftigung, Ausdauer, Power! (26F50E57) 
LOCATION:Kapuzinerstiftung Liebeswerk - Turnhalle, Goethestraße 15, 39012 Meran
END:VEVENT
BEGIN:VEVENT
DTSTAMP:20260420T103654
DTSTART;TZID=Europe/Berlin:20260413T183000
DTEND;TZID=Europe/Berlin:20260413T193000
UID:26F50E57-20260413T183000@KVW BIBOZEN
SUMMARY:Body Workout – Kräftigung, Ausdauer, Power! (26F50E57) 
LOCATION:Kapuzinerstiftung Liebeswerk - Turnhalle, Goethestraße 15, 39012 Meran
END:VEVENT
BEGIN:VEVENT
DTSTAMP:20260420T103654
DTSTART;TZID=Europe/Berlin:20260420T183000
DTEND;TZID=Europe/Berlin:20260420T193000
UID:26F50E57-20260420T183000@KVW BIBOZEN
SUMMARY:Body Workout – Kräftigung, Ausdauer, Power! (26F50E57) 
LOCATION:Kapuzinerstiftung Liebeswerk - Turnhalle, Goethestraße 15, 39012 Meran
END:VEVENT
BEGIN:VEVENT
DTSTAMP:20260420T103654
DTSTART;TZID=Europe/Berlin:20260427T183000
DTEND;TZID=Europe/Berlin:20260427T193000
UID:26F50E57-20260427T183000@KVW BIBOZEN
SUMMARY:Body Workout – Kräftigung, Ausdauer, Power! (26F50E57) 
LOCATION:Kapuzinerstiftung Liebeswerk - Turnhalle, Goethestraße 15, 39012 Meran
END:VEVENT
BEGIN:VEVENT
DTSTAMP:20260420T103654
DTSTART;TZID=Europe/Berlin:20260504T183000
DTEND;TZID=Europe/Berlin:20260504T193000
UID:26F50E57-20260504T183000@KVW BIBOZEN
SUMMARY:Body Workout – Kräftigung, Ausdauer, Power! (26F50E57) 
LOCATION:Kapuzinerstiftung Liebeswerk - Turnhalle, Goethestraße 15, 39012 Meran
END:VEVENT
END:VCALENDAR