BEGIN:VCALENDAR
PRODID:http://www.kufer.de/kuferweb / DE
VERSION:2.0
METHOD:PUBLISH
CALSCALE:GREGORIAN
X-WR-TIMEZONE:Europe/Berlin
BEGIN:VTIMEZONE
TZID:Europe/Berlin
X-LIC-LOCATION:Europe/Berlin
BEGIN:DAYLIGHT
TZOFFSETFROM:+0100
TZOFFSETTO:+0200
TZNAME:CEST
DTSTART;TZID=Europe/Berlin:19700329T020000
RRULE:FREQ=YEARLY;INTERVAL=1;BYDAY=-1SU;BYMONTH=3
END:DAYLIGHT
BEGIN:STANDARD
TZOFFSETFROM:+0200
TZOFFSETTO:+0100
TZNAME:CET
DTSTART;TZID=Europe/Berlin:19701025T030000
RRULE:FREQ=YEARLY;INTERVAL=1;BYDAY=-1SU;BYMONTH=10
END:STANDARD
END:VTIMEZONE
BEGIN:VEVENT
DTSTAMP:20260420T103811
DTSTART;TZID=Europe/Berlin:20260409T193000
DTEND;TZID=Europe/Berlin:20260409T203000
UID:26F50E59-20260409T193000@KVW BIBOZEN
SUMMARY:Feldenkrais. Bewusstheit durch Bewegung (26F50E59) 
LOCATION:Aula Magna der Mittelschule Mühlbach, , 
END:VEVENT
BEGIN:VEVENT
DTSTAMP:20260420T103811
DTSTART;TZID=Europe/Berlin:20260416T193000
DTEND;TZID=Europe/Berlin:20260416T203000
UID:26F50E59-20260416T193000@KVW BIBOZEN
SUMMARY:Feldenkrais. Bewusstheit durch Bewegung (26F50E59) 
LOCATION:Aula Magna der Mittelschule Mühlbach, , 
END:VEVENT
BEGIN:VEVENT
DTSTAMP:20260420T103811
DTSTART;TZID=Europe/Berlin:20260423T193000
DTEND;TZID=Europe/Berlin:20260423T203000
UID:26F50E59-20260423T193000@KVW BIBOZEN
SUMMARY:Feldenkrais. Bewusstheit durch Bewegung (26F50E59) 
LOCATION:Aula Magna der Mittelschule Mühlbach, , 
END:VEVENT
BEGIN:VEVENT
DTSTAMP:20260420T103811
DTSTART;TZID=Europe/Berlin:20260430T193000
DTEND;TZID=Europe/Berlin:20260430T203000
UID:26F50E59-20260430T193000@KVW BIBOZEN
SUMMARY:Feldenkrais. Bewusstheit durch Bewegung (26F50E59) 
LOCATION:Aula Magna der Mittelschule Mühlbach, , 
END:VEVENT
BEGIN:VEVENT
DTSTAMP:20260420T103811
DTSTART;TZID=Europe/Berlin:20260507T193000
DTEND;TZID=Europe/Berlin:20260507T203000
UID:26F50E59-20260507T193000@KVW BIBOZEN
SUMMARY:Feldenkrais. Bewusstheit durch Bewegung (26F50E59) 
LOCATION:Aula Magna der Mittelschule Mühlbach, , 
END:VEVENT
BEGIN:VEVENT
DTSTAMP:20260420T103811
DTSTART;TZID=Europe/Berlin:20260514T193000
DTEND;TZID=Europe/Berlin:20260514T203000
UID:26F50E59-20260514T193000@KVW BIBOZEN
SUMMARY:Feldenkrais. Bewusstheit durch Bewegung (26F50E59) 
LOCATION:Aula Magna der Mittelschule Mühlbach, , 
END:VEVENT
BEGIN:VEVENT
DTSTAMP:20260420T103811
DTSTART;TZID=Europe/Berlin:20260521T193000
DTEND;TZID=Europe/Berlin:20260521T203000
UID:26F50E59-20260521T193000@KVW BIBOZEN
SUMMARY:Feldenkrais. Bewusstheit durch Bewegung (26F50E59) 
LOCATION:Aula Magna der Mittelschule Mühlbach, , 
END:VEVENT
BEGIN:VEVENT
DTSTAMP:20260420T103811
DTSTART;TZID=Europe/Berlin:20260528T193000
DTEND;TZID=Europe/Berlin:20260528T203000
UID:26F50E59-20260528T193000@KVW BIBOZEN
SUMMARY:Feldenkrais. Bewusstheit durch Bewegung (26F50E59) 
LOCATION:Aula Magna der Mittelschule Mühlbach, , 
END:VEVENT
BEGIN:VEVENT
DTSTAMP:20260420T103811
DTSTART;TZID=Europe/Berlin:20260604T193000
DTEND;TZID=Europe/Berlin:20260604T203000
UID:26F50E59-20260604T193000@KVW BIBOZEN
SUMMARY:Feldenkrais. Bewusstheit durch Bewegung (26F50E59) 
LOCATION:Aula Magna der Mittelschule Mühlbach, , 
END:VEVENT
BEGIN:VEVENT
DTSTAMP:20260420T103811
DTSTART;TZID=Europe/Berlin:20260611T193000
DTEND;TZID=Europe/Berlin:20260611T203000
UID:26F50E59-20260611T193000@KVW BIBOZEN
SUMMARY:Feldenkrais. Bewusstheit durch Bewegung (26F50E59) 
LOCATION:Aula Magna der Mittelschule Mühlbach, , 
END:VEVENT
END:VCALENDAR