BEGIN:VCALENDAR
PRODID:http://www.kufer.de/kuferweb / DE
VERSION:2.0
METHOD:PUBLISH
CALSCALE:GREGORIAN
X-WR-TIMEZONE:Europe/Berlin
BEGIN:VTIMEZONE
TZID:Europe/Berlin
X-LIC-LOCATION:Europe/Berlin
BEGIN:DAYLIGHT
TZOFFSETFROM:+0100
TZOFFSETTO:+0200
TZNAME:CEST
DTSTART;TZID=Europe/Berlin:19700329T020000
RRULE:FREQ=YEARLY;INTERVAL=1;BYDAY=-1SU;BYMONTH=3
END:DAYLIGHT
BEGIN:STANDARD
TZOFFSETFROM:+0200
TZOFFSETTO:+0100
TZNAME:CET
DTSTART;TZID=Europe/Berlin:19701025T030000
RRULE:FREQ=YEARLY;INTERVAL=1;BYDAY=-1SU;BYMONTH=10
END:STANDARD
END:VTIMEZONE
BEGIN:VEVENT
DTSTAMP:20260420T103812
DTSTART;TZID=Europe/Berlin:20260409T170000
DTEND;TZID=Europe/Berlin:20260409T180000
UID:26F50E60-20260409T170000@KVW BIBOZEN
SUMMARY:Feldenkrais. Bewusstheit durch Bewegung (26F50E60) 
LOCATION:Haus Guggenberg, Unterdrittelgasse 17, , 
END:VEVENT
BEGIN:VEVENT
DTSTAMP:20260420T103812
DTSTART;TZID=Europe/Berlin:20260416T170000
DTEND;TZID=Europe/Berlin:20260416T180000
UID:26F50E60-20260416T170000@KVW BIBOZEN
SUMMARY:Feldenkrais. Bewusstheit durch Bewegung (26F50E60) 
LOCATION:Haus Guggenberg, Unterdrittelgasse 17, , 
END:VEVENT
BEGIN:VEVENT
DTSTAMP:20260420T103812
DTSTART;TZID=Europe/Berlin:20260423T170000
DTEND;TZID=Europe/Berlin:20260423T180000
UID:26F50E60-20260423T170000@KVW BIBOZEN
SUMMARY:Feldenkrais. Bewusstheit durch Bewegung (26F50E60) 
LOCATION:Haus Guggenberg, Unterdrittelgasse 17, , 
END:VEVENT
BEGIN:VEVENT
DTSTAMP:20260420T103812
DTSTART;TZID=Europe/Berlin:20260430T170000
DTEND;TZID=Europe/Berlin:20260430T180000
UID:26F50E60-20260430T170000@KVW BIBOZEN
SUMMARY:Feldenkrais. Bewusstheit durch Bewegung (26F50E60) 
LOCATION:Haus Guggenberg, Unterdrittelgasse 17, , 
END:VEVENT
BEGIN:VEVENT
DTSTAMP:20260420T103812
DTSTART;TZID=Europe/Berlin:20260507T170000
DTEND;TZID=Europe/Berlin:20260507T180000
UID:26F50E60-20260507T170000@KVW BIBOZEN
SUMMARY:Feldenkrais. Bewusstheit durch Bewegung (26F50E60) 
LOCATION:Haus Guggenberg, Unterdrittelgasse 17, , 
END:VEVENT
BEGIN:VEVENT
DTSTAMP:20260420T103812
DTSTART;TZID=Europe/Berlin:20260514T170000
DTEND;TZID=Europe/Berlin:20260514T180000
UID:26F50E60-20260514T170000@KVW BIBOZEN
SUMMARY:Feldenkrais. Bewusstheit durch Bewegung (26F50E60) 
LOCATION:Haus Guggenberg, Unterdrittelgasse 17, , 
END:VEVENT
BEGIN:VEVENT
DTSTAMP:20260420T103812
DTSTART;TZID=Europe/Berlin:20260521T170000
DTEND;TZID=Europe/Berlin:20260521T180000
UID:26F50E60-20260521T170000@KVW BIBOZEN
SUMMARY:Feldenkrais. Bewusstheit durch Bewegung (26F50E60) 
LOCATION:Haus Guggenberg, Unterdrittelgasse 17, , 
END:VEVENT
BEGIN:VEVENT
DTSTAMP:20260420T103812
DTSTART;TZID=Europe/Berlin:20260528T170000
DTEND;TZID=Europe/Berlin:20260528T180000
UID:26F50E60-20260528T170000@KVW BIBOZEN
SUMMARY:Feldenkrais. Bewusstheit durch Bewegung (26F50E60) 
LOCATION:Haus Guggenberg, Unterdrittelgasse 17, , 
END:VEVENT
BEGIN:VEVENT
DTSTAMP:20260420T103812
DTSTART;TZID=Europe/Berlin:20260604T170000
DTEND;TZID=Europe/Berlin:20260604T180000
UID:26F50E60-20260604T170000@KVW BIBOZEN
SUMMARY:Feldenkrais. Bewusstheit durch Bewegung (26F50E60) 
LOCATION:Haus Guggenberg, Unterdrittelgasse 17, , 
END:VEVENT
BEGIN:VEVENT
DTSTAMP:20260420T103812
DTSTART;TZID=Europe/Berlin:20260611T170000
DTEND;TZID=Europe/Berlin:20260611T180000
UID:26F50E60-20260611T170000@KVW BIBOZEN
SUMMARY:Feldenkrais. Bewusstheit durch Bewegung (26F50E60) 
LOCATION:Haus Guggenberg, Unterdrittelgasse 17, , 
END:VEVENT
END:VCALENDAR